BEGIN:VCALENDAR
VERSION:2.0
PRODID:-//The Topeka Gem and Mineral Society - ECPv6.15.20//NONSGML v1.0//EN
CALSCALE:GREGORIAN
METHOD:PUBLISH
X-WR-CALNAME:The Topeka Gem and Mineral Society
X-ORIGINAL-URL:https://www.topekagms.org
X-WR-CALDESC:Events for The Topeka Gem and Mineral Society
REFRESH-INTERVAL;VALUE=DURATION:PT1H
X-Robots-Tag:noindex
X-PUBLISHED-TTL:PT1H
BEGIN:VTIMEZONE
TZID:America/Chicago
BEGIN:DAYLIGHT
TZOFFSETFROM:-0600
TZOFFSETTO:-0500
TZNAME:CDT
DTSTART:20260308T080000
END:DAYLIGHT
BEGIN:STANDARD
TZOFFSETFROM:-0500
TZOFFSETTO:-0600
TZNAME:CST
DTSTART:20261101T070000
END:STANDARD
BEGIN:DAYLIGHT
TZOFFSETFROM:-0600
TZOFFSETTO:-0500
TZNAME:CDT
DTSTART:20270314T080000
END:DAYLIGHT
BEGIN:STANDARD
TZOFFSETFROM:-0500
TZOFFSETTO:-0600
TZNAME:CST
DTSTART:20271107T070000
END:STANDARD
BEGIN:DAYLIGHT
TZOFFSETFROM:-0600
TZOFFSETTO:-0500
TZNAME:CDT
DTSTART:20280312T080000
END:DAYLIGHT
BEGIN:STANDARD
TZOFFSETFROM:-0500
TZOFFSETTO:-0600
TZNAME:CST
DTSTART:20281105T070000
END:STANDARD
BEGIN:DAYLIGHT
TZOFFSETFROM:-0600
TZOFFSETTO:-0500
TZNAME:CDT
DTSTART:20290311T080000
END:DAYLIGHT
BEGIN:STANDARD
TZOFFSETFROM:-0500
TZOFFSETTO:-0600
TZNAME:CST
DTSTART:20291104T070000
END:STANDARD
END:VTIMEZONE
BEGIN:VEVENT
DTSTART;TZID=America/Chicago:20271109T180000
DTEND;TZID=America/Chicago:20271109T220000
DTSTAMP:20260424T005521
CREATED:20250301T020411Z
LAST-MODIFIED:20250301T020415Z
UID:10000230-1825783200-1825797600@www.topekagms.org
SUMMARY:Open Shop
DESCRIPTION:The Topeka Gem and Mineral Society shop is open to members for lapidary equipment usage as well as wire-wrapping\, silversmithing\, and lapidary classes.
URL:https://www.topekagms.org/event/open-shop-7-7-2/2027-11-09/
LOCATION:The Topeka Gem and Mineral Society Workshop\, 8049 Southeast 29th Street\, Tecumseh\, KS\, United States
END:VEVENT
BEGIN:VEVENT
DTSTART;TZID=America/Chicago:20271116T180000
DTEND;TZID=America/Chicago:20271116T220000
DTSTAMP:20260424T005521
CREATED:20250301T020411Z
LAST-MODIFIED:20250301T020415Z
UID:10000231-1826388000-1826402400@www.topekagms.org
SUMMARY:Open Shop
DESCRIPTION:The Topeka Gem and Mineral Society shop is open to members for lapidary equipment usage as well as wire-wrapping\, silversmithing\, and lapidary classes.
URL:https://www.topekagms.org/event/open-shop-7-7-2/2027-11-16/
LOCATION:The Topeka Gem and Mineral Society Workshop\, 8049 Southeast 29th Street\, Tecumseh\, KS\, United States
END:VEVENT
BEGIN:VEVENT
DTSTART;TZID=America/Chicago:20271123T180000
DTEND;TZID=America/Chicago:20271123T220000
DTSTAMP:20260424T005521
CREATED:20250301T020411Z
LAST-MODIFIED:20250301T020415Z
UID:10000232-1826992800-1827007200@www.topekagms.org
SUMMARY:Open Shop
DESCRIPTION:The Topeka Gem and Mineral Society shop is open to members for lapidary equipment usage as well as wire-wrapping\, silversmithing\, and lapidary classes.
URL:https://www.topekagms.org/event/open-shop-7-7-2/2027-11-23/
LOCATION:The Topeka Gem and Mineral Society Workshop\, 8049 Southeast 29th Street\, Tecumseh\, KS\, United States
END:VEVENT
BEGIN:VEVENT
DTSTART;TZID=America/Chicago:20271130T180000
DTEND;TZID=America/Chicago:20271130T220000
DTSTAMP:20260424T005521
CREATED:20250301T020411Z
LAST-MODIFIED:20250301T020415Z
UID:10000233-1827597600-1827612000@www.topekagms.org
SUMMARY:Open Shop
DESCRIPTION:The Topeka Gem and Mineral Society shop is open to members for lapidary equipment usage as well as wire-wrapping\, silversmithing\, and lapidary classes.
URL:https://www.topekagms.org/event/open-shop-7-7-2/2027-11-30/
LOCATION:The Topeka Gem and Mineral Society Workshop\, 8049 Southeast 29th Street\, Tecumseh\, KS\, United States
END:VEVENT
BEGIN:VEVENT
DTSTART;TZID=America/Chicago:20271207T180000
DTEND;TZID=America/Chicago:20271207T220000
DTSTAMP:20260424T005521
CREATED:20250301T020411Z
LAST-MODIFIED:20250301T020415Z
UID:10000234-1828202400-1828216800@www.topekagms.org
SUMMARY:Open Shop
DESCRIPTION:The Topeka Gem and Mineral Society shop is open to members for lapidary equipment usage as well as wire-wrapping\, silversmithing\, and lapidary classes.
URL:https://www.topekagms.org/event/open-shop-7-7-2/2027-12-07/
LOCATION:The Topeka Gem and Mineral Society Workshop\, 8049 Southeast 29th Street\, Tecumseh\, KS\, United States
END:VEVENT
BEGIN:VEVENT
DTSTART;TZID=America/Chicago:20271214T180000
DTEND;TZID=America/Chicago:20271214T220000
DTSTAMP:20260424T005521
CREATED:20250301T020411Z
LAST-MODIFIED:20250301T020415Z
UID:10000235-1828807200-1828821600@www.topekagms.org
SUMMARY:Open Shop
DESCRIPTION:The Topeka Gem and Mineral Society shop is open to members for lapidary equipment usage as well as wire-wrapping\, silversmithing\, and lapidary classes.
URL:https://www.topekagms.org/event/open-shop-7-7-2/2027-12-14/
LOCATION:The Topeka Gem and Mineral Society Workshop\, 8049 Southeast 29th Street\, Tecumseh\, KS\, United States
END:VEVENT
BEGIN:VEVENT
DTSTART;TZID=America/Chicago:20271221T180000
DTEND;TZID=America/Chicago:20271221T220000
DTSTAMP:20260424T005521
CREATED:20250301T020411Z
LAST-MODIFIED:20250301T020415Z
UID:10000236-1829412000-1829426400@www.topekagms.org
SUMMARY:Open Shop
DESCRIPTION:The Topeka Gem and Mineral Society shop is open to members for lapidary equipment usage as well as wire-wrapping\, silversmithing\, and lapidary classes.
URL:https://www.topekagms.org/event/open-shop-7-7-2/2027-12-21/
LOCATION:The Topeka Gem and Mineral Society Workshop\, 8049 Southeast 29th Street\, Tecumseh\, KS\, United States
END:VEVENT
BEGIN:VEVENT
DTSTART;TZID=America/Chicago:20271228T180000
DTEND;TZID=America/Chicago:20271228T220000
DTSTAMP:20260424T005521
CREATED:20250301T020411Z
LAST-MODIFIED:20250301T020415Z
UID:10000237-1830016800-1830031200@www.topekagms.org
SUMMARY:Open Shop
DESCRIPTION:The Topeka Gem and Mineral Society shop is open to members for lapidary equipment usage as well as wire-wrapping\, silversmithing\, and lapidary classes.
URL:https://www.topekagms.org/event/open-shop-7-7-2/2027-12-28/
LOCATION:The Topeka Gem and Mineral Society Workshop\, 8049 Southeast 29th Street\, Tecumseh\, KS\, United States
END:VEVENT
BEGIN:VEVENT
DTSTART;TZID=America/Chicago:20280104T180000
DTEND;TZID=America/Chicago:20280104T220000
DTSTAMP:20260424T005521
CREATED:20250301T020411Z
LAST-MODIFIED:20250301T020415Z
UID:10000238-1830621600-1830636000@www.topekagms.org
SUMMARY:Open Shop
DESCRIPTION:The Topeka Gem and Mineral Society shop is open to members for lapidary equipment usage as well as wire-wrapping\, silversmithing\, and lapidary classes.
URL:https://www.topekagms.org/event/open-shop-7-7-2/2028-01-04/
LOCATION:The Topeka Gem and Mineral Society Workshop\, 8049 Southeast 29th Street\, Tecumseh\, KS\, United States
END:VEVENT
BEGIN:VEVENT
DTSTART;TZID=America/Chicago:20280111T180000
DTEND;TZID=America/Chicago:20280111T220000
DTSTAMP:20260424T005521
CREATED:20250301T020411Z
LAST-MODIFIED:20250301T020415Z
UID:10000239-1831226400-1831240800@www.topekagms.org
SUMMARY:Open Shop
DESCRIPTION:The Topeka Gem and Mineral Society shop is open to members for lapidary equipment usage as well as wire-wrapping\, silversmithing\, and lapidary classes.
URL:https://www.topekagms.org/event/open-shop-7-7-2/2028-01-11/
LOCATION:The Topeka Gem and Mineral Society Workshop\, 8049 Southeast 29th Street\, Tecumseh\, KS\, United States
END:VEVENT
BEGIN:VEVENT
DTSTART;TZID=America/Chicago:20280118T180000
DTEND;TZID=America/Chicago:20280118T220000
DTSTAMP:20260424T005521
CREATED:20250301T020411Z
LAST-MODIFIED:20250301T020415Z
UID:10000240-1831831200-1831845600@www.topekagms.org
SUMMARY:Open Shop
DESCRIPTION:The Topeka Gem and Mineral Society shop is open to members for lapidary equipment usage as well as wire-wrapping\, silversmithing\, and lapidary classes.
URL:https://www.topekagms.org/event/open-shop-7-7-2/2028-01-18/
LOCATION:The Topeka Gem and Mineral Society Workshop\, 8049 Southeast 29th Street\, Tecumseh\, KS\, United States
END:VEVENT
BEGIN:VEVENT
DTSTART;TZID=America/Chicago:20280125T180000
DTEND;TZID=America/Chicago:20280125T220000
DTSTAMP:20260424T005521
CREATED:20250301T020411Z
LAST-MODIFIED:20250301T020415Z
UID:10000241-1832436000-1832450400@www.topekagms.org
SUMMARY:Open Shop
DESCRIPTION:The Topeka Gem and Mineral Society shop is open to members for lapidary equipment usage as well as wire-wrapping\, silversmithing\, and lapidary classes.
URL:https://www.topekagms.org/event/open-shop-7-7-2/2028-01-25/
LOCATION:The Topeka Gem and Mineral Society Workshop\, 8049 Southeast 29th Street\, Tecumseh\, KS\, United States
END:VEVENT
BEGIN:VEVENT
DTSTART;TZID=America/Chicago:20280201T180000
DTEND;TZID=America/Chicago:20280201T220000
DTSTAMP:20260424T005521
CREATED:20250301T020411Z
LAST-MODIFIED:20250301T020415Z
UID:10000242-1833040800-1833055200@www.topekagms.org
SUMMARY:Open Shop
DESCRIPTION:The Topeka Gem and Mineral Society shop is open to members for lapidary equipment usage as well as wire-wrapping\, silversmithing\, and lapidary classes.
URL:https://www.topekagms.org/event/open-shop-7-7-2/2028-02-01/
LOCATION:The Topeka Gem and Mineral Society Workshop\, 8049 Southeast 29th Street\, Tecumseh\, KS\, United States
END:VEVENT
BEGIN:VEVENT
DTSTART;TZID=America/Chicago:20280208T180000
DTEND;TZID=America/Chicago:20280208T220000
DTSTAMP:20260424T005521
CREATED:20250301T020411Z
LAST-MODIFIED:20250301T020415Z
UID:10000243-1833645600-1833660000@www.topekagms.org
SUMMARY:Open Shop
DESCRIPTION:The Topeka Gem and Mineral Society shop is open to members for lapidary equipment usage as well as wire-wrapping\, silversmithing\, and lapidary classes.
URL:https://www.topekagms.org/event/open-shop-7-7-2/2028-02-08/
LOCATION:The Topeka Gem and Mineral Society Workshop\, 8049 Southeast 29th Street\, Tecumseh\, KS\, United States
END:VEVENT
BEGIN:VEVENT
DTSTART;TZID=America/Chicago:20280215T180000
DTEND;TZID=America/Chicago:20280215T220000
DTSTAMP:20260424T005521
CREATED:20250301T020411Z
LAST-MODIFIED:20250301T020415Z
UID:10000244-1834250400-1834264800@www.topekagms.org
SUMMARY:Open Shop
DESCRIPTION:The Topeka Gem and Mineral Society shop is open to members for lapidary equipment usage as well as wire-wrapping\, silversmithing\, and lapidary classes.
URL:https://www.topekagms.org/event/open-shop-7-7-2/2028-02-15/
LOCATION:The Topeka Gem and Mineral Society Workshop\, 8049 Southeast 29th Street\, Tecumseh\, KS\, United States
END:VEVENT
BEGIN:VEVENT
DTSTART;TZID=America/Chicago:20280222T180000
DTEND;TZID=America/Chicago:20280222T220000
DTSTAMP:20260424T005521
CREATED:20250301T020411Z
LAST-MODIFIED:20250301T020415Z
UID:10000245-1834855200-1834869600@www.topekagms.org
SUMMARY:Open Shop
DESCRIPTION:The Topeka Gem and Mineral Society shop is open to members for lapidary equipment usage as well as wire-wrapping\, silversmithing\, and lapidary classes.
URL:https://www.topekagms.org/event/open-shop-7-7-2/2028-02-22/
LOCATION:The Topeka Gem and Mineral Society Workshop\, 8049 Southeast 29th Street\, Tecumseh\, KS\, United States
END:VEVENT
BEGIN:VEVENT
DTSTART;TZID=America/Chicago:20280229T180000
DTEND;TZID=America/Chicago:20280229T220000
DTSTAMP:20260424T005521
CREATED:20250301T020411Z
LAST-MODIFIED:20250301T020415Z
UID:10000246-1835460000-1835474400@www.topekagms.org
SUMMARY:Open Shop
DESCRIPTION:The Topeka Gem and Mineral Society shop is open to members for lapidary equipment usage as well as wire-wrapping\, silversmithing\, and lapidary classes.
URL:https://www.topekagms.org/event/open-shop-7-7-2/2028-02-29/
LOCATION:The Topeka Gem and Mineral Society Workshop\, 8049 Southeast 29th Street\, Tecumseh\, KS\, United States
END:VEVENT
BEGIN:VEVENT
DTSTART;TZID=America/Chicago:20280307T180000
DTEND;TZID=America/Chicago:20280307T220000
DTSTAMP:20260424T005521
CREATED:20250301T020411Z
LAST-MODIFIED:20250301T020415Z
UID:10000247-1836064800-1836079200@www.topekagms.org
SUMMARY:Open Shop
DESCRIPTION:The Topeka Gem and Mineral Society shop is open to members for lapidary equipment usage as well as wire-wrapping\, silversmithing\, and lapidary classes.
URL:https://www.topekagms.org/event/open-shop-7-7-2/2028-03-07/
LOCATION:The Topeka Gem and Mineral Society Workshop\, 8049 Southeast 29th Street\, Tecumseh\, KS\, United States
END:VEVENT
BEGIN:VEVENT
DTSTART;TZID=America/Chicago:20280314T180000
DTEND;TZID=America/Chicago:20280314T220000
DTSTAMP:20260424T005521
CREATED:20250301T020411Z
LAST-MODIFIED:20250301T020415Z
UID:10000248-1836669600-1836684000@www.topekagms.org
SUMMARY:Open Shop
DESCRIPTION:The Topeka Gem and Mineral Society shop is open to members for lapidary equipment usage as well as wire-wrapping\, silversmithing\, and lapidary classes.
URL:https://www.topekagms.org/event/open-shop-7-7-2/2028-03-14/
LOCATION:The Topeka Gem and Mineral Society Workshop\, 8049 Southeast 29th Street\, Tecumseh\, KS\, United States
END:VEVENT
BEGIN:VEVENT
DTSTART;TZID=America/Chicago:20280321T180000
DTEND;TZID=America/Chicago:20280321T220000
DTSTAMP:20260424T005521
CREATED:20250301T020411Z
LAST-MODIFIED:20250301T020415Z
UID:10000249-1837274400-1837288800@www.topekagms.org
SUMMARY:Open Shop
DESCRIPTION:The Topeka Gem and Mineral Society shop is open to members for lapidary equipment usage as well as wire-wrapping\, silversmithing\, and lapidary classes.
URL:https://www.topekagms.org/event/open-shop-7-7-2/2028-03-21/
LOCATION:The Topeka Gem and Mineral Society Workshop\, 8049 Southeast 29th Street\, Tecumseh\, KS\, United States
END:VEVENT
BEGIN:VEVENT
DTSTART;TZID=America/Chicago:20280328T180000
DTEND;TZID=America/Chicago:20280328T220000
DTSTAMP:20260424T005521
CREATED:20250301T020411Z
LAST-MODIFIED:20250301T020415Z
UID:10000250-1837879200-1837893600@www.topekagms.org
SUMMARY:Open Shop
DESCRIPTION:The Topeka Gem and Mineral Society shop is open to members for lapidary equipment usage as well as wire-wrapping\, silversmithing\, and lapidary classes.
URL:https://www.topekagms.org/event/open-shop-7-7-2/2028-03-28/
LOCATION:The Topeka Gem and Mineral Society Workshop\, 8049 Southeast 29th Street\, Tecumseh\, KS\, United States
END:VEVENT
BEGIN:VEVENT
DTSTART;TZID=America/Chicago:20280404T180000
DTEND;TZID=America/Chicago:20280404T220000
DTSTAMP:20260424T005521
CREATED:20250301T020411Z
LAST-MODIFIED:20250301T020415Z
UID:10000251-1838484000-1838498400@www.topekagms.org
SUMMARY:Open Shop
DESCRIPTION:The Topeka Gem and Mineral Society shop is open to members for lapidary equipment usage as well as wire-wrapping\, silversmithing\, and lapidary classes.
URL:https://www.topekagms.org/event/open-shop-7-7-2/2028-04-04/
LOCATION:The Topeka Gem and Mineral Society Workshop\, 8049 Southeast 29th Street\, Tecumseh\, KS\, United States
END:VEVENT
BEGIN:VEVENT
DTSTART;TZID=America/Chicago:20280411T180000
DTEND;TZID=America/Chicago:20280411T220000
DTSTAMP:20260424T005521
CREATED:20250301T020411Z
LAST-MODIFIED:20250301T020415Z
UID:10000252-1839088800-1839103200@www.topekagms.org
SUMMARY:Open Shop
DESCRIPTION:The Topeka Gem and Mineral Society shop is open to members for lapidary equipment usage as well as wire-wrapping\, silversmithing\, and lapidary classes.
URL:https://www.topekagms.org/event/open-shop-7-7-2/2028-04-11/
LOCATION:The Topeka Gem and Mineral Society Workshop\, 8049 Southeast 29th Street\, Tecumseh\, KS\, United States
END:VEVENT
BEGIN:VEVENT
DTSTART;TZID=America/Chicago:20280418T180000
DTEND;TZID=America/Chicago:20280418T220000
DTSTAMP:20260424T005521
CREATED:20250301T020411Z
LAST-MODIFIED:20250301T020415Z
UID:10000253-1839693600-1839708000@www.topekagms.org
SUMMARY:Open Shop
DESCRIPTION:The Topeka Gem and Mineral Society shop is open to members for lapidary equipment usage as well as wire-wrapping\, silversmithing\, and lapidary classes.
URL:https://www.topekagms.org/event/open-shop-7-7-2/2028-04-18/
LOCATION:The Topeka Gem and Mineral Society Workshop\, 8049 Southeast 29th Street\, Tecumseh\, KS\, United States
END:VEVENT
BEGIN:VEVENT
DTSTART;TZID=America/Chicago:20280425T180000
DTEND;TZID=America/Chicago:20280425T220000
DTSTAMP:20260424T005521
CREATED:20250301T020411Z
LAST-MODIFIED:20250301T020415Z
UID:10000254-1840298400-1840312800@www.topekagms.org
SUMMARY:Open Shop
DESCRIPTION:The Topeka Gem and Mineral Society shop is open to members for lapidary equipment usage as well as wire-wrapping\, silversmithing\, and lapidary classes.
URL:https://www.topekagms.org/event/open-shop-7-7-2/2028-04-25/
LOCATION:The Topeka Gem and Mineral Society Workshop\, 8049 Southeast 29th Street\, Tecumseh\, KS\, United States
END:VEVENT
BEGIN:VEVENT
DTSTART;TZID=America/Chicago:20280502T180000
DTEND;TZID=America/Chicago:20280502T220000
DTSTAMP:20260424T005521
CREATED:20250301T020411Z
LAST-MODIFIED:20250301T020415Z
UID:10000255-1840903200-1840917600@www.topekagms.org
SUMMARY:Open Shop
DESCRIPTION:The Topeka Gem and Mineral Society shop is open to members for lapidary equipment usage as well as wire-wrapping\, silversmithing\, and lapidary classes.
URL:https://www.topekagms.org/event/open-shop-7-7-2/2028-05-02/
LOCATION:The Topeka Gem and Mineral Society Workshop\, 8049 Southeast 29th Street\, Tecumseh\, KS\, United States
END:VEVENT
BEGIN:VEVENT
DTSTART;TZID=America/Chicago:20280509T180000
DTEND;TZID=America/Chicago:20280509T220000
DTSTAMP:20260424T005521
CREATED:20250301T020411Z
LAST-MODIFIED:20250301T020415Z
UID:10000256-1841508000-1841522400@www.topekagms.org
SUMMARY:Open Shop
DESCRIPTION:The Topeka Gem and Mineral Society shop is open to members for lapidary equipment usage as well as wire-wrapping\, silversmithing\, and lapidary classes.
URL:https://www.topekagms.org/event/open-shop-7-7-2/2028-05-09/
LOCATION:The Topeka Gem and Mineral Society Workshop\, 8049 Southeast 29th Street\, Tecumseh\, KS\, United States
END:VEVENT
BEGIN:VEVENT
DTSTART;TZID=America/Chicago:20280516T180000
DTEND;TZID=America/Chicago:20280516T220000
DTSTAMP:20260424T005521
CREATED:20250301T020411Z
LAST-MODIFIED:20250301T020415Z
UID:10000257-1842112800-1842127200@www.topekagms.org
SUMMARY:Open Shop
DESCRIPTION:The Topeka Gem and Mineral Society shop is open to members for lapidary equipment usage as well as wire-wrapping\, silversmithing\, and lapidary classes.
URL:https://www.topekagms.org/event/open-shop-7-7-2/2028-05-16/
LOCATION:The Topeka Gem and Mineral Society Workshop\, 8049 Southeast 29th Street\, Tecumseh\, KS\, United States
END:VEVENT
BEGIN:VEVENT
DTSTART;TZID=America/Chicago:20280523T180000
DTEND;TZID=America/Chicago:20280523T220000
DTSTAMP:20260424T005521
CREATED:20250301T020411Z
LAST-MODIFIED:20250301T020415Z
UID:10000258-1842717600-1842732000@www.topekagms.org
SUMMARY:Open Shop
DESCRIPTION:The Topeka Gem and Mineral Society shop is open to members for lapidary equipment usage as well as wire-wrapping\, silversmithing\, and lapidary classes.
URL:https://www.topekagms.org/event/open-shop-7-7-2/2028-05-23/
LOCATION:The Topeka Gem and Mineral Society Workshop\, 8049 Southeast 29th Street\, Tecumseh\, KS\, United States
END:VEVENT
BEGIN:VEVENT
DTSTART;TZID=America/Chicago:20280530T180000
DTEND;TZID=America/Chicago:20280530T220000
DTSTAMP:20260424T005521
CREATED:20250301T020411Z
LAST-MODIFIED:20250301T020415Z
UID:10000259-1843322400-1843336800@www.topekagms.org
SUMMARY:Open Shop
DESCRIPTION:The Topeka Gem and Mineral Society shop is open to members for lapidary equipment usage as well as wire-wrapping\, silversmithing\, and lapidary classes.
URL:https://www.topekagms.org/event/open-shop-7-7-2/2028-05-30/
LOCATION:The Topeka Gem and Mineral Society Workshop\, 8049 Southeast 29th Street\, Tecumseh\, KS\, United States
END:VEVENT
END:VCALENDAR