BEGIN:VCALENDAR
VERSION:2.0
PRODID:-//The Topeka Gem and Mineral Society - ECPv6.15.20//NONSGML v1.0//EN
CALSCALE:GREGORIAN
METHOD:PUBLISH
X-WR-CALNAME:The Topeka Gem and Mineral Society
X-ORIGINAL-URL:https://www.topekagms.org
X-WR-CALDESC:Events for The Topeka Gem and Mineral Society
REFRESH-INTERVAL;VALUE=DURATION:PT1H
X-Robots-Tag:noindex
X-PUBLISHED-TTL:PT1H
BEGIN:VTIMEZONE
TZID:America/Chicago
BEGIN:DAYLIGHT
TZOFFSETFROM:-0600
TZOFFSETTO:-0500
TZNAME:CDT
DTSTART:20230312T080000
END:DAYLIGHT
BEGIN:STANDARD
TZOFFSETFROM:-0500
TZOFFSETTO:-0600
TZNAME:CST
DTSTART:20231105T070000
END:STANDARD
BEGIN:DAYLIGHT
TZOFFSETFROM:-0600
TZOFFSETTO:-0500
TZNAME:CDT
DTSTART:20240310T080000
END:DAYLIGHT
BEGIN:STANDARD
TZOFFSETFROM:-0500
TZOFFSETTO:-0600
TZNAME:CST
DTSTART:20241103T070000
END:STANDARD
BEGIN:DAYLIGHT
TZOFFSETFROM:-0600
TZOFFSETTO:-0500
TZNAME:CDT
DTSTART:20250309T080000
END:DAYLIGHT
BEGIN:STANDARD
TZOFFSETFROM:-0500
TZOFFSETTO:-0600
TZNAME:CST
DTSTART:20251102T070000
END:STANDARD
BEGIN:DAYLIGHT
TZOFFSETFROM:-0600
TZOFFSETTO:-0500
TZNAME:CDT
DTSTART:20260308T080000
END:DAYLIGHT
BEGIN:STANDARD
TZOFFSETFROM:-0500
TZOFFSETTO:-0600
TZNAME:CST
DTSTART:20261101T070000
END:STANDARD
END:VTIMEZONE
BEGIN:VEVENT
DTSTART;TZID=America/Chicago:20250715T180000
DTEND;TZID=America/Chicago:20250715T220000
DTSTAMP:20260424T080642
CREATED:20250301T020411Z
LAST-MODIFIED:20250301T020415Z
UID:10000109-1752602400-1752616800@www.topekagms.org
SUMMARY:Open Shop
DESCRIPTION:The Topeka Gem and Mineral Society shop is open to members for lapidary equipment usage as well as wire-wrapping\, silversmithing\, and lapidary classes.
URL:https://www.topekagms.org/event/open-shop-7-7-2/2025-07-15/
LOCATION:The Topeka Gem and Mineral Society Workshop\, 8049 Southeast 29th Street\, Tecumseh\, KS\, United States
END:VEVENT
BEGIN:VEVENT
DTSTART;TZID=America/Chicago:20250708T180000
DTEND;TZID=America/Chicago:20250708T220000
DTSTAMP:20260424T080642
CREATED:20250301T020411Z
LAST-MODIFIED:20250301T020415Z
UID:10000108-1751997600-1752012000@www.topekagms.org
SUMMARY:Open Shop
DESCRIPTION:The Topeka Gem and Mineral Society shop is open to members for lapidary equipment usage as well as wire-wrapping\, silversmithing\, and lapidary classes.
URL:https://www.topekagms.org/event/open-shop-7-7-2/2025-07-08/
LOCATION:The Topeka Gem and Mineral Society Workshop\, 8049 Southeast 29th Street\, Tecumseh\, KS\, United States
END:VEVENT
BEGIN:VEVENT
DTSTART;TZID=America/Chicago:20250701T180000
DTEND;TZID=America/Chicago:20250701T220000
DTSTAMP:20260424T080642
CREATED:20250301T020411Z
LAST-MODIFIED:20250301T020415Z
UID:10000107-1751392800-1751407200@www.topekagms.org
SUMMARY:Open Shop
DESCRIPTION:The Topeka Gem and Mineral Society shop is open to members for lapidary equipment usage as well as wire-wrapping\, silversmithing\, and lapidary classes.
URL:https://www.topekagms.org/event/open-shop-7-7-2/2025-07-01/
LOCATION:The Topeka Gem and Mineral Society Workshop\, 8049 Southeast 29th Street\, Tecumseh\, KS\, United States
END:VEVENT
BEGIN:VEVENT
DTSTART;TZID=America/Chicago:20250624T180000
DTEND;TZID=America/Chicago:20250624T220000
DTSTAMP:20260424T080642
CREATED:20250301T020411Z
LAST-MODIFIED:20250301T020415Z
UID:10000106-1750788000-1750802400@www.topekagms.org
SUMMARY:Open Shop
DESCRIPTION:The Topeka Gem and Mineral Society shop is open to members for lapidary equipment usage as well as wire-wrapping\, silversmithing\, and lapidary classes.
URL:https://www.topekagms.org/event/open-shop-7-7-2/2025-06-24/
LOCATION:The Topeka Gem and Mineral Society Workshop\, 8049 Southeast 29th Street\, Tecumseh\, KS\, United States
END:VEVENT
BEGIN:VEVENT
DTSTART;TZID=America/Chicago:20250617T180000
DTEND;TZID=America/Chicago:20250617T220000
DTSTAMP:20260424T080642
CREATED:20250301T020411Z
LAST-MODIFIED:20250301T020415Z
UID:10000105-1750183200-1750197600@www.topekagms.org
SUMMARY:Open Shop
DESCRIPTION:The Topeka Gem and Mineral Society shop is open to members for lapidary equipment usage as well as wire-wrapping\, silversmithing\, and lapidary classes.
URL:https://www.topekagms.org/event/open-shop-7-7-2/2025-06-17/
LOCATION:The Topeka Gem and Mineral Society Workshop\, 8049 Southeast 29th Street\, Tecumseh\, KS\, United States
END:VEVENT
BEGIN:VEVENT
DTSTART;TZID=America/Chicago:20250610T180000
DTEND;TZID=America/Chicago:20250610T220000
DTSTAMP:20260424T080642
CREATED:20250301T020411Z
LAST-MODIFIED:20250301T020415Z
UID:10000104-1749578400-1749592800@www.topekagms.org
SUMMARY:Open Shop
DESCRIPTION:The Topeka Gem and Mineral Society shop is open to members for lapidary equipment usage as well as wire-wrapping\, silversmithing\, and lapidary classes.
URL:https://www.topekagms.org/event/open-shop-7-7-2/2025-06-10/
LOCATION:The Topeka Gem and Mineral Society Workshop\, 8049 Southeast 29th Street\, Tecumseh\, KS\, United States
END:VEVENT
BEGIN:VEVENT
DTSTART;TZID=America/Chicago:20250603T180000
DTEND;TZID=America/Chicago:20250603T220000
DTSTAMP:20260424T080642
CREATED:20250301T020411Z
LAST-MODIFIED:20250301T020415Z
UID:10000103-1748973600-1748988000@www.topekagms.org
SUMMARY:Open Shop
DESCRIPTION:The Topeka Gem and Mineral Society shop is open to members for lapidary equipment usage as well as wire-wrapping\, silversmithing\, and lapidary classes.
URL:https://www.topekagms.org/event/open-shop-7-7-2/2025-06-03/
LOCATION:The Topeka Gem and Mineral Society Workshop\, 8049 Southeast 29th Street\, Tecumseh\, KS\, United States
END:VEVENT
BEGIN:VEVENT
DTSTART;TZID=America/Chicago:20250527T180000
DTEND;TZID=America/Chicago:20250527T220000
DTSTAMP:20260424T080642
CREATED:20250301T020411Z
LAST-MODIFIED:20250301T020415Z
UID:10000102-1748368800-1748383200@www.topekagms.org
SUMMARY:Open Shop
DESCRIPTION:The Topeka Gem and Mineral Society shop is open to members for lapidary equipment usage as well as wire-wrapping\, silversmithing\, and lapidary classes.
URL:https://www.topekagms.org/event/open-shop-7-7-2/2025-05-27/
LOCATION:The Topeka Gem and Mineral Society Workshop\, 8049 Southeast 29th Street\, Tecumseh\, KS\, United States
END:VEVENT
BEGIN:VEVENT
DTSTART;TZID=America/Chicago:20250520T180000
DTEND;TZID=America/Chicago:20250520T220000
DTSTAMP:20260424T080642
CREATED:20250301T020411Z
LAST-MODIFIED:20250301T020415Z
UID:10000101-1747764000-1747778400@www.topekagms.org
SUMMARY:Open Shop
DESCRIPTION:The Topeka Gem and Mineral Society shop is open to members for lapidary equipment usage as well as wire-wrapping\, silversmithing\, and lapidary classes.
URL:https://www.topekagms.org/event/open-shop-7-7-2/2025-05-20/
LOCATION:The Topeka Gem and Mineral Society Workshop\, 8049 Southeast 29th Street\, Tecumseh\, KS\, United States
END:VEVENT
BEGIN:VEVENT
DTSTART;TZID=America/Chicago:20250513T180000
DTEND;TZID=America/Chicago:20250513T220000
DTSTAMP:20260424T080642
CREATED:20250301T020411Z
LAST-MODIFIED:20250301T020415Z
UID:10000100-1747159200-1747173600@www.topekagms.org
SUMMARY:Open Shop
DESCRIPTION:The Topeka Gem and Mineral Society shop is open to members for lapidary equipment usage as well as wire-wrapping\, silversmithing\, and lapidary classes.
URL:https://www.topekagms.org/event/open-shop-7-7-2/2025-05-13/
LOCATION:The Topeka Gem and Mineral Society Workshop\, 8049 Southeast 29th Street\, Tecumseh\, KS\, United States
END:VEVENT
BEGIN:VEVENT
DTSTART;TZID=America/Chicago:20250506T180000
DTEND;TZID=America/Chicago:20250506T220000
DTSTAMP:20260424T080642
CREATED:20250301T020411Z
LAST-MODIFIED:20250301T020415Z
UID:10000099-1746554400-1746568800@www.topekagms.org
SUMMARY:Open Shop
DESCRIPTION:The Topeka Gem and Mineral Society shop is open to members for lapidary equipment usage as well as wire-wrapping\, silversmithing\, and lapidary classes.
URL:https://www.topekagms.org/event/open-shop-7-7-2/2025-05-06/
LOCATION:The Topeka Gem and Mineral Society Workshop\, 8049 Southeast 29th Street\, Tecumseh\, KS\, United States
END:VEVENT
BEGIN:VEVENT
DTSTART;TZID=America/Chicago:20250429T180000
DTEND;TZID=America/Chicago:20250429T220000
DTSTAMP:20260424T080642
CREATED:20250301T020411Z
LAST-MODIFIED:20250301T020415Z
UID:10000098-1745949600-1745964000@www.topekagms.org
SUMMARY:Open Shop
DESCRIPTION:The Topeka Gem and Mineral Society shop is open to members for lapidary equipment usage as well as wire-wrapping\, silversmithing\, and lapidary classes.
URL:https://www.topekagms.org/event/open-shop-7-7-2/2025-04-29/
LOCATION:The Topeka Gem and Mineral Society Workshop\, 8049 Southeast 29th Street\, Tecumseh\, KS\, United States
END:VEVENT
BEGIN:VEVENT
DTSTART;TZID=America/Chicago:20250422T180000
DTEND;TZID=America/Chicago:20250422T220000
DTSTAMP:20260424T080642
CREATED:20250301T020411Z
LAST-MODIFIED:20250301T020415Z
UID:10000097-1745344800-1745359200@www.topekagms.org
SUMMARY:Open Shop
DESCRIPTION:The Topeka Gem and Mineral Society shop is open to members for lapidary equipment usage as well as wire-wrapping\, silversmithing\, and lapidary classes.
URL:https://www.topekagms.org/event/open-shop-7-7-2/2025-04-22/
LOCATION:The Topeka Gem and Mineral Society Workshop\, 8049 Southeast 29th Street\, Tecumseh\, KS\, United States
END:VEVENT
BEGIN:VEVENT
DTSTART;TZID=America/Chicago:20250415T180000
DTEND;TZID=America/Chicago:20250415T220000
DTSTAMP:20260424T080642
CREATED:20250301T020411Z
LAST-MODIFIED:20250301T020415Z
UID:10000096-1744740000-1744754400@www.topekagms.org
SUMMARY:Open Shop
DESCRIPTION:The Topeka Gem and Mineral Society shop is open to members for lapidary equipment usage as well as wire-wrapping\, silversmithing\, and lapidary classes.
URL:https://www.topekagms.org/event/open-shop-7-7-2/2025-04-15/
LOCATION:The Topeka Gem and Mineral Society Workshop\, 8049 Southeast 29th Street\, Tecumseh\, KS\, United States
END:VEVENT
BEGIN:VEVENT
DTSTART;TZID=America/Chicago:20250408T180000
DTEND;TZID=America/Chicago:20250408T220000
DTSTAMP:20260424T080642
CREATED:20250301T020411Z
LAST-MODIFIED:20250301T020415Z
UID:10000095-1744135200-1744149600@www.topekagms.org
SUMMARY:Open Shop
DESCRIPTION:The Topeka Gem and Mineral Society shop is open to members for lapidary equipment usage as well as wire-wrapping\, silversmithing\, and lapidary classes.
URL:https://www.topekagms.org/event/open-shop-7-7-2/2025-04-08/
LOCATION:The Topeka Gem and Mineral Society Workshop\, 8049 Southeast 29th Street\, Tecumseh\, KS\, United States
END:VEVENT
BEGIN:VEVENT
DTSTART;TZID=America/Chicago:20250401T180000
DTEND;TZID=America/Chicago:20250401T220000
DTSTAMP:20260424T080642
CREATED:20250301T020411Z
LAST-MODIFIED:20250301T020415Z
UID:10000094-1743530400-1743544800@www.topekagms.org
SUMMARY:Open Shop
DESCRIPTION:The Topeka Gem and Mineral Society shop is open to members for lapidary equipment usage as well as wire-wrapping\, silversmithing\, and lapidary classes.
URL:https://www.topekagms.org/event/open-shop-7-7-2/2025-04-01/
LOCATION:The Topeka Gem and Mineral Society Workshop\, 8049 Southeast 29th Street\, Tecumseh\, KS\, United States
END:VEVENT
BEGIN:VEVENT
DTSTART;TZID=America/Chicago:20250325T180000
DTEND;TZID=America/Chicago:20250325T220000
DTSTAMP:20260424T080642
CREATED:20250301T020411Z
LAST-MODIFIED:20250301T020415Z
UID:10000093-1742925600-1742940000@www.topekagms.org
SUMMARY:Open Shop
DESCRIPTION:The Topeka Gem and Mineral Society shop is open to members for lapidary equipment usage as well as wire-wrapping\, silversmithing\, and lapidary classes.
URL:https://www.topekagms.org/event/open-shop-7-7-2/2025-03-25/
LOCATION:The Topeka Gem and Mineral Society Workshop\, 8049 Southeast 29th Street\, Tecumseh\, KS\, United States
END:VEVENT
BEGIN:VEVENT
DTSTART;TZID=America/Chicago:20250318T180000
DTEND;TZID=America/Chicago:20250318T220000
DTSTAMP:20260424T080642
CREATED:20250301T020411Z
LAST-MODIFIED:20250301T020415Z
UID:10000092-1742320800-1742335200@www.topekagms.org
SUMMARY:Open Shop
DESCRIPTION:The Topeka Gem and Mineral Society shop is open to members for lapidary equipment usage as well as wire-wrapping\, silversmithing\, and lapidary classes.
URL:https://www.topekagms.org/event/open-shop-7-7-2/2025-03-18/
LOCATION:The Topeka Gem and Mineral Society Workshop\, 8049 Southeast 29th Street\, Tecumseh\, KS\, United States
END:VEVENT
BEGIN:VEVENT
DTSTART;TZID=America/Chicago:20250311T180000
DTEND;TZID=America/Chicago:20250311T220000
DTSTAMP:20260424T080642
CREATED:20250301T020411Z
LAST-MODIFIED:20250301T020415Z
UID:10000091-1741716000-1741730400@www.topekagms.org
SUMMARY:Open Shop
DESCRIPTION:The Topeka Gem and Mineral Society shop is open to members for lapidary equipment usage as well as wire-wrapping\, silversmithing\, and lapidary classes.
URL:https://www.topekagms.org/event/open-shop-7-7-2/2025-03-11/
LOCATION:The Topeka Gem and Mineral Society Workshop\, 8049 Southeast 29th Street\, Tecumseh\, KS\, United States
END:VEVENT
BEGIN:VEVENT
DTSTART;TZID=America/Chicago:20250304T180000
DTEND;TZID=America/Chicago:20250304T220000
DTSTAMP:20260424T080642
CREATED:20250301T020411Z
LAST-MODIFIED:20250301T020415Z
UID:10000090-1741111200-1741125600@www.topekagms.org
SUMMARY:Open Shop
DESCRIPTION:The Topeka Gem and Mineral Society shop is open to members for lapidary equipment usage as well as wire-wrapping\, silversmithing\, and lapidary classes.
URL:https://www.topekagms.org/event/open-shop-7-7-2/2025-03-04/
LOCATION:The Topeka Gem and Mineral Society Workshop\, 8049 Southeast 29th Street\, Tecumseh\, KS\, United States
END:VEVENT
BEGIN:VEVENT
DTSTART;TZID=America/Chicago:20250225T180000
DTEND;TZID=America/Chicago:20250225T220000
DTSTAMP:20260424T080642
CREATED:20250117T235111Z
LAST-MODIFIED:20250117T235115Z
UID:10000089-1740506400-1740520800@www.topekagms.org
SUMMARY:Open Shop
DESCRIPTION:The Topeka Gem and Mineral Society shop is open to members for lapidary equipment usage as well as wire-wrapping\, silversmithing\, and lapidary classes.
URL:https://www.topekagms.org/event/open-shop-7-7/2025-02-25/
LOCATION:The Topeka Gem and Mineral Society Workshop\, 8049 Southeast 29th Street\, Tecumseh\, KS\, United States
END:VEVENT
BEGIN:VEVENT
DTSTART;TZID=America/Chicago:20250218T180000
DTEND;TZID=America/Chicago:20250218T220000
DTSTAMP:20260424T080642
CREATED:20250117T235111Z
LAST-MODIFIED:20250117T235115Z
UID:10000088-1739901600-1739916000@www.topekagms.org
SUMMARY:Open Shop
DESCRIPTION:The Topeka Gem and Mineral Society shop is open to members for lapidary equipment usage as well as wire-wrapping\, silversmithing\, and lapidary classes.
URL:https://www.topekagms.org/event/open-shop-7-7/2025-02-18/
LOCATION:The Topeka Gem and Mineral Society Workshop\, 8049 Southeast 29th Street\, Tecumseh\, KS\, United States
END:VEVENT
BEGIN:VEVENT
DTSTART;TZID=America/Chicago:20250211T180000
DTEND;TZID=America/Chicago:20250211T220000
DTSTAMP:20260424T080642
CREATED:20250117T235111Z
LAST-MODIFIED:20250117T235115Z
UID:10000087-1739296800-1739311200@www.topekagms.org
SUMMARY:Open Shop
DESCRIPTION:The Topeka Gem and Mineral Society shop is open to members for lapidary equipment usage as well as wire-wrapping\, silversmithing\, and lapidary classes.
URL:https://www.topekagms.org/event/open-shop-7-7/2025-02-11/
LOCATION:The Topeka Gem and Mineral Society Workshop\, 8049 Southeast 29th Street\, Tecumseh\, KS\, United States
END:VEVENT
BEGIN:VEVENT
DTSTART;TZID=America/Chicago:20250204T180000
DTEND;TZID=America/Chicago:20250204T220000
DTSTAMP:20260424T080642
CREATED:20250117T235111Z
LAST-MODIFIED:20250117T235115Z
UID:10000086-1738692000-1738706400@www.topekagms.org
SUMMARY:Open Shop
DESCRIPTION:The Topeka Gem and Mineral Society shop is open to members for lapidary equipment usage as well as wire-wrapping\, silversmithing\, and lapidary classes.
URL:https://www.topekagms.org/event/open-shop-7-7/2025-02-04/
LOCATION:The Topeka Gem and Mineral Society Workshop\, 8049 Southeast 29th Street\, Tecumseh\, KS\, United States
END:VEVENT
BEGIN:VEVENT
DTSTART;TZID=America/Chicago:20250128T180000
DTEND;TZID=America/Chicago:20250128T220000
DTSTAMP:20260424T080642
CREATED:20250117T235111Z
LAST-MODIFIED:20250117T235115Z
UID:10000085-1738087200-1738101600@www.topekagms.org
SUMMARY:Open Shop
DESCRIPTION:The Topeka Gem and Mineral Society shop is open to members for lapidary equipment usage as well as wire-wrapping\, silversmithing\, and lapidary classes.
URL:https://www.topekagms.org/event/open-shop-7-7/2025-01-28/
LOCATION:The Topeka Gem and Mineral Society Workshop\, 8049 Southeast 29th Street\, Tecumseh\, KS\, United States
END:VEVENT
BEGIN:VEVENT
DTSTART;TZID=America/Chicago:20250121T180000
DTEND;TZID=America/Chicago:20250121T220000
DTSTAMP:20260424T080642
CREATED:20250117T235111Z
LAST-MODIFIED:20250117T235115Z
UID:10000084-1737482400-1737496800@www.topekagms.org
SUMMARY:Open Shop
DESCRIPTION:The Topeka Gem and Mineral Society shop is open to members for lapidary equipment usage as well as wire-wrapping\, silversmithing\, and lapidary classes.
URL:https://www.topekagms.org/event/open-shop-7-7/2025-01-21/
LOCATION:The Topeka Gem and Mineral Society Workshop\, 8049 Southeast 29th Street\, Tecumseh\, KS\, United States
END:VEVENT
BEGIN:VEVENT
DTSTART;TZID=America/Chicago:20250114T180000
DTEND;TZID=America/Chicago:20250114T220000
DTSTAMP:20260424T080642
CREATED:20240101T172057Z
LAST-MODIFIED:20240102T223801Z
UID:10000083-1736877600-1736892000@www.topekagms.org
SUMMARY:Open Shop
DESCRIPTION:The Topeka Gem and Mineral Society shop is open to members for lapidary equipment usage as well as wire-wrapping\, silversmithing\, and lapidary classes.
URL:https://www.topekagms.org/event/open-shop-7/2025-01-14/
LOCATION:The Topeka Gem and Mineral Society Workshop\, 8049 Southeast 29th Street\, Tecumseh\, KS\, United States
END:VEVENT
BEGIN:VEVENT
DTSTART;TZID=America/Chicago:20250107T180000
DTEND;TZID=America/Chicago:20250107T220000
DTSTAMP:20260424T080642
CREATED:20240101T172057Z
LAST-MODIFIED:20240102T223801Z
UID:10000082-1736272800-1736287200@www.topekagms.org
SUMMARY:Open Shop
DESCRIPTION:The Topeka Gem and Mineral Society shop is open to members for lapidary equipment usage as well as wire-wrapping\, silversmithing\, and lapidary classes.
URL:https://www.topekagms.org/event/open-shop-7/2025-01-07/
LOCATION:The Topeka Gem and Mineral Society Workshop\, 8049 Southeast 29th Street\, Tecumseh\, KS\, United States
END:VEVENT
BEGIN:VEVENT
DTSTART;TZID=America/Chicago:20241231T180000
DTEND;TZID=America/Chicago:20241231T220000
DTSTAMP:20260424T080642
CREATED:20241227T172116Z
LAST-MODIFIED:20241227T172120Z
UID:10000081-1735668000-1735682400@www.topekagms.org
SUMMARY:Open Shop
DESCRIPTION:The Topeka Gem and Mineral Society shop is open to members for lapidary equipment usage as well as wire-wrapping\, silversmithing\, and lapidary classes.
URL:https://www.topekagms.org/event/open-shop-7-6/
LOCATION:The Topeka Gem and Mineral Society Workshop\, 8049 Southeast 29th Street\, Tecumseh\, KS\, United States
END:VEVENT
BEGIN:VEVENT
DTSTART;TZID=America/Chicago:20241231T180000
DTEND;TZID=America/Chicago:20241231T220000
DTSTAMP:20260424T080642
CREATED:20240101T172057Z
LAST-MODIFIED:20240102T223801Z
UID:10000425-1735668000-1735682400@www.topekagms.org
SUMMARY:Open Shop
DESCRIPTION:The Topeka Gem and Mineral Society shop is open to members for lapidary equipment usage as well as wire-wrapping\, silversmithing\, and lapidary classes.
URL:https://www.topekagms.org/event/open-shop-7/2024-12-31/
LOCATION:The Topeka Gem and Mineral Society Workshop\, 8049 Southeast 29th Street\, Tecumseh\, KS\, United States
END:VEVENT
END:VCALENDAR