BEGIN:VCALENDAR
VERSION:2.0
PRODID:-//The Topeka Gem and Mineral Society - ECPv6.15.20//NONSGML v1.0//EN
CALSCALE:GREGORIAN
METHOD:PUBLISH
X-WR-CALNAME:The Topeka Gem and Mineral Society
X-ORIGINAL-URL:https://www.topekagms.org
X-WR-CALDESC:Events for The Topeka Gem and Mineral Society
REFRESH-INTERVAL;VALUE=DURATION:PT1H
X-Robots-Tag:noindex
X-PUBLISHED-TTL:PT1H
BEGIN:VTIMEZONE
TZID:America/Chicago
BEGIN:DAYLIGHT
TZOFFSETFROM:-0600
TZOFFSETTO:-0500
TZNAME:CDT
DTSTART:20270314T080000
END:DAYLIGHT
BEGIN:STANDARD
TZOFFSETFROM:-0500
TZOFFSETTO:-0600
TZNAME:CST
DTSTART:20271107T070000
END:STANDARD
BEGIN:DAYLIGHT
TZOFFSETFROM:-0600
TZOFFSETTO:-0500
TZNAME:CDT
DTSTART:20280312T080000
END:DAYLIGHT
BEGIN:STANDARD
TZOFFSETFROM:-0500
TZOFFSETTO:-0600
TZNAME:CST
DTSTART:20281105T070000
END:STANDARD
BEGIN:DAYLIGHT
TZOFFSETFROM:-0600
TZOFFSETTO:-0500
TZNAME:CDT
DTSTART:20290311T080000
END:DAYLIGHT
BEGIN:STANDARD
TZOFFSETFROM:-0500
TZOFFSETTO:-0600
TZNAME:CST
DTSTART:20291104T070000
END:STANDARD
BEGIN:DAYLIGHT
TZOFFSETFROM:-0600
TZOFFSETTO:-0500
TZNAME:CDT
DTSTART:20300310T080000
END:DAYLIGHT
BEGIN:STANDARD
TZOFFSETFROM:-0500
TZOFFSETTO:-0600
TZNAME:CST
DTSTART:20301103T070000
END:STANDARD
END:VTIMEZONE
BEGIN:VEVENT
DTSTART;TZID=America/Chicago:20280815T180000
DTEND;TZID=America/Chicago:20280815T220000
DTSTAMP:20260424T085636
CREATED:20250301T020411Z
LAST-MODIFIED:20250301T020415Z
UID:10000270-1849975200-1849989600@www.topekagms.org
SUMMARY:Open Shop
DESCRIPTION:The Topeka Gem and Mineral Society shop is open to members for lapidary equipment usage as well as wire-wrapping\, silversmithing\, and lapidary classes.
URL:https://www.topekagms.org/event/open-shop-7-7-2/2028-08-15/
LOCATION:The Topeka Gem and Mineral Society Workshop\, 8049 Southeast 29th Street\, Tecumseh\, KS\, United States
END:VEVENT
BEGIN:VEVENT
DTSTART;TZID=America/Chicago:20280822T180000
DTEND;TZID=America/Chicago:20280822T220000
DTSTAMP:20260424T085636
CREATED:20250301T020411Z
LAST-MODIFIED:20250301T020415Z
UID:10000271-1850580000-1850594400@www.topekagms.org
SUMMARY:Open Shop
DESCRIPTION:The Topeka Gem and Mineral Society shop is open to members for lapidary equipment usage as well as wire-wrapping\, silversmithing\, and lapidary classes.
URL:https://www.topekagms.org/event/open-shop-7-7-2/2028-08-22/
LOCATION:The Topeka Gem and Mineral Society Workshop\, 8049 Southeast 29th Street\, Tecumseh\, KS\, United States
END:VEVENT
BEGIN:VEVENT
DTSTART;TZID=America/Chicago:20280829T180000
DTEND;TZID=America/Chicago:20280829T220000
DTSTAMP:20260424T085636
CREATED:20250301T020411Z
LAST-MODIFIED:20250301T020415Z
UID:10000272-1851184800-1851199200@www.topekagms.org
SUMMARY:Open Shop
DESCRIPTION:The Topeka Gem and Mineral Society shop is open to members for lapidary equipment usage as well as wire-wrapping\, silversmithing\, and lapidary classes.
URL:https://www.topekagms.org/event/open-shop-7-7-2/2028-08-29/
LOCATION:The Topeka Gem and Mineral Society Workshop\, 8049 Southeast 29th Street\, Tecumseh\, KS\, United States
END:VEVENT
BEGIN:VEVENT
DTSTART;TZID=America/Chicago:20280905T180000
DTEND;TZID=America/Chicago:20280905T220000
DTSTAMP:20260424T085636
CREATED:20250301T020411Z
LAST-MODIFIED:20250301T020415Z
UID:10000273-1851789600-1851804000@www.topekagms.org
SUMMARY:Open Shop
DESCRIPTION:The Topeka Gem and Mineral Society shop is open to members for lapidary equipment usage as well as wire-wrapping\, silversmithing\, and lapidary classes.
URL:https://www.topekagms.org/event/open-shop-7-7-2/2028-09-05/
LOCATION:The Topeka Gem and Mineral Society Workshop\, 8049 Southeast 29th Street\, Tecumseh\, KS\, United States
END:VEVENT
BEGIN:VEVENT
DTSTART;TZID=America/Chicago:20280912T180000
DTEND;TZID=America/Chicago:20280912T220000
DTSTAMP:20260424T085636
CREATED:20250301T020411Z
LAST-MODIFIED:20250301T020415Z
UID:10000274-1852394400-1852408800@www.topekagms.org
SUMMARY:Open Shop
DESCRIPTION:The Topeka Gem and Mineral Society shop is open to members for lapidary equipment usage as well as wire-wrapping\, silversmithing\, and lapidary classes.
URL:https://www.topekagms.org/event/open-shop-7-7-2/2028-09-12/
LOCATION:The Topeka Gem and Mineral Society Workshop\, 8049 Southeast 29th Street\, Tecumseh\, KS\, United States
END:VEVENT
BEGIN:VEVENT
DTSTART;TZID=America/Chicago:20280919T180000
DTEND;TZID=America/Chicago:20280919T220000
DTSTAMP:20260424T085636
CREATED:20250301T020411Z
LAST-MODIFIED:20250301T020415Z
UID:10000275-1852999200-1853013600@www.topekagms.org
SUMMARY:Open Shop
DESCRIPTION:The Topeka Gem and Mineral Society shop is open to members for lapidary equipment usage as well as wire-wrapping\, silversmithing\, and lapidary classes.
URL:https://www.topekagms.org/event/open-shop-7-7-2/2028-09-19/
LOCATION:The Topeka Gem and Mineral Society Workshop\, 8049 Southeast 29th Street\, Tecumseh\, KS\, United States
END:VEVENT
BEGIN:VEVENT
DTSTART;TZID=America/Chicago:20280926T180000
DTEND;TZID=America/Chicago:20280926T220000
DTSTAMP:20260424T085636
CREATED:20250301T020411Z
LAST-MODIFIED:20250301T020415Z
UID:10000276-1853604000-1853618400@www.topekagms.org
SUMMARY:Open Shop
DESCRIPTION:The Topeka Gem and Mineral Society shop is open to members for lapidary equipment usage as well as wire-wrapping\, silversmithing\, and lapidary classes.
URL:https://www.topekagms.org/event/open-shop-7-7-2/2028-09-26/
LOCATION:The Topeka Gem and Mineral Society Workshop\, 8049 Southeast 29th Street\, Tecumseh\, KS\, United States
END:VEVENT
BEGIN:VEVENT
DTSTART;TZID=America/Chicago:20281003T180000
DTEND;TZID=America/Chicago:20281003T220000
DTSTAMP:20260424T085636
CREATED:20250301T020411Z
LAST-MODIFIED:20250301T020415Z
UID:10000277-1854208800-1854223200@www.topekagms.org
SUMMARY:Open Shop
DESCRIPTION:The Topeka Gem and Mineral Society shop is open to members for lapidary equipment usage as well as wire-wrapping\, silversmithing\, and lapidary classes.
URL:https://www.topekagms.org/event/open-shop-7-7-2/2028-10-03/
LOCATION:The Topeka Gem and Mineral Society Workshop\, 8049 Southeast 29th Street\, Tecumseh\, KS\, United States
END:VEVENT
BEGIN:VEVENT
DTSTART;TZID=America/Chicago:20281010T180000
DTEND;TZID=America/Chicago:20281010T220000
DTSTAMP:20260424T085636
CREATED:20250301T020411Z
LAST-MODIFIED:20250301T020415Z
UID:10000278-1854813600-1854828000@www.topekagms.org
SUMMARY:Open Shop
DESCRIPTION:The Topeka Gem and Mineral Society shop is open to members for lapidary equipment usage as well as wire-wrapping\, silversmithing\, and lapidary classes.
URL:https://www.topekagms.org/event/open-shop-7-7-2/2028-10-10/
LOCATION:The Topeka Gem and Mineral Society Workshop\, 8049 Southeast 29th Street\, Tecumseh\, KS\, United States
END:VEVENT
BEGIN:VEVENT
DTSTART;TZID=America/Chicago:20281017T180000
DTEND;TZID=America/Chicago:20281017T220000
DTSTAMP:20260424T085636
CREATED:20250301T020411Z
LAST-MODIFIED:20250301T020415Z
UID:10000279-1855418400-1855432800@www.topekagms.org
SUMMARY:Open Shop
DESCRIPTION:The Topeka Gem and Mineral Society shop is open to members for lapidary equipment usage as well as wire-wrapping\, silversmithing\, and lapidary classes.
URL:https://www.topekagms.org/event/open-shop-7-7-2/2028-10-17/
LOCATION:The Topeka Gem and Mineral Society Workshop\, 8049 Southeast 29th Street\, Tecumseh\, KS\, United States
END:VEVENT
BEGIN:VEVENT
DTSTART;TZID=America/Chicago:20281024T180000
DTEND;TZID=America/Chicago:20281024T220000
DTSTAMP:20260424T085636
CREATED:20250301T020411Z
LAST-MODIFIED:20250301T020415Z
UID:10000280-1856023200-1856037600@www.topekagms.org
SUMMARY:Open Shop
DESCRIPTION:The Topeka Gem and Mineral Society shop is open to members for lapidary equipment usage as well as wire-wrapping\, silversmithing\, and lapidary classes.
URL:https://www.topekagms.org/event/open-shop-7-7-2/2028-10-24/
LOCATION:The Topeka Gem and Mineral Society Workshop\, 8049 Southeast 29th Street\, Tecumseh\, KS\, United States
END:VEVENT
BEGIN:VEVENT
DTSTART;TZID=America/Chicago:20281031T180000
DTEND;TZID=America/Chicago:20281031T220000
DTSTAMP:20260424T085636
CREATED:20250301T020411Z
LAST-MODIFIED:20250301T020415Z
UID:10000281-1856628000-1856642400@www.topekagms.org
SUMMARY:Open Shop
DESCRIPTION:The Topeka Gem and Mineral Society shop is open to members for lapidary equipment usage as well as wire-wrapping\, silversmithing\, and lapidary classes.
URL:https://www.topekagms.org/event/open-shop-7-7-2/2028-10-31/
LOCATION:The Topeka Gem and Mineral Society Workshop\, 8049 Southeast 29th Street\, Tecumseh\, KS\, United States
END:VEVENT
BEGIN:VEVENT
DTSTART;TZID=America/Chicago:20281107T180000
DTEND;TZID=America/Chicago:20281107T220000
DTSTAMP:20260424T085636
CREATED:20250301T020411Z
LAST-MODIFIED:20250301T020415Z
UID:10000282-1857232800-1857247200@www.topekagms.org
SUMMARY:Open Shop
DESCRIPTION:The Topeka Gem and Mineral Society shop is open to members for lapidary equipment usage as well as wire-wrapping\, silversmithing\, and lapidary classes.
URL:https://www.topekagms.org/event/open-shop-7-7-2/2028-11-07/
LOCATION:The Topeka Gem and Mineral Society Workshop\, 8049 Southeast 29th Street\, Tecumseh\, KS\, United States
END:VEVENT
BEGIN:VEVENT
DTSTART;TZID=America/Chicago:20281114T180000
DTEND;TZID=America/Chicago:20281114T220000
DTSTAMP:20260424T085636
CREATED:20250301T020411Z
LAST-MODIFIED:20250301T020415Z
UID:10000283-1857837600-1857852000@www.topekagms.org
SUMMARY:Open Shop
DESCRIPTION:The Topeka Gem and Mineral Society shop is open to members for lapidary equipment usage as well as wire-wrapping\, silversmithing\, and lapidary classes.
URL:https://www.topekagms.org/event/open-shop-7-7-2/2028-11-14/
LOCATION:The Topeka Gem and Mineral Society Workshop\, 8049 Southeast 29th Street\, Tecumseh\, KS\, United States
END:VEVENT
BEGIN:VEVENT
DTSTART;TZID=America/Chicago:20281121T180000
DTEND;TZID=America/Chicago:20281121T220000
DTSTAMP:20260424T085636
CREATED:20250301T020411Z
LAST-MODIFIED:20250301T020415Z
UID:10000284-1858442400-1858456800@www.topekagms.org
SUMMARY:Open Shop
DESCRIPTION:The Topeka Gem and Mineral Society shop is open to members for lapidary equipment usage as well as wire-wrapping\, silversmithing\, and lapidary classes.
URL:https://www.topekagms.org/event/open-shop-7-7-2/2028-11-21/
LOCATION:The Topeka Gem and Mineral Society Workshop\, 8049 Southeast 29th Street\, Tecumseh\, KS\, United States
END:VEVENT
BEGIN:VEVENT
DTSTART;TZID=America/Chicago:20281128T180000
DTEND;TZID=America/Chicago:20281128T220000
DTSTAMP:20260424T085636
CREATED:20250301T020411Z
LAST-MODIFIED:20250301T020415Z
UID:10000285-1859047200-1859061600@www.topekagms.org
SUMMARY:Open Shop
DESCRIPTION:The Topeka Gem and Mineral Society shop is open to members for lapidary equipment usage as well as wire-wrapping\, silversmithing\, and lapidary classes.
URL:https://www.topekagms.org/event/open-shop-7-7-2/2028-11-28/
LOCATION:The Topeka Gem and Mineral Society Workshop\, 8049 Southeast 29th Street\, Tecumseh\, KS\, United States
END:VEVENT
BEGIN:VEVENT
DTSTART;TZID=America/Chicago:20281205T180000
DTEND;TZID=America/Chicago:20281205T220000
DTSTAMP:20260424T085636
CREATED:20250301T020411Z
LAST-MODIFIED:20250301T020415Z
UID:10000286-1859652000-1859666400@www.topekagms.org
SUMMARY:Open Shop
DESCRIPTION:The Topeka Gem and Mineral Society shop is open to members for lapidary equipment usage as well as wire-wrapping\, silversmithing\, and lapidary classes.
URL:https://www.topekagms.org/event/open-shop-7-7-2/2028-12-05/
LOCATION:The Topeka Gem and Mineral Society Workshop\, 8049 Southeast 29th Street\, Tecumseh\, KS\, United States
END:VEVENT
BEGIN:VEVENT
DTSTART;TZID=America/Chicago:20281212T180000
DTEND;TZID=America/Chicago:20281212T220000
DTSTAMP:20260424T085636
CREATED:20250301T020411Z
LAST-MODIFIED:20250301T020415Z
UID:10000287-1860256800-1860271200@www.topekagms.org
SUMMARY:Open Shop
DESCRIPTION:The Topeka Gem and Mineral Society shop is open to members for lapidary equipment usage as well as wire-wrapping\, silversmithing\, and lapidary classes.
URL:https://www.topekagms.org/event/open-shop-7-7-2/2028-12-12/
LOCATION:The Topeka Gem and Mineral Society Workshop\, 8049 Southeast 29th Street\, Tecumseh\, KS\, United States
END:VEVENT
BEGIN:VEVENT
DTSTART;TZID=America/Chicago:20281219T180000
DTEND;TZID=America/Chicago:20281219T220000
DTSTAMP:20260424T085636
CREATED:20250301T020411Z
LAST-MODIFIED:20250301T020415Z
UID:10000288-1860861600-1860876000@www.topekagms.org
SUMMARY:Open Shop
DESCRIPTION:The Topeka Gem and Mineral Society shop is open to members for lapidary equipment usage as well as wire-wrapping\, silversmithing\, and lapidary classes.
URL:https://www.topekagms.org/event/open-shop-7-7-2/2028-12-19/
LOCATION:The Topeka Gem and Mineral Society Workshop\, 8049 Southeast 29th Street\, Tecumseh\, KS\, United States
END:VEVENT
BEGIN:VEVENT
DTSTART;TZID=America/Chicago:20281226T180000
DTEND;TZID=America/Chicago:20281226T220000
DTSTAMP:20260424T085636
CREATED:20250301T020411Z
LAST-MODIFIED:20250301T020415Z
UID:10000289-1861466400-1861480800@www.topekagms.org
SUMMARY:Open Shop
DESCRIPTION:The Topeka Gem and Mineral Society shop is open to members for lapidary equipment usage as well as wire-wrapping\, silversmithing\, and lapidary classes.
URL:https://www.topekagms.org/event/open-shop-7-7-2/2028-12-26/
LOCATION:The Topeka Gem and Mineral Society Workshop\, 8049 Southeast 29th Street\, Tecumseh\, KS\, United States
END:VEVENT
BEGIN:VEVENT
DTSTART;TZID=America/Chicago:20290102T180000
DTEND;TZID=America/Chicago:20290102T220000
DTSTAMP:20260424T085636
CREATED:20250301T020411Z
LAST-MODIFIED:20250301T020415Z
UID:10000290-1862071200-1862085600@www.topekagms.org
SUMMARY:Open Shop
DESCRIPTION:The Topeka Gem and Mineral Society shop is open to members for lapidary equipment usage as well as wire-wrapping\, silversmithing\, and lapidary classes.
URL:https://www.topekagms.org/event/open-shop-7-7-2/2029-01-02/
LOCATION:The Topeka Gem and Mineral Society Workshop\, 8049 Southeast 29th Street\, Tecumseh\, KS\, United States
END:VEVENT
BEGIN:VEVENT
DTSTART;TZID=America/Chicago:20290109T180000
DTEND;TZID=America/Chicago:20290109T220000
DTSTAMP:20260424T085637
CREATED:20250301T020411Z
LAST-MODIFIED:20250301T020415Z
UID:10000364-1862676000-1862690400@www.topekagms.org
SUMMARY:Open Shop
DESCRIPTION:The Topeka Gem and Mineral Society shop is open to members for lapidary equipment usage as well as wire-wrapping\, silversmithing\, and lapidary classes.
URL:https://www.topekagms.org/event/open-shop-7-7-2/2029-01-09/
LOCATION:The Topeka Gem and Mineral Society Workshop\, 8049 Southeast 29th Street\, Tecumseh\, KS\, United States
END:VEVENT
BEGIN:VEVENT
DTSTART;TZID=America/Chicago:20290116T180000
DTEND;TZID=America/Chicago:20290116T220000
DTSTAMP:20260424T085637
CREATED:20250301T020411Z
LAST-MODIFIED:20250301T020415Z
UID:10000365-1863280800-1863295200@www.topekagms.org
SUMMARY:Open Shop
DESCRIPTION:The Topeka Gem and Mineral Society shop is open to members for lapidary equipment usage as well as wire-wrapping\, silversmithing\, and lapidary classes.
URL:https://www.topekagms.org/event/open-shop-7-7-2/2029-01-16/
LOCATION:The Topeka Gem and Mineral Society Workshop\, 8049 Southeast 29th Street\, Tecumseh\, KS\, United States
END:VEVENT
BEGIN:VEVENT
DTSTART;TZID=America/Chicago:20290123T180000
DTEND;TZID=America/Chicago:20290123T220000
DTSTAMP:20260424T085637
CREATED:20250301T020411Z
LAST-MODIFIED:20250301T020415Z
UID:10000366-1863885600-1863900000@www.topekagms.org
SUMMARY:Open Shop
DESCRIPTION:The Topeka Gem and Mineral Society shop is open to members for lapidary equipment usage as well as wire-wrapping\, silversmithing\, and lapidary classes.
URL:https://www.topekagms.org/event/open-shop-7-7-2/2029-01-23/
LOCATION:The Topeka Gem and Mineral Society Workshop\, 8049 Southeast 29th Street\, Tecumseh\, KS\, United States
END:VEVENT
BEGIN:VEVENT
DTSTART;TZID=America/Chicago:20290130T180000
DTEND;TZID=America/Chicago:20290130T220000
DTSTAMP:20260424T085637
CREATED:20250301T020411Z
LAST-MODIFIED:20250301T020415Z
UID:10000367-1864490400-1864504800@www.topekagms.org
SUMMARY:Open Shop
DESCRIPTION:The Topeka Gem and Mineral Society shop is open to members for lapidary equipment usage as well as wire-wrapping\, silversmithing\, and lapidary classes.
URL:https://www.topekagms.org/event/open-shop-7-7-2/2029-01-30/
LOCATION:The Topeka Gem and Mineral Society Workshop\, 8049 Southeast 29th Street\, Tecumseh\, KS\, United States
END:VEVENT
BEGIN:VEVENT
DTSTART;TZID=America/Chicago:20290206T180000
DTEND;TZID=America/Chicago:20290206T220000
DTSTAMP:20260424T085637
CREATED:20250301T020411Z
LAST-MODIFIED:20250301T020415Z
UID:10000368-1865095200-1865109600@www.topekagms.org
SUMMARY:Open Shop
DESCRIPTION:The Topeka Gem and Mineral Society shop is open to members for lapidary equipment usage as well as wire-wrapping\, silversmithing\, and lapidary classes.
URL:https://www.topekagms.org/event/open-shop-7-7-2/2029-02-06/
LOCATION:The Topeka Gem and Mineral Society Workshop\, 8049 Southeast 29th Street\, Tecumseh\, KS\, United States
END:VEVENT
BEGIN:VEVENT
DTSTART;TZID=America/Chicago:20290213T180000
DTEND;TZID=America/Chicago:20290213T220000
DTSTAMP:20260424T085637
CREATED:20250301T020411Z
LAST-MODIFIED:20250301T020415Z
UID:10000369-1865700000-1865714400@www.topekagms.org
SUMMARY:Open Shop
DESCRIPTION:The Topeka Gem and Mineral Society shop is open to members for lapidary equipment usage as well as wire-wrapping\, silversmithing\, and lapidary classes.
URL:https://www.topekagms.org/event/open-shop-7-7-2/2029-02-13/
LOCATION:The Topeka Gem and Mineral Society Workshop\, 8049 Southeast 29th Street\, Tecumseh\, KS\, United States
END:VEVENT
BEGIN:VEVENT
DTSTART;TZID=America/Chicago:20290220T180000
DTEND;TZID=America/Chicago:20290220T220000
DTSTAMP:20260424T085637
CREATED:20250301T020411Z
LAST-MODIFIED:20250301T020415Z
UID:10000370-1866304800-1866319200@www.topekagms.org
SUMMARY:Open Shop
DESCRIPTION:The Topeka Gem and Mineral Society shop is open to members for lapidary equipment usage as well as wire-wrapping\, silversmithing\, and lapidary classes.
URL:https://www.topekagms.org/event/open-shop-7-7-2/2029-02-20/
LOCATION:The Topeka Gem and Mineral Society Workshop\, 8049 Southeast 29th Street\, Tecumseh\, KS\, United States
END:VEVENT
BEGIN:VEVENT
DTSTART;TZID=America/Chicago:20290227T180000
DTEND;TZID=America/Chicago:20290227T220000
DTSTAMP:20260424T085637
CREATED:20250301T020411Z
LAST-MODIFIED:20250301T020415Z
UID:10000371-1866909600-1866924000@www.topekagms.org
SUMMARY:Open Shop
DESCRIPTION:The Topeka Gem and Mineral Society shop is open to members for lapidary equipment usage as well as wire-wrapping\, silversmithing\, and lapidary classes.
URL:https://www.topekagms.org/event/open-shop-7-7-2/2029-02-27/
LOCATION:The Topeka Gem and Mineral Society Workshop\, 8049 Southeast 29th Street\, Tecumseh\, KS\, United States
END:VEVENT
BEGIN:VEVENT
DTSTART;TZID=America/Chicago:20290306T180000
DTEND;TZID=America/Chicago:20290306T220000
DTSTAMP:20260424T085637
CREATED:20250301T020411Z
LAST-MODIFIED:20250301T020415Z
UID:10000372-1867514400-1867528800@www.topekagms.org
SUMMARY:Open Shop
DESCRIPTION:The Topeka Gem and Mineral Society shop is open to members for lapidary equipment usage as well as wire-wrapping\, silversmithing\, and lapidary classes.
URL:https://www.topekagms.org/event/open-shop-7-7-2/2029-03-06/
LOCATION:The Topeka Gem and Mineral Society Workshop\, 8049 Southeast 29th Street\, Tecumseh\, KS\, United States
END:VEVENT
END:VCALENDAR