BEGIN:VCALENDAR
VERSION:2.0
PRODID:-//The Topeka Gem and Mineral Society - ECPv6.15.20//NONSGML v1.0//EN
CALSCALE:GREGORIAN
METHOD:PUBLISH
X-ORIGINAL-URL:https://www.topekagms.org
X-WR-CALDESC:Events for The Topeka Gem and Mineral Society
REFRESH-INTERVAL;VALUE=DURATION:PT1H
X-Robots-Tag:noindex
X-PUBLISHED-TTL:PT1H
BEGIN:VTIMEZONE
TZID:America/Chicago
BEGIN:DAYLIGHT
TZOFFSETFROM:-0600
TZOFFSETTO:-0500
TZNAME:CDT
DTSTART:20250309T080000
END:DAYLIGHT
BEGIN:STANDARD
TZOFFSETFROM:-0500
TZOFFSETTO:-0600
TZNAME:CST
DTSTART:20251102T070000
END:STANDARD
BEGIN:DAYLIGHT
TZOFFSETFROM:-0600
TZOFFSETTO:-0500
TZNAME:CDT
DTSTART:20260308T080000
END:DAYLIGHT
BEGIN:STANDARD
TZOFFSETFROM:-0500
TZOFFSETTO:-0600
TZNAME:CST
DTSTART:20261101T070000
END:STANDARD
BEGIN:DAYLIGHT
TZOFFSETFROM:-0600
TZOFFSETTO:-0500
TZNAME:CDT
DTSTART:20270314T080000
END:DAYLIGHT
BEGIN:STANDARD
TZOFFSETFROM:-0500
TZOFFSETTO:-0600
TZNAME:CST
DTSTART:20271107T070000
END:STANDARD
END:VTIMEZONE
BEGIN:VEVENT
DTSTART;TZID=America/Chicago:20260328T093000
DTEND;TZID=America/Chicago:20260328T120000
DTSTAMP:20260423T153430
CREATED:20260319T191354Z
LAST-MODIFIED:20260319T191354Z
UID:10000691-1774690200-1774699200@www.topekagms.org
SUMMARY:Field Trip - Kansas River Sandbar
DESCRIPTION:The March Field Trip will be to Mike Meier’s sandbar this month.  It will be the Saturday March 28th.\n\nWe will meet at Tecumseh Park located at 4800 SE 2nd St\, Tecumseh\, KS 66542 at 9:30 am for Sign-in and Group Photo.  We will depart the Park in convoy fashion at 10:00 sharp.  You must be a TTGMS member to participate\, forms will be available if needed.\n\nSee Ya there.
URL:https://www.topekagms.org/event/field-trip-kansas-river-sandbar/
LOCATION:Tecumseh Park\, 4800 SE 2nd St\, Tecumseh\, KS\, 66542\, United States
END:VEVENT
END:VCALENDAR