BEGIN:VCALENDAR
VERSION:2.0
PRODID:-//The Topeka Gem and Mineral Society - ECPv6.15.20//NONSGML v1.0//EN
CALSCALE:GREGORIAN
METHOD:PUBLISH
X-ORIGINAL-URL:https://www.topekagms.org
X-WR-CALDESC:Events for The Topeka Gem and Mineral Society
REFRESH-INTERVAL;VALUE=DURATION:PT1H
X-Robots-Tag:noindex
X-PUBLISHED-TTL:PT1H
BEGIN:VTIMEZONE
TZID:America/Chicago
BEGIN:DAYLIGHT
TZOFFSETFROM:-0600
TZOFFSETTO:-0500
TZNAME:CDT
DTSTART:20230312T080000
END:DAYLIGHT
BEGIN:STANDARD
TZOFFSETFROM:-0500
TZOFFSETTO:-0600
TZNAME:CST
DTSTART:20231105T070000
END:STANDARD
BEGIN:DAYLIGHT
TZOFFSETFROM:-0600
TZOFFSETTO:-0500
TZNAME:CDT
DTSTART:20240310T080000
END:DAYLIGHT
BEGIN:STANDARD
TZOFFSETFROM:-0500
TZOFFSETTO:-0600
TZNAME:CST
DTSTART:20241103T070000
END:STANDARD
BEGIN:DAYLIGHT
TZOFFSETFROM:-0600
TZOFFSETTO:-0500
TZNAME:CDT
DTSTART:20250309T080000
END:DAYLIGHT
BEGIN:STANDARD
TZOFFSETFROM:-0500
TZOFFSETTO:-0600
TZNAME:CST
DTSTART:20251102T070000
END:STANDARD
BEGIN:DAYLIGHT
TZOFFSETFROM:-0600
TZOFFSETTO:-0500
TZNAME:CDT
DTSTART:20260308T080000
END:DAYLIGHT
BEGIN:STANDARD
TZOFFSETFROM:-0500
TZOFFSETTO:-0600
TZNAME:CST
DTSTART:20261101T070000
END:STANDARD
END:VTIMEZONE
BEGIN:VEVENT
DTSTART;TZID=America/Chicago:20251122T090000
DTEND;TZID=America/Chicago:20251122T120000
DTSTAMP:20260423T192307
CREATED:20251107T005201Z
LAST-MODIFIED:20251107T005332Z
UID:10000560-1763802000-1763812800@www.topekagms.org
SUMMARY:Field Trip - Midwest Concrete Materials
DESCRIPTION:A field Trip is planned for Saturday June 28th to the Midwest Concrete Materials quarry between Perry and Lecompton just north of the Kansas River.  We will meet at the quarry at 09:00 am.
URL:https://www.topekagms.org/event/field-trip-midwest-concrete-materials-2/
LOCATION:Midwest Concrete Materials Quarry – Lecompton\, 778 Lecompton Rd\, Lecompton\, 66073\, United States
END:VEVENT
BEGIN:VEVENT
DTSTART;TZID=America/Chicago:20250628T090000
DTEND;TZID=America/Chicago:20250628T230000
DTSTAMP:20260423T192307
CREATED:20250527T115253Z
LAST-MODIFIED:20250623T234547Z
UID:10000437-1751101200-1751151600@www.topekagms.org
SUMMARY:Field Trip - Midwest Concrete Materials
DESCRIPTION:A field Trip is planned for Saturday June 28th to the Midwest Concrete Materials quarry between Perry and Lecompton just north of the Kansas River.  We will meet at the quarry at 10:00 am.
URL:https://www.topekagms.org/event/field-trip-midwest-concrete-materials/
LOCATION:Midwest Concrete Materials Quarry – Lecompton\, 778 Lecompton Rd\, Lecompton\, 66073\, United States
END:VEVENT
BEGIN:VEVENT
DTSTART;TZID=America/Chicago:20241123T090000
DTEND;TZID=America/Chicago:20241123T230000
DTSTAMP:20260423T192307
CREATED:20241116T133412Z
LAST-MODIFIED:20241116T133412Z
UID:10000389-1732352400-1732402800@www.topekagms.org
SUMMARY:Field Trip - Midwest Concrete
DESCRIPTION:Saturday morning we will meet at the Midwest Concrete Materials quarry north of the Kaw River between Lecompton and Perry on the East side of the road. We will meet at 9:00am. We plan to leave the parking area at 9:30 so please show up early for Sign-In and Group Photo.
URL:https://www.topekagms.org/event/field-trip-midwest-concrete/
LOCATION:Midwest Concrete Materials Quarry – Lecompton\, 778 Lecompton Rd\, Lecompton\, 66073\, United States
END:VEVENT
END:VCALENDAR