BEGIN:VCALENDAR
VERSION:2.0
PRODID:-//The Topeka Gem and Mineral Society - ECPv6.15.20//NONSGML v1.0//EN
CALSCALE:GREGORIAN
METHOD:PUBLISH
X-WR-CALNAME:The Topeka Gem and Mineral Society
X-ORIGINAL-URL:https://www.topekagms.org
X-WR-CALDESC:Events for The Topeka Gem and Mineral Society
REFRESH-INTERVAL;VALUE=DURATION:PT1H
X-Robots-Tag:noindex
X-PUBLISHED-TTL:PT1H
BEGIN:VTIMEZONE
TZID:America/Chicago
BEGIN:DAYLIGHT
TZOFFSETFROM:-0600
TZOFFSETTO:-0500
TZNAME:CDT
DTSTART:20250309T080000
END:DAYLIGHT
BEGIN:STANDARD
TZOFFSETFROM:-0500
TZOFFSETTO:-0600
TZNAME:CST
DTSTART:20251102T070000
END:STANDARD
BEGIN:DAYLIGHT
TZOFFSETFROM:-0600
TZOFFSETTO:-0500
TZNAME:CDT
DTSTART:20260308T080000
END:DAYLIGHT
BEGIN:STANDARD
TZOFFSETFROM:-0500
TZOFFSETTO:-0600
TZNAME:CST
DTSTART:20261101T070000
END:STANDARD
BEGIN:DAYLIGHT
TZOFFSETFROM:-0600
TZOFFSETTO:-0500
TZNAME:CDT
DTSTART:20270314T080000
END:DAYLIGHT
BEGIN:STANDARD
TZOFFSETFROM:-0500
TZOFFSETTO:-0600
TZNAME:CST
DTSTART:20271107T070000
END:STANDARD
BEGIN:DAYLIGHT
TZOFFSETFROM:-0600
TZOFFSETTO:-0500
TZNAME:CDT
DTSTART:20280312T080000
END:DAYLIGHT
BEGIN:STANDARD
TZOFFSETFROM:-0500
TZOFFSETTO:-0600
TZNAME:CST
DTSTART:20281105T070000
END:STANDARD
END:VTIMEZONE
BEGIN:VEVENT
DTSTART;TZID=America/Chicago:20260424T191500
DTEND;TZID=America/Chicago:20260424T210000
DTSTAMP:20260423T111135
CREATED:20240423T231351Z
LAST-MODIFIED:20240423T231351Z
UID:10000324-1777058100-1777064400@www.topekagms.org
SUMMARY:General Meeting
DESCRIPTION:
URL:https://www.topekagms.org/event/general-meeting-4/2026-04-24/
LOCATION:First Congregational Church\, 1701 SW Collins Ave\, Topeka\, KS\, United States
END:VEVENT
BEGIN:VEVENT
DTSTART;TZID=America/Chicago:20260507T183000
DTEND;TZID=America/Chicago:20260507T200000
DTSTAMP:20260423T111135
CREATED:20260107T033734Z
LAST-MODIFIED:20260107T033805Z
UID:10000633-1778178600-1778184000@www.topekagms.org
SUMMARY:Junior Rockhounds
DESCRIPTION:Doors open at 6:00 class starts at 6:30. \nTopic: Fluorescent Minerals
URL:https://www.topekagms.org/event/junior-rockhounds-27/
LOCATION:First Congregational Church\, 1701 SW Collins Ave\, Topeka\, KS\, United States
END:VEVENT
BEGIN:VEVENT
DTSTART;TZID=America/Chicago:20260522T191500
DTEND;TZID=America/Chicago:20260522T210000
DTSTAMP:20260423T111135
CREATED:20240423T231351Z
LAST-MODIFIED:20240423T231351Z
UID:10000325-1779477300-1779483600@www.topekagms.org
SUMMARY:General Meeting
DESCRIPTION:
URL:https://www.topekagms.org/event/general-meeting-4/2026-05-22/
LOCATION:First Congregational Church\, 1701 SW Collins Ave\, Topeka\, KS\, United States
END:VEVENT
BEGIN:VEVENT
DTSTART;TZID=America/Chicago:20260604T183000
DTEND;TZID=America/Chicago:20260604T200000
DTSTAMP:20260423T111135
CREATED:20260107T033829Z
LAST-MODIFIED:20260107T033843Z
UID:10000634-1780597800-1780603200@www.topekagms.org
SUMMARY:Junior Rockhounds
DESCRIPTION:Doors open at 6:00 class starts at 6:30. \nTopic: Sand
URL:https://www.topekagms.org/event/junior-rockhounds-28/
LOCATION:First Congregational Church\, 1701 SW Collins Ave\, Topeka\, KS\, United States
END:VEVENT
BEGIN:VEVENT
DTSTART;TZID=America/Chicago:20260626T191500
DTEND;TZID=America/Chicago:20260626T210000
DTSTAMP:20260423T111135
CREATED:20240423T231351Z
LAST-MODIFIED:20240423T231351Z
UID:10000326-1782501300-1782507600@www.topekagms.org
SUMMARY:General Meeting
DESCRIPTION:
URL:https://www.topekagms.org/event/general-meeting-4/2026-06-26/
LOCATION:First Congregational Church\, 1701 SW Collins Ave\, Topeka\, KS\, United States
END:VEVENT
BEGIN:VEVENT
DTSTART;TZID=America/Chicago:20260702T183000
DTEND;TZID=America/Chicago:20260702T200000
DTSTAMP:20260423T111135
CREATED:20260107T033849Z
LAST-MODIFIED:20260107T033917Z
UID:10000635-1783017000-1783022400@www.topekagms.org
SUMMARY:Junior Rockhounds
DESCRIPTION:Doors open at 6:00 class starts at 6:30. \nTopic: Earth Resources
URL:https://www.topekagms.org/event/junior-rockhounds-29/
LOCATION:First Congregational Church\, 1701 SW Collins Ave\, Topeka\, KS\, United States
END:VEVENT
BEGIN:VEVENT
DTSTART;TZID=America/Chicago:20260724T191500
DTEND;TZID=America/Chicago:20260724T210000
DTSTAMP:20260423T111135
CREATED:20240423T231351Z
LAST-MODIFIED:20240423T231351Z
UID:10000327-1784920500-1784926800@www.topekagms.org
SUMMARY:General Meeting
DESCRIPTION:
URL:https://www.topekagms.org/event/general-meeting-4/2026-07-24/
LOCATION:First Congregational Church\, 1701 SW Collins Ave\, Topeka\, KS\, United States
END:VEVENT
BEGIN:VEVENT
DTSTART;TZID=America/Chicago:20260806T183000
DTEND;TZID=America/Chicago:20260806T200000
DTSTAMP:20260423T111135
CREATED:20260107T033921Z
LAST-MODIFIED:20260107T033941Z
UID:10000636-1786041000-1786046400@www.topekagms.org
SUMMARY:Junior Rockhounds
DESCRIPTION:Doors open at 6:00 class starts at 6:30. \nTopic: Gold Panning
URL:https://www.topekagms.org/event/junior-rockhounds-30/
LOCATION:First Congregational Church\, 1701 SW Collins Ave\, Topeka\, KS\, United States
END:VEVENT
BEGIN:VEVENT
DTSTART;TZID=America/Chicago:20260828T191500
DTEND;TZID=America/Chicago:20260828T210000
DTSTAMP:20260423T111135
CREATED:20240423T231351Z
LAST-MODIFIED:20240423T231351Z
UID:10000328-1787944500-1787950800@www.topekagms.org
SUMMARY:General Meeting
DESCRIPTION:
URL:https://www.topekagms.org/event/general-meeting-4/2026-08-28/
LOCATION:First Congregational Church\, 1701 SW Collins Ave\, Topeka\, KS\, United States
END:VEVENT
BEGIN:VEVENT
DTSTART;TZID=America/Chicago:20260903T183000
DTEND;TZID=America/Chicago:20260903T200000
DTSTAMP:20260423T111135
CREATED:20260107T033950Z
LAST-MODIFIED:20260107T034010Z
UID:10000637-1788460200-1788465600@www.topekagms.org
SUMMARY:Junior Rockhounds
DESCRIPTION:Doors open at 6:00 class starts at 6:30. \nTopic: Showmanship
URL:https://www.topekagms.org/event/junior-rockhounds-31/
LOCATION:First Congregational Church\, 1701 SW Collins Ave\, Topeka\, KS\, United States
END:VEVENT
BEGIN:VEVENT
DTSTART;TZID=America/Chicago:20260925T191500
DTEND;TZID=America/Chicago:20260925T210000
DTSTAMP:20260423T111135
CREATED:20240423T231351Z
LAST-MODIFIED:20240423T231351Z
UID:10000329-1790363700-1790370000@www.topekagms.org
SUMMARY:General Meeting
DESCRIPTION:
URL:https://www.topekagms.org/event/general-meeting-4/2026-09-25/
LOCATION:First Congregational Church\, 1701 SW Collins Ave\, Topeka\, KS\, United States
END:VEVENT
BEGIN:VEVENT
DTSTART;TZID=America/Chicago:20261001T183000
DTEND;TZID=America/Chicago:20261001T200000
DTSTAMP:20260423T111135
CREATED:20260107T034015Z
LAST-MODIFIED:20260107T034035Z
UID:10000638-1790879400-1790884800@www.topekagms.org
SUMMARY:Junior Rockhounds
DESCRIPTION:Doors open at 6:00 class starts at 6:30. \nTopic: Communication
URL:https://www.topekagms.org/event/junior-rockhounds-32/
LOCATION:First Congregational Church\, 1701 SW Collins Ave\, Topeka\, KS\, United States
END:VEVENT
BEGIN:VEVENT
DTSTART;TZID=America/Chicago:20261023T191500
DTEND;TZID=America/Chicago:20261023T210000
DTSTAMP:20260423T111135
CREATED:20240423T231351Z
LAST-MODIFIED:20240423T231351Z
UID:10000330-1792782900-1792789200@www.topekagms.org
SUMMARY:General Meeting
DESCRIPTION:
URL:https://www.topekagms.org/event/general-meeting-4/2026-10-23/
LOCATION:First Congregational Church\, 1701 SW Collins Ave\, Topeka\, KS\, United States
END:VEVENT
BEGIN:VEVENT
DTSTART;TZID=America/Chicago:20261105T183000
DTEND;TZID=America/Chicago:20261105T200000
DTSTAMP:20260423T111135
CREATED:20260107T034050Z
LAST-MODIFIED:20260107T034105Z
UID:10000639-1793903400-1793908800@www.topekagms.org
SUMMARY:Junior Rockhounds
DESCRIPTION:Doors open at 6:00 class starts at 6:30. \nTopic: Lapidary
URL:https://www.topekagms.org/event/junior-rockhounds-33/
LOCATION:First Congregational Church\, 1701 SW Collins Ave\, Topeka\, KS\, United States
END:VEVENT
BEGIN:VEVENT
DTSTART;TZID=America/Chicago:20261127T191500
DTEND;TZID=America/Chicago:20261127T210000
DTSTAMP:20260423T111135
CREATED:20240423T231351Z
LAST-MODIFIED:20240423T231351Z
UID:10000331-1795806900-1795813200@www.topekagms.org
SUMMARY:General Meeting
DESCRIPTION:
URL:https://www.topekagms.org/event/general-meeting-4/2026-11-27/
LOCATION:First Congregational Church\, 1701 SW Collins Ave\, Topeka\, KS\, United States
END:VEVENT
BEGIN:VEVENT
DTSTART;TZID=America/Chicago:20261203T183000
DTEND;TZID=America/Chicago:20261203T200000
DTSTAMP:20260423T111135
CREATED:20260107T034114Z
LAST-MODIFIED:20260107T034132Z
UID:10000640-1796322600-1796328000@www.topekagms.org
SUMMARY:Junior Rockhounds
DESCRIPTION:Doors open at 6:00 class starts at 6:30. \nTopic: Minerals
URL:https://www.topekagms.org/event/junior-rockhounds-34/
LOCATION:First Congregational Church\, 1701 SW Collins Ave\, Topeka\, KS\, United States
END:VEVENT
BEGIN:VEVENT
DTSTART;TZID=America/Chicago:20261225T191500
DTEND;TZID=America/Chicago:20261225T210000
DTSTAMP:20260423T111135
CREATED:20240423T231351Z
LAST-MODIFIED:20240423T231351Z
UID:10000332-1798226100-1798232400@www.topekagms.org
SUMMARY:General Meeting
DESCRIPTION:
URL:https://www.topekagms.org/event/general-meeting-4/2026-12-25/
LOCATION:First Congregational Church\, 1701 SW Collins Ave\, Topeka\, KS\, United States
END:VEVENT
BEGIN:VEVENT
DTSTART;TZID=America/Chicago:20270107T183000
DTEND;TZID=America/Chicago:20270107T200000
DTSTAMP:20260423T111135
CREATED:20260107T034141Z
LAST-MODIFIED:20260107T034157Z
UID:10000641-1799346600-1799352000@www.topekagms.org
SUMMARY:Junior Rockhounds
DESCRIPTION:Doors open at 6:00 class starts at 6:30. \nTopic: Rocks
URL:https://www.topekagms.org/event/junior-rockhounds-35/
LOCATION:First Congregational Church\, 1701 SW Collins Ave\, Topeka\, KS\, United States
END:VEVENT
BEGIN:VEVENT
DTSTART;TZID=America/Chicago:20270122T191500
DTEND;TZID=America/Chicago:20270122T210000
DTSTAMP:20260423T111135
CREATED:20240423T231351Z
LAST-MODIFIED:20240423T231351Z
UID:10000333-1800645300-1800651600@www.topekagms.org
SUMMARY:General Meeting
DESCRIPTION:
URL:https://www.topekagms.org/event/general-meeting-4/2027-01-22/
LOCATION:First Congregational Church\, 1701 SW Collins Ave\, Topeka\, KS\, United States
END:VEVENT
BEGIN:VEVENT
DTSTART;TZID=America/Chicago:20270204T183000
DTEND;TZID=America/Chicago:20270204T200000
DTSTAMP:20260423T111135
CREATED:20250908T010555Z
LAST-MODIFIED:20260107T033441Z
UID:10000642-1801765800-1801771200@www.topekagms.org
SUMMARY:Junior Rockhounds
DESCRIPTION:Doors open at 6:00 class starts at 6:30.
URL:https://www.topekagms.org/event/junior-rockhounds-17/2027-02-04/
LOCATION:First Congregational Church\, 1701 SW Collins Ave\, Topeka\, KS\, United States
END:VEVENT
BEGIN:VEVENT
DTSTART;TZID=America/Chicago:20270226T191500
DTEND;TZID=America/Chicago:20270226T210000
DTSTAMP:20260423T111135
CREATED:20240423T231351Z
LAST-MODIFIED:20240423T231351Z
UID:10000334-1803669300-1803675600@www.topekagms.org
SUMMARY:General Meeting
DESCRIPTION:
URL:https://www.topekagms.org/event/general-meeting-4/2027-02-26/
LOCATION:First Congregational Church\, 1701 SW Collins Ave\, Topeka\, KS\, United States
END:VEVENT
BEGIN:VEVENT
DTSTART;TZID=America/Chicago:20270304T183000
DTEND;TZID=America/Chicago:20270304T200000
DTSTAMP:20260423T111135
CREATED:20250908T010555Z
LAST-MODIFIED:20260107T033441Z
UID:10000643-1804185000-1804190400@www.topekagms.org
SUMMARY:Junior Rockhounds
DESCRIPTION:Doors open at 6:00 class starts at 6:30.
URL:https://www.topekagms.org/event/junior-rockhounds-17/2027-03-04/
LOCATION:First Congregational Church\, 1701 SW Collins Ave\, Topeka\, KS\, United States
END:VEVENT
BEGIN:VEVENT
DTSTART;TZID=America/Chicago:20270326T191500
DTEND;TZID=America/Chicago:20270326T210000
DTSTAMP:20260423T111135
CREATED:20240423T231351Z
LAST-MODIFIED:20240423T231351Z
UID:10000335-1806088500-1806094800@www.topekagms.org
SUMMARY:General Meeting
DESCRIPTION:
URL:https://www.topekagms.org/event/general-meeting-4/2027-03-26/
LOCATION:First Congregational Church\, 1701 SW Collins Ave\, Topeka\, KS\, United States
END:VEVENT
BEGIN:VEVENT
DTSTART;TZID=America/Chicago:20270401T183000
DTEND;TZID=America/Chicago:20270401T200000
DTSTAMP:20260423T111135
CREATED:20250908T010555Z
LAST-MODIFIED:20260107T033441Z
UID:10000644-1806604200-1806609600@www.topekagms.org
SUMMARY:Junior Rockhounds
DESCRIPTION:Doors open at 6:00 class starts at 6:30.
URL:https://www.topekagms.org/event/junior-rockhounds-17/2027-04-01/
LOCATION:First Congregational Church\, 1701 SW Collins Ave\, Topeka\, KS\, United States
END:VEVENT
BEGIN:VEVENT
DTSTART;TZID=America/Chicago:20270423T191500
DTEND;TZID=America/Chicago:20270423T210000
DTSTAMP:20260423T111135
CREATED:20240423T231351Z
LAST-MODIFIED:20240423T231351Z
UID:10000336-1808507700-1808514000@www.topekagms.org
SUMMARY:General Meeting
DESCRIPTION:
URL:https://www.topekagms.org/event/general-meeting-4/2027-04-23/
LOCATION:First Congregational Church\, 1701 SW Collins Ave\, Topeka\, KS\, United States
END:VEVENT
BEGIN:VEVENT
DTSTART;TZID=America/Chicago:20270506T183000
DTEND;TZID=America/Chicago:20270506T200000
DTSTAMP:20260423T111135
CREATED:20250908T010555Z
LAST-MODIFIED:20260107T033441Z
UID:10000645-1809628200-1809633600@www.topekagms.org
SUMMARY:Junior Rockhounds
DESCRIPTION:Doors open at 6:00 class starts at 6:30.
URL:https://www.topekagms.org/event/junior-rockhounds-17/2027-05-06/
LOCATION:First Congregational Church\, 1701 SW Collins Ave\, Topeka\, KS\, United States
END:VEVENT
BEGIN:VEVENT
DTSTART;TZID=America/Chicago:20270528T191500
DTEND;TZID=America/Chicago:20270528T210000
DTSTAMP:20260423T111135
CREATED:20240423T231351Z
LAST-MODIFIED:20240423T231351Z
UID:10000337-1811531700-1811538000@www.topekagms.org
SUMMARY:General Meeting
DESCRIPTION:
URL:https://www.topekagms.org/event/general-meeting-4/2027-05-28/
LOCATION:First Congregational Church\, 1701 SW Collins Ave\, Topeka\, KS\, United States
END:VEVENT
BEGIN:VEVENT
DTSTART;TZID=America/Chicago:20270603T183000
DTEND;TZID=America/Chicago:20270603T200000
DTSTAMP:20260423T111135
CREATED:20250908T010555Z
LAST-MODIFIED:20260107T033441Z
UID:10000646-1812047400-1812052800@www.topekagms.org
SUMMARY:Junior Rockhounds
DESCRIPTION:Doors open at 6:00 class starts at 6:30.
URL:https://www.topekagms.org/event/junior-rockhounds-17/2027-06-03/
LOCATION:First Congregational Church\, 1701 SW Collins Ave\, Topeka\, KS\, United States
END:VEVENT
BEGIN:VEVENT
DTSTART;TZID=America/Chicago:20270625T191500
DTEND;TZID=America/Chicago:20270625T210000
DTSTAMP:20260423T111135
CREATED:20240423T231351Z
LAST-MODIFIED:20240423T231351Z
UID:10000338-1813950900-1813957200@www.topekagms.org
SUMMARY:General Meeting
DESCRIPTION:
URL:https://www.topekagms.org/event/general-meeting-4/2027-06-25/
LOCATION:First Congregational Church\, 1701 SW Collins Ave\, Topeka\, KS\, United States
END:VEVENT
BEGIN:VEVENT
DTSTART;TZID=America/Chicago:20270701T183000
DTEND;TZID=America/Chicago:20270701T200000
DTSTAMP:20260423T111135
CREATED:20250908T010555Z
LAST-MODIFIED:20260107T033441Z
UID:10000647-1814466600-1814472000@www.topekagms.org
SUMMARY:Junior Rockhounds
DESCRIPTION:Doors open at 6:00 class starts at 6:30.
URL:https://www.topekagms.org/event/junior-rockhounds-17/2027-07-01/
LOCATION:First Congregational Church\, 1701 SW Collins Ave\, Topeka\, KS\, United States
END:VEVENT
END:VCALENDAR