BEGIN:VCALENDAR
VERSION:2.0
PRODID:-//The Topeka Gem and Mineral Society - ECPv6.15.20//NONSGML v1.0//EN
CALSCALE:GREGORIAN
METHOD:PUBLISH
X-WR-CALNAME:The Topeka Gem and Mineral Society
X-ORIGINAL-URL:https://www.topekagms.org
X-WR-CALDESC:Events for The Topeka Gem and Mineral Society
REFRESH-INTERVAL;VALUE=DURATION:PT1H
X-Robots-Tag:noindex
X-PUBLISHED-TTL:PT1H
BEGIN:VTIMEZONE
TZID:America/Chicago
BEGIN:DAYLIGHT
TZOFFSETFROM:-0600
TZOFFSETTO:-0500
TZNAME:CDT
DTSTART:20250309T080000
END:DAYLIGHT
BEGIN:STANDARD
TZOFFSETFROM:-0500
TZOFFSETTO:-0600
TZNAME:CST
DTSTART:20251102T070000
END:STANDARD
BEGIN:DAYLIGHT
TZOFFSETFROM:-0600
TZOFFSETTO:-0500
TZNAME:CDT
DTSTART:20260308T080000
END:DAYLIGHT
BEGIN:STANDARD
TZOFFSETFROM:-0500
TZOFFSETTO:-0600
TZNAME:CST
DTSTART:20261101T070000
END:STANDARD
BEGIN:DAYLIGHT
TZOFFSETFROM:-0600
TZOFFSETTO:-0500
TZNAME:CDT
DTSTART:20270314T080000
END:DAYLIGHT
BEGIN:STANDARD
TZOFFSETFROM:-0500
TZOFFSETTO:-0600
TZNAME:CST
DTSTART:20271107T070000
END:STANDARD
END:VTIMEZONE
BEGIN:VEVENT
DTSTART;TZID=America/Chicago:20260426T093000
DTEND;TZID=America/Chicago:20260426T120000
DTSTAMP:20260423T110336
CREATED:20260417T012520Z
LAST-MODIFIED:20260417T012520Z
UID:10000692-1777195800-1777204800@www.topekagms.org
SUMMARY:Field Trip - Midwest Concrete Materials
DESCRIPTION:Greetings Fellow Field Trippers\,\n\nOur upcoming Field Trip on Sunday\, April 26th will be to the Midwest Concrete Materials sand pit south of Wamego.  This trip will be on a Sunday as they will be pumping sand 6 days a week and the EPA does not allow civilians around when the business is operating.\n\nThe address is 41050 K 99 Hwy\, Wamego\, KS. 66547.  This is located south of Wamego and south of the Kansas River a little over a mile… or so … ish.  It will be on the west side of 99 Hwy. and close enough to the road that you won’t miss it.\n\nBe prepared for all weathers.  Wear sensible footwear – boots would be good.  Could be cold\, wet\, muddy.  Will be ROCKY!  We will be climbing on dirt/rock piles.  Shouldn’t need more than a small hand digging utensil.  Always remember the sun screen.  We will be limited to 2 – 5 gallon buckets per person.  If you want to put them in a wagon that will be OK.  Children are welcome.  Owners RULES are to stay away from the water as the banks are sand and prone to COLLAPSE!  Also stay away from any machines\, equipment\, infrastructure!\n\nRemember  please – this is a business and let’s be respectful of the fact that the material we haul home is a gift from the owner and something they ordinarily sell.  This is not sand for the kids sand pile or gravel for the driveway.  To us this is rock and mineral specimens that we are fortune to be able to collect.  Thanks for your attention to this matter.\n\nWe will meet on the property at 9:30am for Sign-In\, Group Photo and Instructions.  We plan to be turned loose to prospect at 10:00sharp.  Hope to see Ya there!\n\nChuck Curtis\nField Trip Coordinator
URL:https://www.topekagms.org/event/field-trip-midwest-concrete-materials-3/
LOCATION:Midwest Concrete Materials Quarry – Wamego\, 41050 K 99 HWY.\, Wamego\, KS\, United States
END:VEVENT
END:VCALENDAR