BEGIN:VCALENDAR
VERSION:2.0
PRODID:-//The Topeka Gem and Mineral Society - ECPv6.15.20//NONSGML v1.0//EN
CALSCALE:GREGORIAN
METHOD:PUBLISH
X-ORIGINAL-URL:https://www.topekagms.org
X-WR-CALDESC:Events for The Topeka Gem and Mineral Society
REFRESH-INTERVAL;VALUE=DURATION:PT1H
X-Robots-Tag:noindex
X-PUBLISHED-TTL:PT1H
BEGIN:VTIMEZONE
TZID:America/Chicago
BEGIN:DAYLIGHT
TZOFFSETFROM:-0600
TZOFFSETTO:-0500
TZNAME:CDT
DTSTART:20280312T080000
END:DAYLIGHT
BEGIN:STANDARD
TZOFFSETFROM:-0500
TZOFFSETTO:-0600
TZNAME:CST
DTSTART:20281105T070000
END:STANDARD
BEGIN:DAYLIGHT
TZOFFSETFROM:-0600
TZOFFSETTO:-0500
TZNAME:CDT
DTSTART:20290311T080000
END:DAYLIGHT
BEGIN:STANDARD
TZOFFSETFROM:-0500
TZOFFSETTO:-0600
TZNAME:CST
DTSTART:20291104T070000
END:STANDARD
BEGIN:DAYLIGHT
TZOFFSETFROM:-0600
TZOFFSETTO:-0500
TZNAME:CDT
DTSTART:20300310T080000
END:DAYLIGHT
BEGIN:STANDARD
TZOFFSETFROM:-0500
TZOFFSETTO:-0600
TZNAME:CST
DTSTART:20301103T070000
END:STANDARD
BEGIN:DAYLIGHT
TZOFFSETFROM:-0600
TZOFFSETTO:-0500
TZNAME:CDT
DTSTART:20310309T080000
END:DAYLIGHT
BEGIN:STANDARD
TZOFFSETFROM:-0500
TZOFFSETTO:-0600
TZNAME:CST
DTSTART:20311102T070000
END:STANDARD
BEGIN:DAYLIGHT
TZOFFSETFROM:-0600
TZOFFSETTO:-0500
TZNAME:CDT
DTSTART:20320314T080000
END:DAYLIGHT
BEGIN:STANDARD
TZOFFSETFROM:-0500
TZOFFSETTO:-0600
TZNAME:CST
DTSTART:20321107T070000
END:STANDARD
END:VTIMEZONE
BEGIN:VEVENT
DTSTART;TZID=America/Chicago:20291218T180000
DTEND;TZID=America/Chicago:20291218T220000
DTSTAMP:20260425T060345
CREATED:20250301T020411Z
LAST-MODIFIED:20250301T020415Z
UID:10000419-1892311200-1892325600@www.topekagms.org
SUMMARY:Open Shop
DESCRIPTION:The Topeka Gem and Mineral Society shop is open to members for lapidary equipment usage as well as wire-wrapping\, silversmithing\, and lapidary classes.
URL:https://www.topekagms.org/event/open-shop-7-7-2/2029-12-18/
LOCATION:The Topeka Gem and Mineral Society Workshop\, 8049 Southeast 29th Street\, Tecumseh\, KS\, United States
END:VEVENT
BEGIN:VEVENT
DTSTART;TZID=America/Chicago:20291225T180000
DTEND;TZID=America/Chicago:20291225T220000
DTSTAMP:20260425T060345
CREATED:20250301T020411Z
LAST-MODIFIED:20250301T020415Z
UID:10000420-1892916000-1892930400@www.topekagms.org
SUMMARY:Open Shop
DESCRIPTION:The Topeka Gem and Mineral Society shop is open to members for lapidary equipment usage as well as wire-wrapping\, silversmithing\, and lapidary classes.
URL:https://www.topekagms.org/event/open-shop-7-7-2/2029-12-25/
LOCATION:The Topeka Gem and Mineral Society Workshop\, 8049 Southeast 29th Street\, Tecumseh\, KS\, United States
END:VEVENT
BEGIN:VEVENT
DTSTART;TZID=America/Chicago:20300101T180000
DTEND;TZID=America/Chicago:20300101T220000
DTSTAMP:20260425T060345
CREATED:20250301T020411Z
LAST-MODIFIED:20250301T020415Z
UID:10000421-1893520800-1893535200@www.topekagms.org
SUMMARY:Open Shop
DESCRIPTION:The Topeka Gem and Mineral Society shop is open to members for lapidary equipment usage as well as wire-wrapping\, silversmithing\, and lapidary classes.
URL:https://www.topekagms.org/event/open-shop-7-7-2/2030-01-01/
LOCATION:The Topeka Gem and Mineral Society Workshop\, 8049 Southeast 29th Street\, Tecumseh\, KS\, United States
END:VEVENT
BEGIN:VEVENT
DTSTART;TZID=America/Chicago:20300103T183000
DTEND;TZID=America/Chicago:20300103T200000
DTSTAMP:20260425T060345
CREATED:20250908T010555Z
LAST-MODIFIED:20260107T033441Z
UID:10000677-1893695400-1893700800@www.topekagms.org
SUMMARY:Junior Rockhounds
DESCRIPTION:Doors open at 6:00 class starts at 6:30.
URL:https://www.topekagms.org/event/junior-rockhounds-17/2030-01-03/
LOCATION:First Congregational Church\, 1701 SW Collins Ave\, Topeka\, KS\, United States
END:VEVENT
BEGIN:VEVENT
DTSTART;TZID=America/Chicago:20300108T180000
DTEND;TZID=America/Chicago:20300108T220000
DTSTAMP:20260425T060345
CREATED:20250301T020411Z
LAST-MODIFIED:20250301T020415Z
UID:10000422-1894125600-1894140000@www.topekagms.org
SUMMARY:Open Shop
DESCRIPTION:The Topeka Gem and Mineral Society shop is open to members for lapidary equipment usage as well as wire-wrapping\, silversmithing\, and lapidary classes.
URL:https://www.topekagms.org/event/open-shop-7-7-2/2030-01-08/
LOCATION:The Topeka Gem and Mineral Society Workshop\, 8049 Southeast 29th Street\, Tecumseh\, KS\, United States
END:VEVENT
BEGIN:VEVENT
DTSTART;TZID=America/Chicago:20300115T180000
DTEND;TZID=America/Chicago:20300115T220000
DTSTAMP:20260425T060345
CREATED:20250301T020411Z
LAST-MODIFIED:20250301T020415Z
UID:10000423-1894730400-1894744800@www.topekagms.org
SUMMARY:Open Shop
DESCRIPTION:The Topeka Gem and Mineral Society shop is open to members for lapidary equipment usage as well as wire-wrapping\, silversmithing\, and lapidary classes.
URL:https://www.topekagms.org/event/open-shop-7-7-2/2030-01-15/
LOCATION:The Topeka Gem and Mineral Society Workshop\, 8049 Southeast 29th Street\, Tecumseh\, KS\, United States
END:VEVENT
BEGIN:VEVENT
DTSTART;TZID=America/Chicago:20300122T180000
DTEND;TZID=America/Chicago:20300122T220000
DTSTAMP:20260425T060345
CREATED:20250301T020411Z
LAST-MODIFIED:20250301T020415Z
UID:10000427-1895335200-1895349600@www.topekagms.org
SUMMARY:Open Shop
DESCRIPTION:The Topeka Gem and Mineral Society shop is open to members for lapidary equipment usage as well as wire-wrapping\, silversmithing\, and lapidary classes.
URL:https://www.topekagms.org/event/open-shop-7-7-2/2030-01-22/
LOCATION:The Topeka Gem and Mineral Society Workshop\, 8049 Southeast 29th Street\, Tecumseh\, KS\, United States
END:VEVENT
BEGIN:VEVENT
DTSTART;TZID=America/Chicago:20300129T180000
DTEND;TZID=America/Chicago:20300129T220000
DTSTAMP:20260425T060345
CREATED:20250301T020411Z
LAST-MODIFIED:20250301T020415Z
UID:10000428-1895940000-1895954400@www.topekagms.org
SUMMARY:Open Shop
DESCRIPTION:The Topeka Gem and Mineral Society shop is open to members for lapidary equipment usage as well as wire-wrapping\, silversmithing\, and lapidary classes.
URL:https://www.topekagms.org/event/open-shop-7-7-2/2030-01-29/
LOCATION:The Topeka Gem and Mineral Society Workshop\, 8049 Southeast 29th Street\, Tecumseh\, KS\, United States
END:VEVENT
BEGIN:VEVENT
DTSTART;TZID=America/Chicago:20300205T180000
DTEND;TZID=America/Chicago:20300205T220000
DTSTAMP:20260425T060345
CREATED:20250301T020411Z
LAST-MODIFIED:20250301T020415Z
UID:10000429-1896544800-1896559200@www.topekagms.org
SUMMARY:Open Shop
DESCRIPTION:The Topeka Gem and Mineral Society shop is open to members for lapidary equipment usage as well as wire-wrapping\, silversmithing\, and lapidary classes.
URL:https://www.topekagms.org/event/open-shop-7-7-2/2030-02-05/
LOCATION:The Topeka Gem and Mineral Society Workshop\, 8049 Southeast 29th Street\, Tecumseh\, KS\, United States
END:VEVENT
BEGIN:VEVENT
DTSTART;TZID=America/Chicago:20300207T183000
DTEND;TZID=America/Chicago:20300207T200000
DTSTAMP:20260425T060345
CREATED:20250908T010555Z
LAST-MODIFIED:20260107T033441Z
UID:10000678-1896719400-1896724800@www.topekagms.org
SUMMARY:Junior Rockhounds
DESCRIPTION:Doors open at 6:00 class starts at 6:30.
URL:https://www.topekagms.org/event/junior-rockhounds-17/2030-02-07/
LOCATION:First Congregational Church\, 1701 SW Collins Ave\, Topeka\, KS\, United States
END:VEVENT
BEGIN:VEVENT
DTSTART;TZID=America/Chicago:20300212T180000
DTEND;TZID=America/Chicago:20300212T220000
DTSTAMP:20260425T060345
CREATED:20250301T020411Z
LAST-MODIFIED:20250301T020415Z
UID:10000430-1897149600-1897164000@www.topekagms.org
SUMMARY:Open Shop
DESCRIPTION:The Topeka Gem and Mineral Society shop is open to members for lapidary equipment usage as well as wire-wrapping\, silversmithing\, and lapidary classes.
URL:https://www.topekagms.org/event/open-shop-7-7-2/2030-02-12/
LOCATION:The Topeka Gem and Mineral Society Workshop\, 8049 Southeast 29th Street\, Tecumseh\, KS\, United States
END:VEVENT
BEGIN:VEVENT
DTSTART;TZID=America/Chicago:20300219T180000
DTEND;TZID=America/Chicago:20300219T220000
DTSTAMP:20260425T060345
CREATED:20250301T020411Z
LAST-MODIFIED:20250301T020415Z
UID:10000431-1897754400-1897768800@www.topekagms.org
SUMMARY:Open Shop
DESCRIPTION:The Topeka Gem and Mineral Society shop is open to members for lapidary equipment usage as well as wire-wrapping\, silversmithing\, and lapidary classes.
URL:https://www.topekagms.org/event/open-shop-7-7-2/2030-02-19/
LOCATION:The Topeka Gem and Mineral Society Workshop\, 8049 Southeast 29th Street\, Tecumseh\, KS\, United States
END:VEVENT
BEGIN:VEVENT
DTSTART;TZID=America/Chicago:20300226T180000
DTEND;TZID=America/Chicago:20300226T220000
DTSTAMP:20260425T060345
CREATED:20250301T020411Z
LAST-MODIFIED:20250301T020415Z
UID:10000432-1898359200-1898373600@www.topekagms.org
SUMMARY:Open Shop
DESCRIPTION:The Topeka Gem and Mineral Society shop is open to members for lapidary equipment usage as well as wire-wrapping\, silversmithing\, and lapidary classes.
URL:https://www.topekagms.org/event/open-shop-7-7-2/2030-02-26/
LOCATION:The Topeka Gem and Mineral Society Workshop\, 8049 Southeast 29th Street\, Tecumseh\, KS\, United States
END:VEVENT
BEGIN:VEVENT
DTSTART;TZID=America/Chicago:20300307T183000
DTEND;TZID=America/Chicago:20300307T200000
DTSTAMP:20260425T060345
CREATED:20250908T010555Z
LAST-MODIFIED:20260107T033441Z
UID:10000679-1899138600-1899144000@www.topekagms.org
SUMMARY:Junior Rockhounds
DESCRIPTION:Doors open at 6:00 class starts at 6:30.
URL:https://www.topekagms.org/event/junior-rockhounds-17/2030-03-07/
LOCATION:First Congregational Church\, 1701 SW Collins Ave\, Topeka\, KS\, United States
END:VEVENT
BEGIN:VEVENT
DTSTART;TZID=America/Chicago:20300404T183000
DTEND;TZID=America/Chicago:20300404T200000
DTSTAMP:20260425T060345
CREATED:20250908T010555Z
LAST-MODIFIED:20260107T033441Z
UID:10000680-1901557800-1901563200@www.topekagms.org
SUMMARY:Junior Rockhounds
DESCRIPTION:Doors open at 6:00 class starts at 6:30.
URL:https://www.topekagms.org/event/junior-rockhounds-17/2030-04-04/
LOCATION:First Congregational Church\, 1701 SW Collins Ave\, Topeka\, KS\, United States
END:VEVENT
BEGIN:VEVENT
DTSTART;TZID=America/Chicago:20300502T183000
DTEND;TZID=America/Chicago:20300502T200000
DTSTAMP:20260425T060345
CREATED:20250908T010555Z
LAST-MODIFIED:20260107T033441Z
UID:10000681-1903977000-1903982400@www.topekagms.org
SUMMARY:Junior Rockhounds
DESCRIPTION:Doors open at 6:00 class starts at 6:30.
URL:https://www.topekagms.org/event/junior-rockhounds-17/2030-05-02/
LOCATION:First Congregational Church\, 1701 SW Collins Ave\, Topeka\, KS\, United States
END:VEVENT
BEGIN:VEVENT
DTSTART;TZID=America/Chicago:20300606T183000
DTEND;TZID=America/Chicago:20300606T200000
DTSTAMP:20260425T060345
CREATED:20250908T010555Z
LAST-MODIFIED:20260107T033441Z
UID:10000682-1907001000-1907006400@www.topekagms.org
SUMMARY:Junior Rockhounds
DESCRIPTION:Doors open at 6:00 class starts at 6:30.
URL:https://www.topekagms.org/event/junior-rockhounds-17/2030-06-06/
LOCATION:First Congregational Church\, 1701 SW Collins Ave\, Topeka\, KS\, United States
END:VEVENT
BEGIN:VEVENT
DTSTART;TZID=America/Chicago:20300704T183000
DTEND;TZID=America/Chicago:20300704T200000
DTSTAMP:20260425T060345
CREATED:20250908T010555Z
LAST-MODIFIED:20260107T033441Z
UID:10000683-1909420200-1909425600@www.topekagms.org
SUMMARY:Junior Rockhounds
DESCRIPTION:Doors open at 6:00 class starts at 6:30.
URL:https://www.topekagms.org/event/junior-rockhounds-17/2030-07-04/
LOCATION:First Congregational Church\, 1701 SW Collins Ave\, Topeka\, KS\, United States
END:VEVENT
BEGIN:VEVENT
DTSTART;TZID=America/Chicago:20300801T183000
DTEND;TZID=America/Chicago:20300801T200000
DTSTAMP:20260425T060345
CREATED:20250908T010555Z
LAST-MODIFIED:20260107T033441Z
UID:10000684-1911839400-1911844800@www.topekagms.org
SUMMARY:Junior Rockhounds
DESCRIPTION:Doors open at 6:00 class starts at 6:30.
URL:https://www.topekagms.org/event/junior-rockhounds-17/2030-08-01/
LOCATION:First Congregational Church\, 1701 SW Collins Ave\, Topeka\, KS\, United States
END:VEVENT
BEGIN:VEVENT
DTSTART;TZID=America/Chicago:20300905T183000
DTEND;TZID=America/Chicago:20300905T200000
DTSTAMP:20260425T060345
CREATED:20250908T010555Z
LAST-MODIFIED:20260107T033441Z
UID:10000685-1914863400-1914868800@www.topekagms.org
SUMMARY:Junior Rockhounds
DESCRIPTION:Doors open at 6:00 class starts at 6:30.
URL:https://www.topekagms.org/event/junior-rockhounds-17/2030-09-05/
LOCATION:First Congregational Church\, 1701 SW Collins Ave\, Topeka\, KS\, United States
END:VEVENT
BEGIN:VEVENT
DTSTART;TZID=America/Chicago:20301003T183000
DTEND;TZID=America/Chicago:20301003T200000
DTSTAMP:20260425T060345
CREATED:20250908T010555Z
LAST-MODIFIED:20260107T033441Z
UID:10000686-1917282600-1917288000@www.topekagms.org
SUMMARY:Junior Rockhounds
DESCRIPTION:Doors open at 6:00 class starts at 6:30.
URL:https://www.topekagms.org/event/junior-rockhounds-17/2030-10-03/
LOCATION:First Congregational Church\, 1701 SW Collins Ave\, Topeka\, KS\, United States
END:VEVENT
BEGIN:VEVENT
DTSTART;TZID=America/Chicago:20301107T183000
DTEND;TZID=America/Chicago:20301107T200000
DTSTAMP:20260425T060345
CREATED:20250908T010555Z
LAST-MODIFIED:20260107T033441Z
UID:10000687-1920306600-1920312000@www.topekagms.org
SUMMARY:Junior Rockhounds
DESCRIPTION:Doors open at 6:00 class starts at 6:30.
URL:https://www.topekagms.org/event/junior-rockhounds-17/2030-11-07/
LOCATION:First Congregational Church\, 1701 SW Collins Ave\, Topeka\, KS\, United States
END:VEVENT
BEGIN:VEVENT
DTSTART;TZID=America/Chicago:20301205T183000
DTEND;TZID=America/Chicago:20301205T200000
DTSTAMP:20260425T060345
CREATED:20250908T010555Z
LAST-MODIFIED:20260107T033441Z
UID:10000688-1922725800-1922731200@www.topekagms.org
SUMMARY:Junior Rockhounds
DESCRIPTION:Doors open at 6:00 class starts at 6:30.
URL:https://www.topekagms.org/event/junior-rockhounds-17/2030-12-05/
LOCATION:First Congregational Church\, 1701 SW Collins Ave\, Topeka\, KS\, United States
END:VEVENT
BEGIN:VEVENT
DTSTART;TZID=America/Chicago:20310102T183000
DTEND;TZID=America/Chicago:20310102T200000
DTSTAMP:20260425T060345
CREATED:20250908T010555Z
LAST-MODIFIED:20260107T033441Z
UID:10000689-1925145000-1925150400@www.topekagms.org
SUMMARY:Junior Rockhounds
DESCRIPTION:Doors open at 6:00 class starts at 6:30.
URL:https://www.topekagms.org/event/junior-rockhounds-17/2031-01-02/
LOCATION:First Congregational Church\, 1701 SW Collins Ave\, Topeka\, KS\, United States
END:VEVENT
END:VCALENDAR