BEGIN:VCALENDAR
VERSION:2.0
PRODID:-//The Topeka Gem and Mineral Society - ECPv6.15.20//NONSGML v1.0//EN
CALSCALE:GREGORIAN
METHOD:PUBLISH
X-ORIGINAL-URL:https://www.topekagms.org
X-WR-CALDESC:Events for The Topeka Gem and Mineral Society
REFRESH-INTERVAL;VALUE=DURATION:PT1H
X-Robots-Tag:noindex
X-PUBLISHED-TTL:PT1H
BEGIN:VTIMEZONE
TZID:America/Chicago
BEGIN:DAYLIGHT
TZOFFSETFROM:-0600
TZOFFSETTO:-0500
TZNAME:CDT
DTSTART:20230312T080000
END:DAYLIGHT
BEGIN:STANDARD
TZOFFSETFROM:-0500
TZOFFSETTO:-0600
TZNAME:CST
DTSTART:20231105T070000
END:STANDARD
BEGIN:DAYLIGHT
TZOFFSETFROM:-0600
TZOFFSETTO:-0500
TZNAME:CDT
DTSTART:20240310T080000
END:DAYLIGHT
BEGIN:STANDARD
TZOFFSETFROM:-0500
TZOFFSETTO:-0600
TZNAME:CST
DTSTART:20241103T070000
END:STANDARD
BEGIN:DAYLIGHT
TZOFFSETFROM:-0600
TZOFFSETTO:-0500
TZNAME:CDT
DTSTART:20250309T080000
END:DAYLIGHT
BEGIN:STANDARD
TZOFFSETFROM:-0500
TZOFFSETTO:-0600
TZNAME:CST
DTSTART:20251102T070000
END:STANDARD
BEGIN:DAYLIGHT
TZOFFSETFROM:-0600
TZOFFSETTO:-0500
TZNAME:CDT
DTSTART:20260308T080000
END:DAYLIGHT
BEGIN:STANDARD
TZOFFSETFROM:-0500
TZOFFSETTO:-0600
TZNAME:CST
DTSTART:20261101T070000
END:STANDARD
BEGIN:DAYLIGHT
TZOFFSETFROM:-0600
TZOFFSETTO:-0500
TZNAME:CDT
DTSTART:20270314T080000
END:DAYLIGHT
BEGIN:STANDARD
TZOFFSETFROM:-0500
TZOFFSETTO:-0600
TZNAME:CST
DTSTART:20271107T070000
END:STANDARD
END:VTIMEZONE
BEGIN:VEVENT
DTSTART;TZID=America/Chicago:20260108T183000
DTEND;TZID=America/Chicago:20260108T200000
DTSTAMP:20260423T161508
CREATED:20260107T033419Z
LAST-MODIFIED:20260107T033535Z
UID:10000570-1767897000-1767902400@www.topekagms.org
SUMMARY:Junior Rockhounds
DESCRIPTION:Doors open at 6:00 class starts at 6:30. \nTopic: Earth in Space
URL:https://www.topekagms.org/event/junior-rockhounds-23/
LOCATION:First Congregational Church\, 1701 SW Collins Ave\, Topeka\, KS\, United States
END:VEVENT
BEGIN:VEVENT
DTSTART;TZID=America/Chicago:20251106T183000
DTEND;TZID=America/Chicago:20251106T200000
DTSTAMP:20260423T161508
CREATED:20250908T011127Z
LAST-MODIFIED:20250910T161712Z
UID:10000442-1762453800-1762459200@www.topekagms.org
SUMMARY:Junior Rockhounds - Leadership / Citizenship
DESCRIPTION:Doors open at 6:00 class starts at 6:30.
URL:https://www.topekagms.org/event/junior-rockhounds-19/
LOCATION:First Congregational Church\, 1701 SW Collins Ave\, Topeka\, KS\, United States
END:VEVENT
BEGIN:VEVENT
DTSTART;TZID=America/Chicago:20241003T080000
DTEND;TZID=America/Chicago:20241003T170000
DTSTAMP:20260423T161508
CREATED:20240101T172056Z
LAST-MODIFIED:20240101T172056Z
UID:10000024-1727942400-1727974800@www.topekagms.org
SUMMARY:Junior Rockhounds
DESCRIPTION:Earth in Space
URL:https://www.topekagms.org/event/junior-rockhounds-6/
LOCATION:First Congregational Church\, 1701 SW Collins Ave\, Topeka\, KS\, United States
END:VEVENT
BEGIN:VEVENT
DTSTART;TZID=America/Chicago:20240104T180000
DTEND;TZID=America/Chicago:20240104T190000
DTSTAMP:20260423T161508
CREATED:20240101T172057Z
LAST-MODIFIED:20240101T172057Z
UID:10000015-1704391200-1704394800@www.topekagms.org
SUMMARY:Junior Rockhounds
DESCRIPTION:Rocking on the Computer
URL:https://www.topekagms.org/event/junior-rockhounds-15/
LOCATION:First Congregational Church\, 1701 SW Collins Ave\, Topeka\, KS\, United States
END:VEVENT
END:VCALENDAR