BEGIN:VCALENDAR
VERSION:2.0
PRODID:-//The Topeka Gem and Mineral Society - ECPv6.15.20//NONSGML v1.0//EN
CALSCALE:GREGORIAN
METHOD:PUBLISH
X-ORIGINAL-URL:https://www.topekagms.org
X-WR-CALDESC:Events for The Topeka Gem and Mineral Society
REFRESH-INTERVAL;VALUE=DURATION:PT1H
X-Robots-Tag:noindex
X-PUBLISHED-TTL:PT1H
BEGIN:VTIMEZONE
TZID:America/Chicago
BEGIN:DAYLIGHT
TZOFFSETFROM:-0600
TZOFFSETTO:-0500
TZNAME:CDT
DTSTART:20230312T080000
END:DAYLIGHT
BEGIN:STANDARD
TZOFFSETFROM:-0500
TZOFFSETTO:-0600
TZNAME:CST
DTSTART:20231105T070000
END:STANDARD
BEGIN:DAYLIGHT
TZOFFSETFROM:-0600
TZOFFSETTO:-0500
TZNAME:CDT
DTSTART:20240310T080000
END:DAYLIGHT
BEGIN:STANDARD
TZOFFSETFROM:-0500
TZOFFSETTO:-0600
TZNAME:CST
DTSTART:20241103T070000
END:STANDARD
BEGIN:DAYLIGHT
TZOFFSETFROM:-0600
TZOFFSETTO:-0500
TZNAME:CDT
DTSTART:20250309T080000
END:DAYLIGHT
BEGIN:STANDARD
TZOFFSETFROM:-0500
TZOFFSETTO:-0600
TZNAME:CST
DTSTART:20251102T070000
END:STANDARD
BEGIN:DAYLIGHT
TZOFFSETFROM:-0600
TZOFFSETTO:-0500
TZNAME:CDT
DTSTART:20260308T080000
END:DAYLIGHT
BEGIN:STANDARD
TZOFFSETFROM:-0500
TZOFFSETTO:-0600
TZNAME:CST
DTSTART:20261101T070000
END:STANDARD
END:VTIMEZONE
BEGIN:VEVENT
DTSTART;TZID=America/Chicago:20251011T100000
DTEND;TZID=America/Chicago:20251012T170000
DTSTAMP:20260423T231705
CREATED:20250903T021127Z
LAST-MODIFIED:20250903T021127Z
UID:10000439-1760176800-1760288400@www.topekagms.org
SUMMARY:Annual Show
DESCRIPTION:The Topeka Gem and Mineral Society will be hosting their annual Gem and Mineral show October 11th and 12th. Everyone is welcome to join in the fun. Saturday\, October 11th- 10am-6pm Sunday\, October 12th- 10am-5pm Cash at the door.\n\nAdults- $6 (or $5 with a coupon)\nStudents (aged 13-17)- $2\nChildren 12 and under- FREE\n\nThere will be door prizes\, silent auctions\, raffle\, and for those who are rockhounds (big and small) there will be plenty of rocks to bid on. Club members will be giving demonstrations on jewelry making and cutting and polishing stones. Kids will enjoy activities like jewelry making and more. Awesome Brad will be there to engage the kids (and adults) as he shows off his collection of rocks talking about and demonstrating their scientific uses to man\, amazing properties\, and beauty. Vendors will be there to sell their rocks\, cabochons\, crystals\, beads\, artwork\, jewelry\, and more! Come join the fun!
URL:https://www.topekagms.org/event/annual-show-2/
LOCATION:Stormont Vail Event Agricultural Hall\, 17th & Topeka\, Topeka\, United States
END:VEVENT
BEGIN:VEVENT
DTSTART;TZID=America/Chicago:20241013T080000
DTEND;TZID=America/Chicago:20241013T170000
DTSTAMP:20260423T231705
CREATED:20240920T120820Z
LAST-MODIFIED:20240920T122232Z
UID:10000386-1728806400-1728838800@www.topekagms.org
SUMMARY:Annual Show
DESCRIPTION:The Topeka Gem and Mineral Society will be hosting their annual Gem and Mineral show October 12th and 13th. Everyone is welcome to join in the fun. Saturday\, October 12th- 10am-6pmSunday\, October 13th- 10am-5pm Cash at the door.\n\nAdults- $6 (or $5 with a coupon)\nStudents (aged 13-17)- $2\nChildren 12 and under- FREE\n\nThere will be door prizes\, silent auctions\, raffle\, and for those who are rockhounds (big and small) there will be plenty of rocks to bid on. Club members will be giving demonstrations on jewelry making and cutting and polishing stones. Kids will enjoy activities like jewelry making and more. Awesome Brad will be there to engage the kids (and adults) as he shows off his collection of rocks talking about and demonstrating their scientific uses to man\, amazing properties\, and beauty. Vendors will be there to sell their rocks\, cabochons\, crystals\, beads\, artwork\, jewelry\, and more! Come join the fun!
URL:https://www.topekagms.org/event/annual-show/2024-10-13/
LOCATION:Stormont Vail Event Agricultural Hall\, 17th & Topeka\, Topeka\, United States
END:VEVENT
BEGIN:VEVENT
DTSTART;TZID=America/Chicago:20241012T100000
DTEND;TZID=America/Chicago:20241012T180000
DTSTAMP:20260423T231705
CREATED:20240920T120820Z
LAST-MODIFIED:20240920T122232Z
UID:10000384-1728727200-1728756000@www.topekagms.org
SUMMARY:Annual Show
DESCRIPTION:The Topeka Gem and Mineral Society will be hosting their annual Gem and Mineral show October 12th and 13th. Everyone is welcome to join in the fun. Saturday\, October 12th- 10am-6pmSunday\, October 13th- 10am-5pm Cash at the door.\n\nAdults- $6 (or $5 with a coupon)\nStudents (aged 13-17)- $2\nChildren 12 and under- FREE\n\nThere will be door prizes\, silent auctions\, raffle\, and for those who are rockhounds (big and small) there will be plenty of rocks to bid on. Club members will be giving demonstrations on jewelry making and cutting and polishing stones. Kids will enjoy activities like jewelry making and more. Awesome Brad will be there to engage the kids (and adults) as he shows off his collection of rocks talking about and demonstrating their scientific uses to man\, amazing properties\, and beauty. Vendors will be there to sell their rocks\, cabochons\, crystals\, beads\, artwork\, jewelry\, and more! Come join the fun!
URL:https://www.topekagms.org/event/annual-show/2024-10-12/
LOCATION:Stormont Vail Event Agricultural Hall\, 17th & Topeka\, Topeka\, United States
END:VEVENT
BEGIN:VEVENT
DTSTART;TZID=America/Chicago:20240223T191500
DTEND;TZID=America/Chicago:20240223T203000
DTSTAMP:20260423T231705
CREATED:20240106T164622Z
LAST-MODIFIED:20240106T165420Z
UID:10000293-1708715700-1708720200@www.topekagms.org
SUMMARY:General Meeting
DESCRIPTION:Join us for our monthly general meeting. Members gather at 7:15 and the meeting will start at 7:30. \nAndy Connally from the Kansas Geological Survey will be giving a talk on Fossils from this region of Kansas. He encourages everyone to bring in fossils from their collection to have them identified regardless of where they got them. Additionally\, if anyone wants to donate their extra fossils\, the KGS is building fossil teaching kits for schools which he will gladly take our extras to use in building up the kits. Andy is a wonderful speaker. Everyone should come\, be sure to bring your fossils!
URL:https://www.topekagms.org/event/general-meeting-3/
LOCATION:First Congregational Church\, 1701 SW Collins Ave\, Topeka\, KS\, United States
END:VEVENT
BEGIN:VEVENT
DTSTART;TZID=America/Chicago:20240201T180000
DTEND;TZID=America/Chicago:20240201T190000
DTSTAMP:20260423T231705
CREATED:20240101T172057Z
LAST-MODIFIED:20240101T172057Z
UID:10000016-1706810400-1706814000@www.topekagms.org
SUMMARY:Junior Rockhounds
DESCRIPTION:Collecting
URL:https://www.topekagms.org/event/junior-rockhounds-14/
LOCATION:First Congregational Church\, 1701 SW Collins Ave\, Topeka\, KS\, United States
END:VEVENT
BEGIN:VEVENT
DTSTART;TZID=America/Chicago:20240126T191500
DTEND;TZID=America/Chicago:20240126T203000
DTSTAMP:20260423T231705
CREATED:20240106T164145Z
LAST-MODIFIED:20240107T233313Z
UID:10000291-1706296500-1706301000@www.topekagms.org
SUMMARY:General Meeting
DESCRIPTION:Join us for our monthly general meeting. Members gather at 7:15 and the meeting will start at 7:30. \nThe meeting this month is a Silent Action to support TTGMS. Everyone should bring anything they want to contribute to the club for the auction. It doesn’t have be to be just rock related\, it is time to visit and raise money for the club.
URL:https://www.topekagms.org/event/general-meeting-2/
END:VEVENT
END:VCALENDAR