BEGIN:VCALENDAR
VERSION:2.0
PRODID:-//The Topeka Gem and Mineral Society - ECPv6.15.20//NONSGML v1.0//EN
CALSCALE:GREGORIAN
METHOD:PUBLISH
X-ORIGINAL-URL:https://www.topekagms.org
X-WR-CALDESC:Events for The Topeka Gem and Mineral Society
REFRESH-INTERVAL;VALUE=DURATION:PT1H
X-Robots-Tag:noindex
X-PUBLISHED-TTL:PT1H
BEGIN:VTIMEZONE
TZID:America/Chicago
BEGIN:DAYLIGHT
TZOFFSETFROM:-0600
TZOFFSETTO:-0500
TZNAME:CDT
DTSTART:20270314T080000
END:DAYLIGHT
BEGIN:STANDARD
TZOFFSETFROM:-0500
TZOFFSETTO:-0600
TZNAME:CST
DTSTART:20271107T070000
END:STANDARD
BEGIN:DAYLIGHT
TZOFFSETFROM:-0600
TZOFFSETTO:-0500
TZNAME:CDT
DTSTART:20280312T080000
END:DAYLIGHT
BEGIN:STANDARD
TZOFFSETFROM:-0500
TZOFFSETTO:-0600
TZNAME:CST
DTSTART:20281105T070000
END:STANDARD
BEGIN:DAYLIGHT
TZOFFSETFROM:-0600
TZOFFSETTO:-0500
TZNAME:CDT
DTSTART:20290311T080000
END:DAYLIGHT
BEGIN:STANDARD
TZOFFSETFROM:-0500
TZOFFSETTO:-0600
TZNAME:CST
DTSTART:20291104T070000
END:STANDARD
END:VTIMEZONE
BEGIN:VEVENT
DTSTART;TZID=America/Chicago:20280601T183000
DTEND;TZID=America/Chicago:20280601T200000
DTSTAMP:20260425T092435
CREATED:20250908T010555Z
LAST-MODIFIED:20260107T033441Z
UID:10000658-1843497000-1843502400@www.topekagms.org
SUMMARY:Junior Rockhounds
DESCRIPTION:Doors open at 6:00 class starts at 6:30.
URL:https://www.topekagms.org/event/junior-rockhounds-17/2028-06-01/
LOCATION:First Congregational Church\, 1701 SW Collins Ave\, Topeka\, KS\, United States
END:VEVENT
BEGIN:VEVENT
DTSTART;TZID=America/Chicago:20280606T180000
DTEND;TZID=America/Chicago:20280606T220000
DTSTAMP:20260425T092435
CREATED:20250301T020411Z
LAST-MODIFIED:20250301T020415Z
UID:10000260-1843927200-1843941600@www.topekagms.org
SUMMARY:Open Shop
DESCRIPTION:The Topeka Gem and Mineral Society shop is open to members for lapidary equipment usage as well as wire-wrapping\, silversmithing\, and lapidary classes.
URL:https://www.topekagms.org/event/open-shop-7-7-2/2028-06-06/
LOCATION:The Topeka Gem and Mineral Society Workshop\, 8049 Southeast 29th Street\, Tecumseh\, KS\, United States
END:VEVENT
BEGIN:VEVENT
DTSTART;TZID=America/Chicago:20280613T180000
DTEND;TZID=America/Chicago:20280613T220000
DTSTAMP:20260425T092435
CREATED:20250301T020411Z
LAST-MODIFIED:20250301T020415Z
UID:10000261-1844532000-1844546400@www.topekagms.org
SUMMARY:Open Shop
DESCRIPTION:The Topeka Gem and Mineral Society shop is open to members for lapidary equipment usage as well as wire-wrapping\, silversmithing\, and lapidary classes.
URL:https://www.topekagms.org/event/open-shop-7-7-2/2028-06-13/
LOCATION:The Topeka Gem and Mineral Society Workshop\, 8049 Southeast 29th Street\, Tecumseh\, KS\, United States
END:VEVENT
BEGIN:VEVENT
DTSTART;TZID=America/Chicago:20280620T180000
DTEND;TZID=America/Chicago:20280620T220000
DTSTAMP:20260425T092435
CREATED:20250301T020411Z
LAST-MODIFIED:20250301T020415Z
UID:10000262-1845136800-1845151200@www.topekagms.org
SUMMARY:Open Shop
DESCRIPTION:The Topeka Gem and Mineral Society shop is open to members for lapidary equipment usage as well as wire-wrapping\, silversmithing\, and lapidary classes.
URL:https://www.topekagms.org/event/open-shop-7-7-2/2028-06-20/
LOCATION:The Topeka Gem and Mineral Society Workshop\, 8049 Southeast 29th Street\, Tecumseh\, KS\, United States
END:VEVENT
BEGIN:VEVENT
DTSTART;TZID=America/Chicago:20280623T191500
DTEND;TZID=America/Chicago:20280623T210000
DTSTAMP:20260425T092435
CREATED:20240423T231351Z
LAST-MODIFIED:20240423T231351Z
UID:10000350-1845400500-1845406800@www.topekagms.org
SUMMARY:General Meeting
DESCRIPTION:
URL:https://www.topekagms.org/event/general-meeting-4/2028-06-23/
LOCATION:First Congregational Church\, 1701 SW Collins Ave\, Topeka\, KS\, United States
END:VEVENT
BEGIN:VEVENT
DTSTART;TZID=America/Chicago:20280627T180000
DTEND;TZID=America/Chicago:20280627T220000
DTSTAMP:20260425T092435
CREATED:20250301T020411Z
LAST-MODIFIED:20250301T020415Z
UID:10000263-1845741600-1845756000@www.topekagms.org
SUMMARY:Open Shop
DESCRIPTION:The Topeka Gem and Mineral Society shop is open to members for lapidary equipment usage as well as wire-wrapping\, silversmithing\, and lapidary classes.
URL:https://www.topekagms.org/event/open-shop-7-7-2/2028-06-27/
LOCATION:The Topeka Gem and Mineral Society Workshop\, 8049 Southeast 29th Street\, Tecumseh\, KS\, United States
END:VEVENT
END:VCALENDAR