BEGIN:VCALENDAR
VERSION:2.0
PRODID:-//The Topeka Gem and Mineral Society - ECPv6.15.20//NONSGML v1.0//EN
CALSCALE:GREGORIAN
METHOD:PUBLISH
X-WR-CALNAME:The Topeka Gem and Mineral Society
X-ORIGINAL-URL:https://www.topekagms.org
X-WR-CALDESC:Events for The Topeka Gem and Mineral Society
REFRESH-INTERVAL;VALUE=DURATION:PT1H
X-Robots-Tag:noindex
X-PUBLISHED-TTL:PT1H
BEGIN:VTIMEZONE
TZID:America/Chicago
BEGIN:DAYLIGHT
TZOFFSETFROM:-0600
TZOFFSETTO:-0500
TZNAME:CDT
DTSTART:20230312T080000
END:DAYLIGHT
BEGIN:STANDARD
TZOFFSETFROM:-0500
TZOFFSETTO:-0600
TZNAME:CST
DTSTART:20231105T070000
END:STANDARD
BEGIN:DAYLIGHT
TZOFFSETFROM:-0600
TZOFFSETTO:-0500
TZNAME:CDT
DTSTART:20240310T080000
END:DAYLIGHT
BEGIN:STANDARD
TZOFFSETFROM:-0500
TZOFFSETTO:-0600
TZNAME:CST
DTSTART:20241103T070000
END:STANDARD
BEGIN:DAYLIGHT
TZOFFSETFROM:-0600
TZOFFSETTO:-0500
TZNAME:CDT
DTSTART:20250309T080000
END:DAYLIGHT
BEGIN:STANDARD
TZOFFSETFROM:-0500
TZOFFSETTO:-0600
TZNAME:CST
DTSTART:20251102T070000
END:STANDARD
BEGIN:DAYLIGHT
TZOFFSETFROM:-0600
TZOFFSETTO:-0500
TZNAME:CDT
DTSTART:20260308T080000
END:DAYLIGHT
BEGIN:STANDARD
TZOFFSETFROM:-0500
TZOFFSETTO:-0600
TZNAME:CST
DTSTART:20261101T070000
END:STANDARD
END:VTIMEZONE
BEGIN:VEVENT
DTSTART;TZID=America/Chicago:20250325T180000
DTEND;TZID=America/Chicago:20250325T220000
DTSTAMP:20260424T062358
CREATED:20250301T020411Z
LAST-MODIFIED:20250301T020415Z
UID:10000093-1742925600-1742940000@www.topekagms.org
SUMMARY:Open Shop
DESCRIPTION:The Topeka Gem and Mineral Society shop is open to members for lapidary equipment usage as well as wire-wrapping\, silversmithing\, and lapidary classes.
URL:https://www.topekagms.org/event/open-shop-7-7-2/2025-03-25/
LOCATION:The Topeka Gem and Mineral Society Workshop\, 8049 Southeast 29th Street\, Tecumseh\, KS\, United States
END:VEVENT
BEGIN:VEVENT
DTSTART;TZID=America/Chicago:20250318T180000
DTEND;TZID=America/Chicago:20250318T220000
DTSTAMP:20260424T062358
CREATED:20250301T020411Z
LAST-MODIFIED:20250301T020415Z
UID:10000092-1742320800-1742335200@www.topekagms.org
SUMMARY:Open Shop
DESCRIPTION:The Topeka Gem and Mineral Society shop is open to members for lapidary equipment usage as well as wire-wrapping\, silversmithing\, and lapidary classes.
URL:https://www.topekagms.org/event/open-shop-7-7-2/2025-03-18/
LOCATION:The Topeka Gem and Mineral Society Workshop\, 8049 Southeast 29th Street\, Tecumseh\, KS\, United States
END:VEVENT
BEGIN:VEVENT
DTSTART;TZID=America/Chicago:20250311T180000
DTEND;TZID=America/Chicago:20250311T220000
DTSTAMP:20260424T062358
CREATED:20250301T020411Z
LAST-MODIFIED:20250301T020415Z
UID:10000091-1741716000-1741730400@www.topekagms.org
SUMMARY:Open Shop
DESCRIPTION:The Topeka Gem and Mineral Society shop is open to members for lapidary equipment usage as well as wire-wrapping\, silversmithing\, and lapidary classes.
URL:https://www.topekagms.org/event/open-shop-7-7-2/2025-03-11/
LOCATION:The Topeka Gem and Mineral Society Workshop\, 8049 Southeast 29th Street\, Tecumseh\, KS\, United States
END:VEVENT
BEGIN:VEVENT
DTSTART;TZID=America/Chicago:20250304T180000
DTEND;TZID=America/Chicago:20250304T220000
DTSTAMP:20260424T062358
CREATED:20250301T020411Z
LAST-MODIFIED:20250301T020415Z
UID:10000090-1741111200-1741125600@www.topekagms.org
SUMMARY:Open Shop
DESCRIPTION:The Topeka Gem and Mineral Society shop is open to members for lapidary equipment usage as well as wire-wrapping\, silversmithing\, and lapidary classes.
URL:https://www.topekagms.org/event/open-shop-7-7-2/2025-03-04/
LOCATION:The Topeka Gem and Mineral Society Workshop\, 8049 Southeast 29th Street\, Tecumseh\, KS\, United States
END:VEVENT
BEGIN:VEVENT
DTSTART;TZID=America/Chicago:20250228T191500
DTEND;TZID=America/Chicago:20250228T210000
DTSTAMP:20260424T062358
CREATED:20240423T231351Z
LAST-MODIFIED:20240423T231351Z
UID:10000310-1740770100-1740776400@www.topekagms.org
SUMMARY:General Meeting
DESCRIPTION:
URL:https://www.topekagms.org/event/general-meeting-4/2025-02-28/
LOCATION:First Congregational Church\, 1701 SW Collins Ave\, Topeka\, KS\, United States
END:VEVENT
BEGIN:VEVENT
DTSTART;TZID=America/Chicago:20250225T180000
DTEND;TZID=America/Chicago:20250225T220000
DTSTAMP:20260424T062358
CREATED:20250117T235111Z
LAST-MODIFIED:20250117T235115Z
UID:10000089-1740506400-1740520800@www.topekagms.org
SUMMARY:Open Shop
DESCRIPTION:The Topeka Gem and Mineral Society shop is open to members for lapidary equipment usage as well as wire-wrapping\, silversmithing\, and lapidary classes.
URL:https://www.topekagms.org/event/open-shop-7-7/2025-02-25/
LOCATION:The Topeka Gem and Mineral Society Workshop\, 8049 Southeast 29th Street\, Tecumseh\, KS\, United States
END:VEVENT
BEGIN:VEVENT
DTSTART;TZID=America/Chicago:20250218T180000
DTEND;TZID=America/Chicago:20250218T220000
DTSTAMP:20260424T062358
CREATED:20250117T235111Z
LAST-MODIFIED:20250117T235115Z
UID:10000088-1739901600-1739916000@www.topekagms.org
SUMMARY:Open Shop
DESCRIPTION:The Topeka Gem and Mineral Society shop is open to members for lapidary equipment usage as well as wire-wrapping\, silversmithing\, and lapidary classes.
URL:https://www.topekagms.org/event/open-shop-7-7/2025-02-18/
LOCATION:The Topeka Gem and Mineral Society Workshop\, 8049 Southeast 29th Street\, Tecumseh\, KS\, United States
END:VEVENT
BEGIN:VEVENT
DTSTART;TZID=America/Chicago:20250211T180000
DTEND;TZID=America/Chicago:20250211T220000
DTSTAMP:20260424T062358
CREATED:20250117T235111Z
LAST-MODIFIED:20250117T235115Z
UID:10000087-1739296800-1739311200@www.topekagms.org
SUMMARY:Open Shop
DESCRIPTION:The Topeka Gem and Mineral Society shop is open to members for lapidary equipment usage as well as wire-wrapping\, silversmithing\, and lapidary classes.
URL:https://www.topekagms.org/event/open-shop-7-7/2025-02-11/
LOCATION:The Topeka Gem and Mineral Society Workshop\, 8049 Southeast 29th Street\, Tecumseh\, KS\, United States
END:VEVENT
BEGIN:VEVENT
DTSTART;TZID=America/Chicago:20250206T180000
DTEND;TZID=America/Chicago:20250206T190000
DTSTAMP:20260424T062358
CREATED:20240101T172015Z
LAST-MODIFIED:20240101T172114Z
UID:10000028-1738864800-1738868400@www.topekagms.org
SUMMARY:Junior Rockhounds
DESCRIPTION:Rocks
URL:https://www.topekagms.org/event/junior-rockhounds-2/
LOCATION:First Congregational Church\, 1701 SW Collins Ave\, Topeka\, KS\, United States
END:VEVENT
BEGIN:VEVENT
DTSTART;TZID=America/Chicago:20250204T180000
DTEND;TZID=America/Chicago:20250204T220000
DTSTAMP:20260424T062358
CREATED:20250117T235111Z
LAST-MODIFIED:20250117T235115Z
UID:10000086-1738692000-1738706400@www.topekagms.org
SUMMARY:Open Shop
DESCRIPTION:The Topeka Gem and Mineral Society shop is open to members for lapidary equipment usage as well as wire-wrapping\, silversmithing\, and lapidary classes.
URL:https://www.topekagms.org/event/open-shop-7-7/2025-02-04/
LOCATION:The Topeka Gem and Mineral Society Workshop\, 8049 Southeast 29th Street\, Tecumseh\, KS\, United States
END:VEVENT
BEGIN:VEVENT
DTSTART;TZID=America/Chicago:20250128T180000
DTEND;TZID=America/Chicago:20250128T220000
DTSTAMP:20260424T062358
CREATED:20250117T235111Z
LAST-MODIFIED:20250117T235115Z
UID:10000085-1738087200-1738101600@www.topekagms.org
SUMMARY:Open Shop
DESCRIPTION:The Topeka Gem and Mineral Society shop is open to members for lapidary equipment usage as well as wire-wrapping\, silversmithing\, and lapidary classes.
URL:https://www.topekagms.org/event/open-shop-7-7/2025-01-28/
LOCATION:The Topeka Gem and Mineral Society Workshop\, 8049 Southeast 29th Street\, Tecumseh\, KS\, United States
END:VEVENT
BEGIN:VEVENT
DTSTART;TZID=America/Chicago:20250124T191500
DTEND;TZID=America/Chicago:20250124T210000
DTSTAMP:20260424T062358
CREATED:20240423T231351Z
LAST-MODIFIED:20240423T231351Z
UID:10000309-1737746100-1737752400@www.topekagms.org
SUMMARY:General Meeting
DESCRIPTION:
URL:https://www.topekagms.org/event/general-meeting-4/2025-01-24/
LOCATION:First Congregational Church\, 1701 SW Collins Ave\, Topeka\, KS\, United States
END:VEVENT
BEGIN:VEVENT
DTSTART;TZID=America/Chicago:20250121T180000
DTEND;TZID=America/Chicago:20250121T220000
DTSTAMP:20260424T062358
CREATED:20250117T235111Z
LAST-MODIFIED:20250117T235115Z
UID:10000084-1737482400-1737496800@www.topekagms.org
SUMMARY:Open Shop
DESCRIPTION:The Topeka Gem and Mineral Society shop is open to members for lapidary equipment usage as well as wire-wrapping\, silversmithing\, and lapidary classes.
URL:https://www.topekagms.org/event/open-shop-7-7/2025-01-21/
LOCATION:The Topeka Gem and Mineral Society Workshop\, 8049 Southeast 29th Street\, Tecumseh\, KS\, United States
END:VEVENT
BEGIN:VEVENT
DTSTART;TZID=America/Chicago:20250114T180000
DTEND;TZID=America/Chicago:20250114T220000
DTSTAMP:20260424T062358
CREATED:20240101T172057Z
LAST-MODIFIED:20240102T223801Z
UID:10000083-1736877600-1736892000@www.topekagms.org
SUMMARY:Open Shop
DESCRIPTION:The Topeka Gem and Mineral Society shop is open to members for lapidary equipment usage as well as wire-wrapping\, silversmithing\, and lapidary classes.
URL:https://www.topekagms.org/event/open-shop-7/2025-01-14/
LOCATION:The Topeka Gem and Mineral Society Workshop\, 8049 Southeast 29th Street\, Tecumseh\, KS\, United States
END:VEVENT
BEGIN:VEVENT
DTSTART;TZID=America/Chicago:20250107T180000
DTEND;TZID=America/Chicago:20250107T220000
DTSTAMP:20260424T062358
CREATED:20240101T172057Z
LAST-MODIFIED:20240102T223801Z
UID:10000082-1736272800-1736287200@www.topekagms.org
SUMMARY:Open Shop
DESCRIPTION:The Topeka Gem and Mineral Society shop is open to members for lapidary equipment usage as well as wire-wrapping\, silversmithing\, and lapidary classes.
URL:https://www.topekagms.org/event/open-shop-7/2025-01-07/
LOCATION:The Topeka Gem and Mineral Society Workshop\, 8049 Southeast 29th Street\, Tecumseh\, KS\, United States
END:VEVENT
BEGIN:VEVENT
DTSTART;TZID=America/Chicago:20250102T180000
DTEND;TZID=America/Chicago:20250102T190000
DTSTAMP:20260424T062358
CREATED:20240101T172056Z
LAST-MODIFIED:20240101T172114Z
UID:10000027-1735840800-1735844400@www.topekagms.org
SUMMARY:Junior Rockhounds
DESCRIPTION:Minerals
URL:https://www.topekagms.org/event/junior-rockhounds-3/
LOCATION:First Congregational Church\, 1701 SW Collins Ave\, Topeka\, KS\, United States
END:VEVENT
BEGIN:VEVENT
DTSTART;TZID=America/Chicago:20241231T180000
DTEND;TZID=America/Chicago:20241231T220000
DTSTAMP:20260424T062358
CREATED:20241227T172116Z
LAST-MODIFIED:20241227T172120Z
UID:10000081-1735668000-1735682400@www.topekagms.org
SUMMARY:Open Shop
DESCRIPTION:The Topeka Gem and Mineral Society shop is open to members for lapidary equipment usage as well as wire-wrapping\, silversmithing\, and lapidary classes.
URL:https://www.topekagms.org/event/open-shop-7-6/
LOCATION:The Topeka Gem and Mineral Society Workshop\, 8049 Southeast 29th Street\, Tecumseh\, KS\, United States
END:VEVENT
BEGIN:VEVENT
DTSTART;TZID=America/Chicago:20241231T180000
DTEND;TZID=America/Chicago:20241231T220000
DTSTAMP:20260424T062358
CREATED:20240101T172057Z
LAST-MODIFIED:20240102T223801Z
UID:10000425-1735668000-1735682400@www.topekagms.org
SUMMARY:Open Shop
DESCRIPTION:The Topeka Gem and Mineral Society shop is open to members for lapidary equipment usage as well as wire-wrapping\, silversmithing\, and lapidary classes.
URL:https://www.topekagms.org/event/open-shop-7/2024-12-31/
LOCATION:The Topeka Gem and Mineral Society Workshop\, 8049 Southeast 29th Street\, Tecumseh\, KS\, United States
END:VEVENT
BEGIN:VEVENT
DTSTART;TZID=America/Chicago:20241227T191500
DTEND;TZID=America/Chicago:20241227T210000
DTSTAMP:20260424T062358
CREATED:20241114T004714Z
LAST-MODIFIED:20241114T004720Z
UID:10000308-1735326900-1735333200@www.topekagms.org
SUMMARY:General Meeting
DESCRIPTION:No December General Meeting
URL:https://www.topekagms.org/event/general-meeting-4-3/
LOCATION:First Congregational Church\, 1701 SW Collins Ave\, Topeka\, KS\, United States
END:VEVENT
BEGIN:VEVENT
DTSTART;TZID=America/Chicago:20241224T180000
DTEND;TZID=America/Chicago:20241224T220000
DTSTAMP:20260424T062358
CREATED:20240101T172057Z
LAST-MODIFIED:20240102T223801Z
UID:10000080-1735063200-1735077600@www.topekagms.org
SUMMARY:Open Shop
DESCRIPTION:The Topeka Gem and Mineral Society shop is open to members for lapidary equipment usage as well as wire-wrapping\, silversmithing\, and lapidary classes.
URL:https://www.topekagms.org/event/open-shop-7/2024-12-24/
LOCATION:The Topeka Gem and Mineral Society Workshop\, 8049 Southeast 29th Street\, Tecumseh\, KS\, United States
END:VEVENT
BEGIN:VEVENT
DTSTART;TZID=America/Chicago:20241217T180000
DTEND;TZID=America/Chicago:20241217T220000
DTSTAMP:20260424T062358
CREATED:20240101T172057Z
LAST-MODIFIED:20240102T223801Z
UID:10000079-1734458400-1734472800@www.topekagms.org
SUMMARY:Open Shop
DESCRIPTION:The Topeka Gem and Mineral Society shop is open to members for lapidary equipment usage as well as wire-wrapping\, silversmithing\, and lapidary classes.
URL:https://www.topekagms.org/event/open-shop-7/2024-12-17/
LOCATION:The Topeka Gem and Mineral Society Workshop\, 8049 Southeast 29th Street\, Tecumseh\, KS\, United States
END:VEVENT
BEGIN:VEVENT
DTSTART;TZID=America/Chicago:20241210T180000
DTEND;TZID=America/Chicago:20241210T220000
DTSTAMP:20260424T062358
CREATED:20240101T172057Z
LAST-MODIFIED:20240102T223801Z
UID:10000078-1733853600-1733868000@www.topekagms.org
SUMMARY:Open Shop
DESCRIPTION:The Topeka Gem and Mineral Society shop is open to members for lapidary equipment usage as well as wire-wrapping\, silversmithing\, and lapidary classes.
URL:https://www.topekagms.org/event/open-shop-7/2024-12-10/
LOCATION:The Topeka Gem and Mineral Society Workshop\, 8049 Southeast 29th Street\, Tecumseh\, KS\, United States
END:VEVENT
BEGIN:VEVENT
DTSTART;TZID=America/Chicago:20241206T180000
DTEND;TZID=America/Chicago:20241206T210000
DTSTAMP:20260424T062358
CREATED:20241114T005634Z
LAST-MODIFIED:20241114T005634Z
UID:10000388-1733508000-1733518800@www.topekagms.org
SUMMARY:TTGMS Christmas Dinner
DESCRIPTION:Join us for the TTGMS Christmas Dinner at Johnny’s Tavern at 29th and Fairlawn at 6:00 PM.
URL:https://www.topekagms.org/event/ttgms-christmas-dinner/
LOCATION:Johnny’s Tavern\, 2821 SW Fairlawn Road\, Topeka\, KS\, 66614\, United States
END:VEVENT
BEGIN:VEVENT
DTSTART;TZID=America/Chicago:20241205T180000
DTEND;TZID=America/Chicago:20241205T190000
DTSTAMP:20260424T062358
CREATED:20240101T172056Z
LAST-MODIFIED:20240101T172115Z
UID:10000026-1733421600-1733425200@www.topekagms.org
SUMMARY:Junior Rockhounds
DESCRIPTION:Fluorescent Minerals
URL:https://www.topekagms.org/event/junior-rockhounds-4/
LOCATION:First Congregational Church\, 1701 SW Collins Ave\, Topeka\, KS\, United States
END:VEVENT
BEGIN:VEVENT
DTSTART;TZID=America/Chicago:20241203T180000
DTEND;TZID=America/Chicago:20241203T220000
DTSTAMP:20260424T062358
CREATED:20240101T172057Z
LAST-MODIFIED:20240102T223801Z
UID:10000077-1733248800-1733263200@www.topekagms.org
SUMMARY:Open Shop
DESCRIPTION:The Topeka Gem and Mineral Society shop is open to members for lapidary equipment usage as well as wire-wrapping\, silversmithing\, and lapidary classes.
URL:https://www.topekagms.org/event/open-shop-7/2024-12-03/
LOCATION:The Topeka Gem and Mineral Society Workshop\, 8049 Southeast 29th Street\, Tecumseh\, KS\, United States
END:VEVENT
BEGIN:VEVENT
DTSTART;TZID=America/Chicago:20241126T180000
DTEND;TZID=America/Chicago:20241126T220000
DTSTAMP:20260424T062358
CREATED:20240101T172057Z
LAST-MODIFIED:20240102T223801Z
UID:10000076-1732644000-1732658400@www.topekagms.org
SUMMARY:Open Shop
DESCRIPTION:The Topeka Gem and Mineral Society shop is open to members for lapidary equipment usage as well as wire-wrapping\, silversmithing\, and lapidary classes.
URL:https://www.topekagms.org/event/open-shop-7/2024-11-26/
LOCATION:The Topeka Gem and Mineral Society Workshop\, 8049 Southeast 29th Street\, Tecumseh\, KS\, United States
END:VEVENT
BEGIN:VEVENT
DTSTART;TZID=America/Chicago:20241123T090000
DTEND;TZID=America/Chicago:20241123T230000
DTSTAMP:20260424T062358
CREATED:20241116T133412Z
LAST-MODIFIED:20241116T133412Z
UID:10000389-1732352400-1732402800@www.topekagms.org
SUMMARY:Field Trip - Midwest Concrete
DESCRIPTION:Saturday morning we will meet at the Midwest Concrete Materials quarry north of the Kaw River between Lecompton and Perry on the East side of the road. We will meet at 9:00am. We plan to leave the parking area at 9:30 so please show up early for Sign-In and Group Photo.
URL:https://www.topekagms.org/event/field-trip-midwest-concrete/
LOCATION:Midwest Concrete Materials Quarry – Lecompton\, 778 Lecompton Rd\, Lecompton\, 66073\, United States
END:VEVENT
BEGIN:VEVENT
DTSTART;TZID=America/Chicago:20241122T191500
DTEND;TZID=America/Chicago:20241122T210000
DTSTAMP:20260424T062358
CREATED:20240423T231351Z
LAST-MODIFIED:20240423T231351Z
UID:10000307-1732302900-1732309200@www.topekagms.org
SUMMARY:General Meeting
DESCRIPTION:
URL:https://www.topekagms.org/event/general-meeting-4/2024-11-22/
LOCATION:First Congregational Church\, 1701 SW Collins Ave\, Topeka\, KS\, United States
END:VEVENT
BEGIN:VEVENT
DTSTART;TZID=America/Chicago:20241119T180000
DTEND;TZID=America/Chicago:20241119T220000
DTSTAMP:20260424T062358
CREATED:20241114T004510Z
LAST-MODIFIED:20241114T004516Z
UID:10000075-1732039200-1732053600@www.topekagms.org
SUMMARY:Open Shop
DESCRIPTION:Cancelled
URL:https://www.topekagms.org/event/open-shop-7-5/
LOCATION:The Topeka Gem and Mineral Society Workshop\, 8049 Southeast 29th Street\, Tecumseh\, KS\, United States
END:VEVENT
BEGIN:VEVENT
DTSTART;TZID=America/Chicago:20241119T180000
DTEND;TZID=America/Chicago:20241119T220000
DTSTAMP:20260424T062358
CREATED:20240101T172057Z
LAST-MODIFIED:20240102T223801Z
UID:10000424-1732039200-1732053600@www.topekagms.org
SUMMARY:Open Shop
DESCRIPTION:The Topeka Gem and Mineral Society shop is open to members for lapidary equipment usage as well as wire-wrapping\, silversmithing\, and lapidary classes.
URL:https://www.topekagms.org/event/open-shop-7/2024-11-19/
LOCATION:The Topeka Gem and Mineral Society Workshop\, 8049 Southeast 29th Street\, Tecumseh\, KS\, United States
END:VEVENT
END:VCALENDAR