BEGIN:VCALENDAR
VERSION:2.0
PRODID:-//The Topeka Gem and Mineral Society - ECPv6.15.20//NONSGML v1.0//EN
CALSCALE:GREGORIAN
METHOD:PUBLISH
X-WR-CALNAME:The Topeka Gem and Mineral Society
X-ORIGINAL-URL:https://www.topekagms.org
X-WR-CALDESC:Events for The Topeka Gem and Mineral Society
REFRESH-INTERVAL;VALUE=DURATION:PT1H
X-Robots-Tag:noindex
X-PUBLISHED-TTL:PT1H
BEGIN:VTIMEZONE
TZID:America/Chicago
BEGIN:DAYLIGHT
TZOFFSETFROM:-0600
TZOFFSETTO:-0500
TZNAME:CDT
DTSTART:20220313T080000
END:DAYLIGHT
BEGIN:STANDARD
TZOFFSETFROM:-0500
TZOFFSETTO:-0600
TZNAME:CST
DTSTART:20221106T070000
END:STANDARD
BEGIN:DAYLIGHT
TZOFFSETFROM:-0600
TZOFFSETTO:-0500
TZNAME:CDT
DTSTART:20230312T080000
END:DAYLIGHT
BEGIN:STANDARD
TZOFFSETFROM:-0500
TZOFFSETTO:-0600
TZNAME:CST
DTSTART:20231105T070000
END:STANDARD
BEGIN:DAYLIGHT
TZOFFSETFROM:-0600
TZOFFSETTO:-0500
TZNAME:CDT
DTSTART:20240310T080000
END:DAYLIGHT
BEGIN:STANDARD
TZOFFSETFROM:-0500
TZOFFSETTO:-0600
TZNAME:CST
DTSTART:20241103T070000
END:STANDARD
BEGIN:DAYLIGHT
TZOFFSETFROM:-0600
TZOFFSETTO:-0500
TZNAME:CDT
DTSTART:20250309T080000
END:DAYLIGHT
BEGIN:STANDARD
TZOFFSETFROM:-0500
TZOFFSETTO:-0600
TZNAME:CST
DTSTART:20251102T070000
END:STANDARD
END:VTIMEZONE
BEGIN:VEVENT
DTSTART;TZID=America/Chicago:20240123T180000
DTEND;TZID=America/Chicago:20240123T220000
DTSTAMP:20260425T080118
CREATED:20240122T125302Z
LAST-MODIFIED:20240122T125303Z
UID:10000032-1706032800-1706047200@www.topekagms.org
SUMMARY:Open Shop
DESCRIPTION:Shop will be closed due to parking conditions caused by the recent storms.
URL:https://www.topekagms.org/event/open-shop-7-4/
LOCATION:The Topeka Gem and Mineral Society Workshop\, 8049 Southeast 29th Street\, Tecumseh\, KS\, United States
END:VEVENT
BEGIN:VEVENT
DTSTART;TZID=America/Chicago:20240123T180000
DTEND;TZID=America/Chicago:20240123T220000
DTSTAMP:20260425T080118
CREATED:20240101T172057Z
LAST-MODIFIED:20240102T223801Z
UID:10000363-1706032800-1706047200@www.topekagms.org
SUMMARY:Open Shop
DESCRIPTION:The Topeka Gem and Mineral Society shop is open to members for lapidary equipment usage as well as wire-wrapping\, silversmithing\, and lapidary classes.
URL:https://www.topekagms.org/event/open-shop-7/2024-01-23/
LOCATION:The Topeka Gem and Mineral Society Workshop\, 8049 Southeast 29th Street\, Tecumseh\, KS\, United States
END:VEVENT
BEGIN:VEVENT
DTSTART;TZID=America/Chicago:20240116T180000
DTEND;TZID=America/Chicago:20240116T220000
DTSTAMP:20260425T080118
CREATED:20240116T143750Z
LAST-MODIFIED:20240116T143834Z
UID:10000031-1705428000-1705442400@www.topekagms.org
SUMMARY:Open Shop
DESCRIPTION:Note: shop is closed due to the weather and parking conditions.
URL:https://www.topekagms.org/event/open-shop-7-3/
LOCATION:The Topeka Gem and Mineral Society Workshop\, 8049 Southeast 29th Street\, Tecumseh\, KS\, United States
END:VEVENT
BEGIN:VEVENT
DTSTART;TZID=America/Chicago:20240116T180000
DTEND;TZID=America/Chicago:20240116T220000
DTSTAMP:20260425T080118
CREATED:20240101T172057Z
LAST-MODIFIED:20240102T223801Z
UID:10000362-1705428000-1705442400@www.topekagms.org
SUMMARY:Open Shop
DESCRIPTION:The Topeka Gem and Mineral Society shop is open to members for lapidary equipment usage as well as wire-wrapping\, silversmithing\, and lapidary classes.
URL:https://www.topekagms.org/event/open-shop-7/2024-01-16/
LOCATION:The Topeka Gem and Mineral Society Workshop\, 8049 Southeast 29th Street\, Tecumseh\, KS\, United States
END:VEVENT
BEGIN:VEVENT
DTSTART;TZID=America/Chicago:20240112T190000
DTEND;TZID=America/Chicago:20240112T200000
DTSTAMP:20260425T080118
CREATED:20240106T164329Z
LAST-MODIFIED:20240112T025201Z
UID:10000292-1705086000-1705089600@www.topekagms.org
SUMMARY:Board Meeting
DESCRIPTION:
URL:https://www.topekagms.org/event/board-meeting-3/
LOCATION:KS
END:VEVENT
BEGIN:VEVENT
DTSTART;TZID=America/Chicago:20240109T180000
DTEND;TZID=America/Chicago:20240109T220000
DTSTAMP:20260425T080118
CREATED:20240107T232249Z
LAST-MODIFIED:20240107T232935Z
UID:10000030-1704823200-1704837600@www.topekagms.org
SUMMARY:Open Shop
DESCRIPTION:The Topeka Gem and Mineral Society shop will be closed due to the expected snow event that is to arrive on Monday evening.
URL:https://www.topekagms.org/event/open-shop-7-2/
LOCATION:The Topeka Gem and Mineral Society Workshop\, 8049 Southeast 29th Street\, Tecumseh\, KS\, United States
END:VEVENT
BEGIN:VEVENT
DTSTART;TZID=America/Chicago:20240109T180000
DTEND;TZID=America/Chicago:20240109T220000
DTSTAMP:20260425T080118
CREATED:20240101T172057Z
LAST-MODIFIED:20240102T223801Z
UID:10000361-1704823200-1704837600@www.topekagms.org
SUMMARY:Open Shop
DESCRIPTION:The Topeka Gem and Mineral Society shop is open to members for lapidary equipment usage as well as wire-wrapping\, silversmithing\, and lapidary classes.
URL:https://www.topekagms.org/event/open-shop-7/2024-01-09/
LOCATION:The Topeka Gem and Mineral Society Workshop\, 8049 Southeast 29th Street\, Tecumseh\, KS\, United States
END:VEVENT
BEGIN:VEVENT
DTSTART;TZID=America/Chicago:20240104T180000
DTEND;TZID=America/Chicago:20240104T190000
DTSTAMP:20260425T080118
CREATED:20240101T172057Z
LAST-MODIFIED:20240101T172057Z
UID:10000015-1704391200-1704394800@www.topekagms.org
SUMMARY:Junior Rockhounds
DESCRIPTION:Rocking on the Computer
URL:https://www.topekagms.org/event/junior-rockhounds-15/
LOCATION:First Congregational Church\, 1701 SW Collins Ave\, Topeka\, KS\, United States
END:VEVENT
BEGIN:VEVENT
DTSTART;TZID=America/Chicago:20240102T180000
DTEND;TZID=America/Chicago:20240102T220000
DTSTAMP:20260425T080118
CREATED:20240101T172057Z
LAST-MODIFIED:20240102T223801Z
UID:10000029-1704218400-1704232800@www.topekagms.org
SUMMARY:Open Shop
DESCRIPTION:The Topeka Gem and Mineral Society shop is open to members for lapidary equipment usage as well as wire-wrapping\, silversmithing\, and lapidary classes.
URL:https://www.topekagms.org/event/open-shop-7/2024-01-02/
LOCATION:The Topeka Gem and Mineral Society Workshop\, 8049 Southeast 29th Street\, Tecumseh\, KS\, United States
END:VEVENT
BEGIN:VEVENT
DTSTART;TZID=America/Chicago:20231219T180000
DTEND;TZID=America/Chicago:20231219T220000
DTSTAMP:20260425T080118
CREATED:20231115T020908Z
LAST-MODIFIED:20240102T223828Z
UID:10000009-1703008800-1703023200@www.topekagms.org
SUMMARY:Open Shop
DESCRIPTION:The Topeka Gem and Mineral Society shop is open to members for lapidary equipment usage as well as wire-wrapping\, silversmithing\, and lapidary classes.
URL:https://www.topekagms.org/event/open-shop-6/
LOCATION:KS
END:VEVENT
BEGIN:VEVENT
DTSTART;TZID=America/Chicago:20231212T180000
DTEND;TZID=America/Chicago:20231212T220000
DTSTAMP:20260425T080118
CREATED:20231115T020834Z
LAST-MODIFIED:20240102T223834Z
UID:10000008-1702404000-1702418400@www.topekagms.org
SUMMARY:Open Shop
DESCRIPTION:The Topeka Gem and Mineral Society shop is open to members for lapidary equipment usage as well as wire-wrapping\, silversmithing\, and lapidary classes.
URL:https://www.topekagms.org/event/open-shop-5/
LOCATION:KS
END:VEVENT
BEGIN:VEVENT
DTSTART;TZID=America/Chicago:20231208T190000
DTEND;TZID=America/Chicago:20231208T203000
DTSTAMP:20260425T080118
CREATED:20231208T042515Z
LAST-MODIFIED:20231208T042515Z
UID:10000014-1702062000-1702067400@www.topekagms.org
SUMMARY:Board Meeting
DESCRIPTION:
URL:https://www.topekagms.org/event/board-meeting-2/
LOCATION:KS
END:VEVENT
BEGIN:VEVENT
DTSTART;TZID=America/Chicago:20231207T180000
DTEND;TZID=America/Chicago:20231207T200000
DTSTAMP:20260425T080118
CREATED:20231204T185606Z
LAST-MODIFIED:20231204T185606Z
UID:10000013-1701972000-1701979200@www.topekagms.org
SUMMARY:Junior Rockhounds
DESCRIPTION:
URL:https://www.topekagms.org/event/junior-rockhounds/
LOCATION:KS
END:VEVENT
BEGIN:VEVENT
DTSTART;TZID=America/Chicago:20231205T180000
DTEND;TZID=America/Chicago:20231205T220000
DTSTAMP:20260425T080118
CREATED:20231115T020757Z
LAST-MODIFIED:20240102T223841Z
UID:10000007-1701799200-1701813600@www.topekagms.org
SUMMARY:Open Shop
DESCRIPTION:The Topeka Gem and Mineral Society shop is open to members for lapidary equipment usage as well as wire-wrapping\, silversmithing\, and lapidary classes.
URL:https://www.topekagms.org/event/open-shop-4/
LOCATION:The Topeka Gem and Mineral Society Workshop\, 8049 Southeast 29th Street\, Tecumseh\, KS\, United States
END:VEVENT
BEGIN:VEVENT
DTSTART;TZID=America/Chicago:20231128T180000
DTEND;TZID=America/Chicago:20231128T220000
DTSTAMP:20260425T080118
CREATED:20231115T022713Z
LAST-MODIFIED:20240102T223848Z
UID:10000011-1701194400-1701208800@www.topekagms.org
SUMMARY:Open Shop
DESCRIPTION:The Topeka Gem and Mineral Society shop is open to members for lapidary equipment usage as well as wire-wrapping\, silversmithing\, and lapidary classes.
URL:https://www.topekagms.org/event/open-shop-8/
LOCATION:KS
END:VEVENT
BEGIN:VEVENT
DTSTART;TZID=America/Chicago:20231121T180000
DTEND;TZID=America/Chicago:20231121T220000
DTSTAMP:20260425T080118
CREATED:20231114T052853Z
LAST-MODIFIED:20240102T223855Z
UID:10000003-1700589600-1700604000@www.topekagms.org
SUMMARY:Open Shop
DESCRIPTION:The Topeka Gem and Mineral Society shop is open to members for lapidary equipment usage as well as wire-wrapping\, silversmithing\, and lapidary classes.
URL:https://www.topekagms.org/event/open-shop/
LOCATION:KS
END:VEVENT
BEGIN:VEVENT
DTSTART;TZID=America/Chicago:20231117T191500
DTEND;TZID=America/Chicago:20231117T210000
DTSTAMP:20260425T080118
CREATED:20231114T053347Z
LAST-MODIFIED:20231114T053347Z
UID:10000005-1700248500-1700254800@www.topekagms.org
SUMMARY:General Meeting
DESCRIPTION:Agenda Coming
URL:https://www.topekagms.org/event/general-meeting/
LOCATION:First Congregational Church\, 1701 SW Collins Ave\, Topeka\, KS\, United States
END:VEVENT
BEGIN:VEVENT
DTSTART;TZID=America/Chicago:20231114T180000
DTEND;TZID=America/Chicago:20231114T220000
DTSTAMP:20260425T080118
CREATED:20231114T044529Z
LAST-MODIFIED:20240102T223901Z
UID:10000001-1699984800-1699999200@www.topekagms.org
SUMMARY:Open Shop
DESCRIPTION:The Topeka Gem and Mineral Society shop is open to members for lapidary equipment usage as well as wire-wrapping\, silversmithing\, and lapidary classes.
URL:https://www.topekagms.org/event/open-shop-2/
LOCATION:The Topeka Gem and Mineral Society Workshop\, 8049 Southeast 29th Street\, Tecumseh\, KS\, United States
END:VEVENT
BEGIN:VEVENT
DTSTART;TZID=America/Chicago:20231110T190000
DTEND;TZID=America/Chicago:20231110T200000
DTSTAMP:20260425T080118
CREATED:20231114T054813Z
LAST-MODIFIED:20231114T054813Z
UID:10000006-1699642800-1699646400@www.topekagms.org
SUMMARY:Board Meeting
DESCRIPTION:
URL:https://www.topekagms.org/event/board-meeting/
LOCATION:KS
END:VEVENT
BEGIN:VEVENT
DTSTART;TZID=America/Chicago:20231107T180000
DTEND;TZID=America/Chicago:20231107T220000
DTSTAMP:20260425T080118
CREATED:20231114T052838Z
LAST-MODIFIED:20240102T223906Z
UID:10000002-1699380000-1699394400@www.topekagms.org
SUMMARY:Open Shop
DESCRIPTION:The Topeka Gem and Mineral Society shop is open to members for lapidary equipment usage as well as wire-wrapping\, silversmithing\, and lapidary classes.
URL:https://www.topekagms.org/event/open-shop-3/
LOCATION:KS
END:VEVENT
END:VCALENDAR