BEGIN:VCALENDAR
VERSION:2.0
PRODID:-//The Topeka Gem and Mineral Society - ECPv6.15.20//NONSGML v1.0//EN
CALSCALE:GREGORIAN
METHOD:PUBLISH
X-WR-CALNAME:The Topeka Gem and Mineral Society
X-ORIGINAL-URL:https://www.topekagms.org
X-WR-CALDESC:Events for The Topeka Gem and Mineral Society
REFRESH-INTERVAL;VALUE=DURATION:PT1H
X-Robots-Tag:noindex
X-PUBLISHED-TTL:PT1H
BEGIN:VTIMEZONE
TZID:America/Chicago
BEGIN:DAYLIGHT
TZOFFSETFROM:-0600
TZOFFSETTO:-0500
TZNAME:CDT
DTSTART:20240310T080000
END:DAYLIGHT
BEGIN:STANDARD
TZOFFSETFROM:-0500
TZOFFSETTO:-0600
TZNAME:CST
DTSTART:20241103T070000
END:STANDARD
BEGIN:DAYLIGHT
TZOFFSETFROM:-0600
TZOFFSETTO:-0500
TZNAME:CDT
DTSTART:20250309T080000
END:DAYLIGHT
BEGIN:STANDARD
TZOFFSETFROM:-0500
TZOFFSETTO:-0600
TZNAME:CST
DTSTART:20251102T070000
END:STANDARD
BEGIN:DAYLIGHT
TZOFFSETFROM:-0600
TZOFFSETTO:-0500
TZNAME:CDT
DTSTART:20260308T080000
END:DAYLIGHT
BEGIN:STANDARD
TZOFFSETFROM:-0500
TZOFFSETTO:-0600
TZNAME:CST
DTSTART:20261101T070000
END:STANDARD
BEGIN:DAYLIGHT
TZOFFSETFROM:-0600
TZOFFSETTO:-0500
TZNAME:CDT
DTSTART:20270314T080000
END:DAYLIGHT
BEGIN:STANDARD
TZOFFSETFROM:-0500
TZOFFSETTO:-0600
TZNAME:CST
DTSTART:20271107T070000
END:STANDARD
END:VTIMEZONE
BEGIN:VEVENT
DTSTART;TZID=America/Chicago:20260224T180000
DTEND;TZID=America/Chicago:20260224T220000
DTSTAMP:20260423T171447
CREATED:20250301T020411Z
LAST-MODIFIED:20250301T020415Z
UID:10000141-1771956000-1771970400@www.topekagms.org
SUMMARY:Open Shop
DESCRIPTION:The Topeka Gem and Mineral Society shop is open to members for lapidary equipment usage as well as wire-wrapping\, silversmithing\, and lapidary classes.
URL:https://www.topekagms.org/event/open-shop-7-7-2/2026-02-24/
LOCATION:The Topeka Gem and Mineral Society Workshop\, 8049 Southeast 29th Street\, Tecumseh\, KS\, United States
END:VEVENT
BEGIN:VEVENT
DTSTART;TZID=America/Chicago:20260217T180000
DTEND;TZID=America/Chicago:20260217T220000
DTSTAMP:20260423T171447
CREATED:20250301T020411Z
LAST-MODIFIED:20250301T020415Z
UID:10000140-1771351200-1771365600@www.topekagms.org
SUMMARY:Open Shop
DESCRIPTION:The Topeka Gem and Mineral Society shop is open to members for lapidary equipment usage as well as wire-wrapping\, silversmithing\, and lapidary classes.
URL:https://www.topekagms.org/event/open-shop-7-7-2/2026-02-17/
LOCATION:The Topeka Gem and Mineral Society Workshop\, 8049 Southeast 29th Street\, Tecumseh\, KS\, United States
END:VEVENT
BEGIN:VEVENT
DTSTART;TZID=America/Chicago:20260210T180000
DTEND;TZID=America/Chicago:20260210T220000
DTSTAMP:20260423T171447
CREATED:20250301T020411Z
LAST-MODIFIED:20250301T020415Z
UID:10000139-1770746400-1770760800@www.topekagms.org
SUMMARY:Open Shop
DESCRIPTION:The Topeka Gem and Mineral Society shop is open to members for lapidary equipment usage as well as wire-wrapping\, silversmithing\, and lapidary classes.
URL:https://www.topekagms.org/event/open-shop-7-7-2/2026-02-10/
LOCATION:The Topeka Gem and Mineral Society Workshop\, 8049 Southeast 29th Street\, Tecumseh\, KS\, United States
END:VEVENT
BEGIN:VEVENT
DTSTART;TZID=America/Chicago:20260205T183000
DTEND;TZID=America/Chicago:20260205T200000
DTSTAMP:20260423T171447
CREATED:20260107T033550Z
LAST-MODIFIED:20260107T033619Z
UID:10000630-1770316200-1770321600@www.topekagms.org
SUMMARY:Junior Rockhounds
DESCRIPTION:Doors open at 6:00 class starts at 6:30. \nTopic: Stone Age Tools and Art
URL:https://www.topekagms.org/event/junior-rockhounds-24/
LOCATION:First Congregational Church\, 1701 SW Collins Ave\, Topeka\, KS\, United States
END:VEVENT
BEGIN:VEVENT
DTSTART;TZID=America/Chicago:20260203T180000
DTEND;TZID=America/Chicago:20260203T220000
DTSTAMP:20260423T171447
CREATED:20250301T020411Z
LAST-MODIFIED:20250301T020415Z
UID:10000138-1770141600-1770156000@www.topekagms.org
SUMMARY:Open Shop
DESCRIPTION:The Topeka Gem and Mineral Society shop is open to members for lapidary equipment usage as well as wire-wrapping\, silversmithing\, and lapidary classes.
URL:https://www.topekagms.org/event/open-shop-7-7-2/2026-02-03/
LOCATION:The Topeka Gem and Mineral Society Workshop\, 8049 Southeast 29th Street\, Tecumseh\, KS\, United States
END:VEVENT
BEGIN:VEVENT
DTSTART;TZID=America/Chicago:20260127T180000
DTEND;TZID=America/Chicago:20260127T220000
DTSTAMP:20260423T171447
CREATED:20260127T014944Z
LAST-MODIFIED:20260127T015330Z
UID:10000137-1769536800-1769551200@www.topekagms.org
SUMMARY:Open Shop
DESCRIPTION:The Topeka Gem and Mineral Society shop is open to members for lapidary equipment usage as well as wire-wrapping\, silversmithing\, and lapidary classes.
URL:https://www.topekagms.org/event/open-shop-10/
LOCATION:The Topeka Gem and Mineral Society Workshop\, 8049 Southeast 29th Street\, Tecumseh\, KS\, United States
END:VEVENT
BEGIN:VEVENT
DTSTART;TZID=America/Chicago:20260123T191500
DTEND;TZID=America/Chicago:20260123T210000
DTSTAMP:20260423T171447
CREATED:20260122T031419Z
LAST-MODIFIED:20260122T031703Z
UID:10000321-1769195700-1769202000@www.topekagms.org
SUMMARY:General Meeting (Cancelled)
DESCRIPTION:Due to the fridged weather that is coming our way\, the Board decided to cancel the general Meeting this Friday night.  STAY HOME and STAY WARM. \nOn January 30th. we are having a Emergency Show Meeting at the church at 7 p.m.  If you are interested in learning what is going on and want to help\, please show up.  This year is going to be a difficult year to put on the show and we need your input and help.
URL:https://www.topekagms.org/event/general-meeting-9/
LOCATION:First Congregational Church\, 1701 SW Collins Ave\, Topeka\, KS\, United States
END:VEVENT
BEGIN:VEVENT
DTSTART;TZID=America/Chicago:20260120T180000
DTEND;TZID=America/Chicago:20260120T220000
DTSTAMP:20260423T171447
CREATED:20250301T020411Z
LAST-MODIFIED:20250301T020415Z
UID:10000136-1768932000-1768946400@www.topekagms.org
SUMMARY:Open Shop
DESCRIPTION:The Topeka Gem and Mineral Society shop is open to members for lapidary equipment usage as well as wire-wrapping\, silversmithing\, and lapidary classes.
URL:https://www.topekagms.org/event/open-shop-7-7-2/2026-01-20/
LOCATION:The Topeka Gem and Mineral Society Workshop\, 8049 Southeast 29th Street\, Tecumseh\, KS\, United States
END:VEVENT
BEGIN:VEVENT
DTSTART;TZID=America/Chicago:20260113T180000
DTEND;TZID=America/Chicago:20260113T220000
DTSTAMP:20260423T171447
CREATED:20250301T020411Z
LAST-MODIFIED:20250301T020415Z
UID:10000135-1768327200-1768341600@www.topekagms.org
SUMMARY:Open Shop
DESCRIPTION:The Topeka Gem and Mineral Society shop is open to members for lapidary equipment usage as well as wire-wrapping\, silversmithing\, and lapidary classes.
URL:https://www.topekagms.org/event/open-shop-7-7-2/2026-01-13/
LOCATION:The Topeka Gem and Mineral Society Workshop\, 8049 Southeast 29th Street\, Tecumseh\, KS\, United States
END:VEVENT
BEGIN:VEVENT
DTSTART;TZID=America/Chicago:20260108T183000
DTEND;TZID=America/Chicago:20260108T200000
DTSTAMP:20260423T171447
CREATED:20260107T033419Z
LAST-MODIFIED:20260107T033535Z
UID:10000570-1767897000-1767902400@www.topekagms.org
SUMMARY:Junior Rockhounds
DESCRIPTION:Doors open at 6:00 class starts at 6:30. \nTopic: Earth in Space
URL:https://www.topekagms.org/event/junior-rockhounds-23/
LOCATION:First Congregational Church\, 1701 SW Collins Ave\, Topeka\, KS\, United States
END:VEVENT
BEGIN:VEVENT
DTSTART;TZID=America/Chicago:20260106T180000
DTEND;TZID=America/Chicago:20260106T220000
DTSTAMP:20260423T171447
CREATED:20250301T020411Z
LAST-MODIFIED:20250301T020415Z
UID:10000134-1767722400-1767736800@www.topekagms.org
SUMMARY:Open Shop
DESCRIPTION:The Topeka Gem and Mineral Society shop is open to members for lapidary equipment usage as well as wire-wrapping\, silversmithing\, and lapidary classes.
URL:https://www.topekagms.org/event/open-shop-7-7-2/2026-01-06/
LOCATION:The Topeka Gem and Mineral Society Workshop\, 8049 Southeast 29th Street\, Tecumseh\, KS\, United States
END:VEVENT
BEGIN:VEVENT
DTSTART;TZID=America/Chicago:20251230T180000
DTEND;TZID=America/Chicago:20251230T220000
DTSTAMP:20260423T171447
CREATED:20250301T020411Z
LAST-MODIFIED:20250301T020415Z
UID:10000133-1767117600-1767132000@www.topekagms.org
SUMMARY:Open Shop
DESCRIPTION:The Topeka Gem and Mineral Society shop is open to members for lapidary equipment usage as well as wire-wrapping\, silversmithing\, and lapidary classes.
URL:https://www.topekagms.org/event/open-shop-7-7-2/2025-12-30/
LOCATION:The Topeka Gem and Mineral Society Workshop\, 8049 Southeast 29th Street\, Tecumseh\, KS\, United States
END:VEVENT
BEGIN:VEVENT
DTSTART;TZID=America/Chicago:20251226T191500
DTEND;TZID=America/Chicago:20251226T210000
DTSTAMP:20260423T171447
CREATED:20240423T231351Z
LAST-MODIFIED:20240423T231351Z
UID:10000320-1766776500-1766782800@www.topekagms.org
SUMMARY:General Meeting
DESCRIPTION:
URL:https://www.topekagms.org/event/general-meeting-4/2025-12-26/
LOCATION:First Congregational Church\, 1701 SW Collins Ave\, Topeka\, KS\, United States
END:VEVENT
BEGIN:VEVENT
DTSTART;TZID=America/Chicago:20251223T180000
DTEND;TZID=America/Chicago:20251223T220000
DTSTAMP:20260423T171447
CREATED:20250301T020411Z
LAST-MODIFIED:20250301T020415Z
UID:10000132-1766512800-1766527200@www.topekagms.org
SUMMARY:Open Shop
DESCRIPTION:The Topeka Gem and Mineral Society shop is open to members for lapidary equipment usage as well as wire-wrapping\, silversmithing\, and lapidary classes.
URL:https://www.topekagms.org/event/open-shop-7-7-2/2025-12-23/
LOCATION:The Topeka Gem and Mineral Society Workshop\, 8049 Southeast 29th Street\, Tecumseh\, KS\, United States
END:VEVENT
BEGIN:VEVENT
DTSTART;TZID=America/Chicago:20251216T180000
DTEND;TZID=America/Chicago:20251216T220000
DTSTAMP:20260423T171447
CREATED:20250301T020411Z
LAST-MODIFIED:20250301T020415Z
UID:10000131-1765908000-1765922400@www.topekagms.org
SUMMARY:Open Shop
DESCRIPTION:The Topeka Gem and Mineral Society shop is open to members for lapidary equipment usage as well as wire-wrapping\, silversmithing\, and lapidary classes.
URL:https://www.topekagms.org/event/open-shop-7-7-2/2025-12-16/
LOCATION:The Topeka Gem and Mineral Society Workshop\, 8049 Southeast 29th Street\, Tecumseh\, KS\, United States
END:VEVENT
BEGIN:VEVENT
DTSTART;TZID=America/Chicago:20251209T180000
DTEND;TZID=America/Chicago:20251209T220000
DTSTAMP:20260423T171447
CREATED:20250301T020411Z
LAST-MODIFIED:20250301T020415Z
UID:10000130-1765303200-1765317600@www.topekagms.org
SUMMARY:Open Shop
DESCRIPTION:The Topeka Gem and Mineral Society shop is open to members for lapidary equipment usage as well as wire-wrapping\, silversmithing\, and lapidary classes.
URL:https://www.topekagms.org/event/open-shop-7-7-2/2025-12-09/
LOCATION:The Topeka Gem and Mineral Society Workshop\, 8049 Southeast 29th Street\, Tecumseh\, KS\, United States
END:VEVENT
BEGIN:VEVENT
DTSTART;TZID=America/Chicago:20251204T183000
DTEND;TZID=America/Chicago:20251204T200000
DTSTAMP:20260423T171447
CREATED:20250908T011249Z
LAST-MODIFIED:20250910T170239Z
UID:10000443-1764873000-1764878400@www.topekagms.org
SUMMARY:Junior Rockhounds - Earth Processes
DESCRIPTION:Doors open at 6:00 class starts at 6:30.
URL:https://www.topekagms.org/event/junior-rockhounds-20/
LOCATION:First Congregational Church\, 1701 SW Collins Ave\, Topeka\, KS\, United States
END:VEVENT
BEGIN:VEVENT
DTSTART;TZID=America/Chicago:20251202T180000
DTEND;TZID=America/Chicago:20251202T220000
DTSTAMP:20260423T171447
CREATED:20250301T020411Z
LAST-MODIFIED:20250301T020415Z
UID:10000129-1764698400-1764712800@www.topekagms.org
SUMMARY:Open Shop
DESCRIPTION:The Topeka Gem and Mineral Society shop is open to members for lapidary equipment usage as well as wire-wrapping\, silversmithing\, and lapidary classes.
URL:https://www.topekagms.org/event/open-shop-7-7-2/2025-12-02/
LOCATION:The Topeka Gem and Mineral Society Workshop\, 8049 Southeast 29th Street\, Tecumseh\, KS\, United States
END:VEVENT
BEGIN:VEVENT
DTSTART;TZID=America/Chicago:20251125T180000
DTEND;TZID=America/Chicago:20251125T220000
DTSTAMP:20260423T171447
CREATED:20250301T020411Z
LAST-MODIFIED:20250301T020415Z
UID:10000128-1764093600-1764108000@www.topekagms.org
SUMMARY:Open Shop
DESCRIPTION:The Topeka Gem and Mineral Society shop is open to members for lapidary equipment usage as well as wire-wrapping\, silversmithing\, and lapidary classes.
URL:https://www.topekagms.org/event/open-shop-7-7-2/2025-11-25/
LOCATION:The Topeka Gem and Mineral Society Workshop\, 8049 Southeast 29th Street\, Tecumseh\, KS\, United States
END:VEVENT
BEGIN:VEVENT
DTSTART;TZID=America/Chicago:20251122T090000
DTEND;TZID=America/Chicago:20251122T120000
DTSTAMP:20260423T171447
CREATED:20251107T005201Z
LAST-MODIFIED:20251107T005332Z
UID:10000560-1763802000-1763812800@www.topekagms.org
SUMMARY:Field Trip - Midwest Concrete Materials
DESCRIPTION:A field Trip is planned for Saturday June 28th to the Midwest Concrete Materials quarry between Perry and Lecompton just north of the Kansas River.  We will meet at the quarry at 09:00 am.
URL:https://www.topekagms.org/event/field-trip-midwest-concrete-materials-2/
LOCATION:Midwest Concrete Materials Quarry – Lecompton\, 778 Lecompton Rd\, Lecompton\, 66073\, United States
END:VEVENT
BEGIN:VEVENT
DTSTART;TZID=America/Chicago:20251121T191500
DTEND;TZID=America/Chicago:20251121T210000
DTSTAMP:20260423T171447
CREATED:20251107T004732Z
LAST-MODIFIED:20251107T004749Z
UID:10000319-1763752500-1763758800@www.topekagms.org
SUMMARY:General Meeting
DESCRIPTION:
URL:https://www.topekagms.org/event/general-meeting-8/
LOCATION:First Congregational Church\, 1701 SW Collins Ave\, Topeka\, KS\, United States
END:VEVENT
BEGIN:VEVENT
DTSTART;TZID=America/Chicago:20251118T180000
DTEND;TZID=America/Chicago:20251118T220000
DTSTAMP:20260423T171447
CREATED:20250301T020411Z
LAST-MODIFIED:20250301T020415Z
UID:10000127-1763488800-1763503200@www.topekagms.org
SUMMARY:Open Shop
DESCRIPTION:The Topeka Gem and Mineral Society shop is open to members for lapidary equipment usage as well as wire-wrapping\, silversmithing\, and lapidary classes.
URL:https://www.topekagms.org/event/open-shop-7-7-2/2025-11-18/
LOCATION:The Topeka Gem and Mineral Society Workshop\, 8049 Southeast 29th Street\, Tecumseh\, KS\, United States
END:VEVENT
BEGIN:VEVENT
DTSTART;TZID=America/Chicago:20251111T180000
DTEND;TZID=America/Chicago:20251111T220000
DTSTAMP:20260423T171447
CREATED:20250301T020411Z
LAST-MODIFIED:20250301T020415Z
UID:10000126-1762884000-1762898400@www.topekagms.org
SUMMARY:Open Shop
DESCRIPTION:The Topeka Gem and Mineral Society shop is open to members for lapidary equipment usage as well as wire-wrapping\, silversmithing\, and lapidary classes.
URL:https://www.topekagms.org/event/open-shop-7-7-2/2025-11-11/
LOCATION:The Topeka Gem and Mineral Society Workshop\, 8049 Southeast 29th Street\, Tecumseh\, KS\, United States
END:VEVENT
BEGIN:VEVENT
DTSTART;TZID=America/Chicago:20251106T183000
DTEND;TZID=America/Chicago:20251106T200000
DTSTAMP:20260423T171447
CREATED:20250908T011127Z
LAST-MODIFIED:20250910T161712Z
UID:10000442-1762453800-1762459200@www.topekagms.org
SUMMARY:Junior Rockhounds - Leadership / Citizenship
DESCRIPTION:Doors open at 6:00 class starts at 6:30.
URL:https://www.topekagms.org/event/junior-rockhounds-19/
LOCATION:First Congregational Church\, 1701 SW Collins Ave\, Topeka\, KS\, United States
END:VEVENT
BEGIN:VEVENT
DTSTART;TZID=America/Chicago:20251104T180000
DTEND;TZID=America/Chicago:20251104T220000
DTSTAMP:20260423T171447
CREATED:20250301T020411Z
LAST-MODIFIED:20250301T020415Z
UID:10000125-1762279200-1762293600@www.topekagms.org
SUMMARY:Open Shop
DESCRIPTION:The Topeka Gem and Mineral Society shop is open to members for lapidary equipment usage as well as wire-wrapping\, silversmithing\, and lapidary classes.
URL:https://www.topekagms.org/event/open-shop-7-7-2/2025-11-04/
LOCATION:The Topeka Gem and Mineral Society Workshop\, 8049 Southeast 29th Street\, Tecumseh\, KS\, United States
END:VEVENT
BEGIN:VEVENT
DTSTART;TZID=America/Chicago:20251028T180000
DTEND;TZID=America/Chicago:20251028T220000
DTSTAMP:20260423T171447
CREATED:20250301T020411Z
LAST-MODIFIED:20250301T020415Z
UID:10000124-1761674400-1761688800@www.topekagms.org
SUMMARY:Open Shop
DESCRIPTION:The Topeka Gem and Mineral Society shop is open to members for lapidary equipment usage as well as wire-wrapping\, silversmithing\, and lapidary classes.
URL:https://www.topekagms.org/event/open-shop-7-7-2/2025-10-28/
LOCATION:The Topeka Gem and Mineral Society Workshop\, 8049 Southeast 29th Street\, Tecumseh\, KS\, United States
END:VEVENT
BEGIN:VEVENT
DTSTART;TZID=America/Chicago:20251024T191500
DTEND;TZID=America/Chicago:20251024T210000
DTSTAMP:20260423T171447
CREATED:20240423T231351Z
LAST-MODIFIED:20240423T231351Z
UID:10000318-1761333300-1761339600@www.topekagms.org
SUMMARY:General Meeting
DESCRIPTION:
URL:https://www.topekagms.org/event/general-meeting-4/2025-10-24/
LOCATION:First Congregational Church\, 1701 SW Collins Ave\, Topeka\, KS\, United States
END:VEVENT
BEGIN:VEVENT
DTSTART;TZID=America/Chicago:20251021T180000
DTEND;TZID=America/Chicago:20251021T220000
DTSTAMP:20260423T171447
CREATED:20250301T020411Z
LAST-MODIFIED:20250301T020415Z
UID:10000123-1761069600-1761084000@www.topekagms.org
SUMMARY:Open Shop
DESCRIPTION:The Topeka Gem and Mineral Society shop is open to members for lapidary equipment usage as well as wire-wrapping\, silversmithing\, and lapidary classes.
URL:https://www.topekagms.org/event/open-shop-7-7-2/2025-10-21/
LOCATION:The Topeka Gem and Mineral Society Workshop\, 8049 Southeast 29th Street\, Tecumseh\, KS\, United States
END:VEVENT
BEGIN:VEVENT
DTSTART;TZID=America/Chicago:20251014T180000
DTEND;TZID=America/Chicago:20251014T220000
DTSTAMP:20260423T171447
CREATED:20250301T020411Z
LAST-MODIFIED:20250301T020415Z
UID:10000122-1760464800-1760479200@www.topekagms.org
SUMMARY:Open Shop
DESCRIPTION:The Topeka Gem and Mineral Society shop is open to members for lapidary equipment usage as well as wire-wrapping\, silversmithing\, and lapidary classes.
URL:https://www.topekagms.org/event/open-shop-7-7-2/2025-10-14/
LOCATION:The Topeka Gem and Mineral Society Workshop\, 8049 Southeast 29th Street\, Tecumseh\, KS\, United States
END:VEVENT
BEGIN:VEVENT
DTSTART;TZID=America/Chicago:20251011T100000
DTEND;TZID=America/Chicago:20251012T170000
DTSTAMP:20260423T171447
CREATED:20250903T021127Z
LAST-MODIFIED:20250903T021127Z
UID:10000439-1760176800-1760288400@www.topekagms.org
SUMMARY:Annual Show
DESCRIPTION:The Topeka Gem and Mineral Society will be hosting their annual Gem and Mineral show October 11th and 12th. Everyone is welcome to join in the fun. Saturday\, October 11th- 10am-6pm Sunday\, October 12th- 10am-5pm Cash at the door.\n\nAdults- $6 (or $5 with a coupon)\nStudents (aged 13-17)- $2\nChildren 12 and under- FREE\n\nThere will be door prizes\, silent auctions\, raffle\, and for those who are rockhounds (big and small) there will be plenty of rocks to bid on. Club members will be giving demonstrations on jewelry making and cutting and polishing stones. Kids will enjoy activities like jewelry making and more. Awesome Brad will be there to engage the kids (and adults) as he shows off his collection of rocks talking about and demonstrating their scientific uses to man\, amazing properties\, and beauty. Vendors will be there to sell their rocks\, cabochons\, crystals\, beads\, artwork\, jewelry\, and more! Come join the fun!
URL:https://www.topekagms.org/event/annual-show-2/
LOCATION:Stormont Vail Event Agricultural Hall\, 17th & Topeka\, Topeka\, United States
END:VEVENT
END:VCALENDAR