BEGIN:VCALENDAR
VERSION:2.0
PRODID:-//The Topeka Gem and Mineral Society - ECPv6.15.20//NONSGML v1.0//EN
CALSCALE:GREGORIAN
METHOD:PUBLISH
X-WR-CALNAME:The Topeka Gem and Mineral Society
X-ORIGINAL-URL:https://www.topekagms.org
X-WR-CALDESC:Events for The Topeka Gem and Mineral Society
REFRESH-INTERVAL;VALUE=DURATION:PT1H
X-Robots-Tag:noindex
X-PUBLISHED-TTL:PT1H
BEGIN:VTIMEZONE
TZID:America/Chicago
BEGIN:DAYLIGHT
TZOFFSETFROM:-0600
TZOFFSETTO:-0500
TZNAME:CDT
DTSTART:20230312T080000
END:DAYLIGHT
BEGIN:STANDARD
TZOFFSETFROM:-0500
TZOFFSETTO:-0600
TZNAME:CST
DTSTART:20231105T070000
END:STANDARD
BEGIN:DAYLIGHT
TZOFFSETFROM:-0600
TZOFFSETTO:-0500
TZNAME:CDT
DTSTART:20240310T080000
END:DAYLIGHT
BEGIN:STANDARD
TZOFFSETFROM:-0500
TZOFFSETTO:-0600
TZNAME:CST
DTSTART:20241103T070000
END:STANDARD
BEGIN:DAYLIGHT
TZOFFSETFROM:-0600
TZOFFSETTO:-0500
TZNAME:CDT
DTSTART:20250309T080000
END:DAYLIGHT
BEGIN:STANDARD
TZOFFSETFROM:-0500
TZOFFSETTO:-0600
TZNAME:CST
DTSTART:20251102T070000
END:STANDARD
END:VTIMEZONE
BEGIN:VEVENT
DTSTART;TZID=America/Chicago:20241205T180000
DTEND;TZID=America/Chicago:20241205T190000
DTSTAMP:20260425T102124
CREATED:20240101T172056Z
LAST-MODIFIED:20240101T172115Z
UID:10000026-1733421600-1733425200@www.topekagms.org
SUMMARY:Junior Rockhounds
DESCRIPTION:Fluorescent Minerals
URL:https://www.topekagms.org/event/junior-rockhounds-4/
LOCATION:First Congregational Church\, 1701 SW Collins Ave\, Topeka\, KS\, United States
END:VEVENT
BEGIN:VEVENT
DTSTART;TZID=America/Chicago:20241203T180000
DTEND;TZID=America/Chicago:20241203T220000
DTSTAMP:20260425T102124
CREATED:20240101T172057Z
LAST-MODIFIED:20240102T223801Z
UID:10000077-1733248800-1733263200@www.topekagms.org
SUMMARY:Open Shop
DESCRIPTION:The Topeka Gem and Mineral Society shop is open to members for lapidary equipment usage as well as wire-wrapping\, silversmithing\, and lapidary classes.
URL:https://www.topekagms.org/event/open-shop-7/2024-12-03/
LOCATION:The Topeka Gem and Mineral Society Workshop\, 8049 Southeast 29th Street\, Tecumseh\, KS\, United States
END:VEVENT
BEGIN:VEVENT
DTSTART;TZID=America/Chicago:20241126T180000
DTEND;TZID=America/Chicago:20241126T220000
DTSTAMP:20260425T102125
CREATED:20240101T172057Z
LAST-MODIFIED:20240102T223801Z
UID:10000076-1732644000-1732658400@www.topekagms.org
SUMMARY:Open Shop
DESCRIPTION:The Topeka Gem and Mineral Society shop is open to members for lapidary equipment usage as well as wire-wrapping\, silversmithing\, and lapidary classes.
URL:https://www.topekagms.org/event/open-shop-7/2024-11-26/
LOCATION:The Topeka Gem and Mineral Society Workshop\, 8049 Southeast 29th Street\, Tecumseh\, KS\, United States
END:VEVENT
BEGIN:VEVENT
DTSTART;TZID=America/Chicago:20241123T090000
DTEND;TZID=America/Chicago:20241123T230000
DTSTAMP:20260425T102125
CREATED:20241116T133412Z
LAST-MODIFIED:20241116T133412Z
UID:10000389-1732352400-1732402800@www.topekagms.org
SUMMARY:Field Trip - Midwest Concrete
DESCRIPTION:Saturday morning we will meet at the Midwest Concrete Materials quarry north of the Kaw River between Lecompton and Perry on the East side of the road. We will meet at 9:00am. We plan to leave the parking area at 9:30 so please show up early for Sign-In and Group Photo.
URL:https://www.topekagms.org/event/field-trip-midwest-concrete/
LOCATION:Midwest Concrete Materials Quarry – Lecompton\, 778 Lecompton Rd\, Lecompton\, 66073\, United States
END:VEVENT
BEGIN:VEVENT
DTSTART;TZID=America/Chicago:20241122T191500
DTEND;TZID=America/Chicago:20241122T210000
DTSTAMP:20260425T102125
CREATED:20240423T231351Z
LAST-MODIFIED:20240423T231351Z
UID:10000307-1732302900-1732309200@www.topekagms.org
SUMMARY:General Meeting
DESCRIPTION:
URL:https://www.topekagms.org/event/general-meeting-4/2024-11-22/
LOCATION:First Congregational Church\, 1701 SW Collins Ave\, Topeka\, KS\, United States
END:VEVENT
BEGIN:VEVENT
DTSTART;TZID=America/Chicago:20241119T180000
DTEND;TZID=America/Chicago:20241119T220000
DTSTAMP:20260425T102125
CREATED:20241114T004510Z
LAST-MODIFIED:20241114T004516Z
UID:10000075-1732039200-1732053600@www.topekagms.org
SUMMARY:Open Shop
DESCRIPTION:Cancelled
URL:https://www.topekagms.org/event/open-shop-7-5/
LOCATION:The Topeka Gem and Mineral Society Workshop\, 8049 Southeast 29th Street\, Tecumseh\, KS\, United States
END:VEVENT
BEGIN:VEVENT
DTSTART;TZID=America/Chicago:20241119T180000
DTEND;TZID=America/Chicago:20241119T220000
DTSTAMP:20260425T102125
CREATED:20240101T172057Z
LAST-MODIFIED:20240102T223801Z
UID:10000424-1732039200-1732053600@www.topekagms.org
SUMMARY:Open Shop
DESCRIPTION:The Topeka Gem and Mineral Society shop is open to members for lapidary equipment usage as well as wire-wrapping\, silversmithing\, and lapidary classes.
URL:https://www.topekagms.org/event/open-shop-7/2024-11-19/
LOCATION:The Topeka Gem and Mineral Society Workshop\, 8049 Southeast 29th Street\, Tecumseh\, KS\, United States
END:VEVENT
BEGIN:VEVENT
DTSTART;TZID=America/Chicago:20241112T180000
DTEND;TZID=America/Chicago:20241112T220000
DTSTAMP:20260425T102125
CREATED:20240101T172057Z
LAST-MODIFIED:20240102T223801Z
UID:10000074-1731434400-1731448800@www.topekagms.org
SUMMARY:Open Shop
DESCRIPTION:The Topeka Gem and Mineral Society shop is open to members for lapidary equipment usage as well as wire-wrapping\, silversmithing\, and lapidary classes.
URL:https://www.topekagms.org/event/open-shop-7/2024-11-12/
LOCATION:The Topeka Gem and Mineral Society Workshop\, 8049 Southeast 29th Street\, Tecumseh\, KS\, United States
END:VEVENT
BEGIN:VEVENT
DTSTART;TZID=America/Chicago:20241107T080000
DTEND;TZID=America/Chicago:20241107T170000
DTSTAMP:20260425T102125
CREATED:20240101T172056Z
LAST-MODIFIED:20240101T172115Z
UID:10000025-1730966400-1730998800@www.topekagms.org
SUMMARY:Junior Rockhounds
DESCRIPTION:Communication
URL:https://www.topekagms.org/event/junior-rockhounds-5/
LOCATION:First Congregational Church\, 1701 SW Collins Ave\, Topeka\, KS\, United States
END:VEVENT
BEGIN:VEVENT
DTSTART;TZID=America/Chicago:20241105T180000
DTEND;TZID=America/Chicago:20241105T220000
DTSTAMP:20260425T102125
CREATED:20240101T172057Z
LAST-MODIFIED:20240102T223801Z
UID:10000073-1730829600-1730844000@www.topekagms.org
SUMMARY:Open Shop
DESCRIPTION:The Topeka Gem and Mineral Society shop is open to members for lapidary equipment usage as well as wire-wrapping\, silversmithing\, and lapidary classes.
URL:https://www.topekagms.org/event/open-shop-7/2024-11-05/
LOCATION:The Topeka Gem and Mineral Society Workshop\, 8049 Southeast 29th Street\, Tecumseh\, KS\, United States
END:VEVENT
BEGIN:VEVENT
DTSTART;TZID=America/Chicago:20241029T180000
DTEND;TZID=America/Chicago:20241029T220000
DTSTAMP:20260425T102125
CREATED:20240101T172057Z
LAST-MODIFIED:20240102T223801Z
UID:10000072-1730224800-1730239200@www.topekagms.org
SUMMARY:Open Shop
DESCRIPTION:The Topeka Gem and Mineral Society shop is open to members for lapidary equipment usage as well as wire-wrapping\, silversmithing\, and lapidary classes.
URL:https://www.topekagms.org/event/open-shop-7/2024-10-29/
LOCATION:The Topeka Gem and Mineral Society Workshop\, 8049 Southeast 29th Street\, Tecumseh\, KS\, United States
END:VEVENT
BEGIN:VEVENT
DTSTART;TZID=America/Chicago:20241022T180000
DTEND;TZID=America/Chicago:20241022T220000
DTSTAMP:20260425T102125
CREATED:20240101T172057Z
LAST-MODIFIED:20240102T223801Z
UID:10000071-1729620000-1729634400@www.topekagms.org
SUMMARY:Open Shop
DESCRIPTION:The Topeka Gem and Mineral Society shop is open to members for lapidary equipment usage as well as wire-wrapping\, silversmithing\, and lapidary classes.
URL:https://www.topekagms.org/event/open-shop-7/2024-10-22/
LOCATION:The Topeka Gem and Mineral Society Workshop\, 8049 Southeast 29th Street\, Tecumseh\, KS\, United States
END:VEVENT
BEGIN:VEVENT
DTSTART;TZID=America/Chicago:20241018T191500
DTEND;TZID=America/Chicago:20241018T210000
DTSTAMP:20260425T102125
CREATED:20241013T202208Z
LAST-MODIFIED:20241013T202548Z
UID:10000306-1729278900-1729285200@www.topekagms.org
SUMMARY:General Meeting
DESCRIPTION:Join us as Will Gilliland presents on the historic volcanos of Kansas. \nNOTE: This meeting is being held a week earlier than normally scheduled due to conflicts with the RMFMS conference.
URL:https://www.topekagms.org/event/general-meeting-5/
LOCATION:First Congregational Church\, 1701 SW Collins Ave\, Topeka\, KS\, United States
END:VEVENT
BEGIN:VEVENT
DTSTART;TZID=America/Chicago:20241015T180000
DTEND;TZID=America/Chicago:20241015T220000
DTSTAMP:20260425T102125
CREATED:20240101T172057Z
LAST-MODIFIED:20240102T223801Z
UID:10000070-1729015200-1729029600@www.topekagms.org
SUMMARY:Open Shop
DESCRIPTION:The Topeka Gem and Mineral Society shop is open to members for lapidary equipment usage as well as wire-wrapping\, silversmithing\, and lapidary classes.
URL:https://www.topekagms.org/event/open-shop-7/2024-10-15/
LOCATION:The Topeka Gem and Mineral Society Workshop\, 8049 Southeast 29th Street\, Tecumseh\, KS\, United States
END:VEVENT
BEGIN:VEVENT
DTSTART;TZID=America/Chicago:20241013T080000
DTEND;TZID=America/Chicago:20241013T170000
DTSTAMP:20260425T102125
CREATED:20240920T120820Z
LAST-MODIFIED:20240920T122232Z
UID:10000386-1728806400-1728838800@www.topekagms.org
SUMMARY:Annual Show
DESCRIPTION:The Topeka Gem and Mineral Society will be hosting their annual Gem and Mineral show October 12th and 13th. Everyone is welcome to join in the fun. Saturday\, October 12th- 10am-6pmSunday\, October 13th- 10am-5pm Cash at the door.\n\nAdults- $6 (or $5 with a coupon)\nStudents (aged 13-17)- $2\nChildren 12 and under- FREE\n\nThere will be door prizes\, silent auctions\, raffle\, and for those who are rockhounds (big and small) there will be plenty of rocks to bid on. Club members will be giving demonstrations on jewelry making and cutting and polishing stones. Kids will enjoy activities like jewelry making and more. Awesome Brad will be there to engage the kids (and adults) as he shows off his collection of rocks talking about and demonstrating their scientific uses to man\, amazing properties\, and beauty. Vendors will be there to sell their rocks\, cabochons\, crystals\, beads\, artwork\, jewelry\, and more! Come join the fun!
URL:https://www.topekagms.org/event/annual-show/2024-10-13/
LOCATION:Stormont Vail Event Agricultural Hall\, 17th & Topeka\, Topeka\, United States
END:VEVENT
BEGIN:VEVENT
DTSTART;TZID=America/Chicago:20241012T100000
DTEND;TZID=America/Chicago:20241012T180000
DTSTAMP:20260425T102125
CREATED:20240920T120820Z
LAST-MODIFIED:20240920T122232Z
UID:10000384-1728727200-1728756000@www.topekagms.org
SUMMARY:Annual Show
DESCRIPTION:The Topeka Gem and Mineral Society will be hosting their annual Gem and Mineral show October 12th and 13th. Everyone is welcome to join in the fun. Saturday\, October 12th- 10am-6pmSunday\, October 13th- 10am-5pm Cash at the door.\n\nAdults- $6 (or $5 with a coupon)\nStudents (aged 13-17)- $2\nChildren 12 and under- FREE\n\nThere will be door prizes\, silent auctions\, raffle\, and for those who are rockhounds (big and small) there will be plenty of rocks to bid on. Club members will be giving demonstrations on jewelry making and cutting and polishing stones. Kids will enjoy activities like jewelry making and more. Awesome Brad will be there to engage the kids (and adults) as he shows off his collection of rocks talking about and demonstrating their scientific uses to man\, amazing properties\, and beauty. Vendors will be there to sell their rocks\, cabochons\, crystals\, beads\, artwork\, jewelry\, and more! Come join the fun!
URL:https://www.topekagms.org/event/annual-show/2024-10-12/
LOCATION:Stormont Vail Event Agricultural Hall\, 17th & Topeka\, Topeka\, United States
END:VEVENT
BEGIN:VEVENT
DTSTART;TZID=America/Chicago:20241008T180000
DTEND;TZID=America/Chicago:20241008T220000
DTSTAMP:20260425T102125
CREATED:20240101T172057Z
LAST-MODIFIED:20240102T223801Z
UID:10000069-1728410400-1728424800@www.topekagms.org
SUMMARY:Open Shop
DESCRIPTION:The Topeka Gem and Mineral Society shop is open to members for lapidary equipment usage as well as wire-wrapping\, silversmithing\, and lapidary classes.
URL:https://www.topekagms.org/event/open-shop-7/2024-10-08/
LOCATION:The Topeka Gem and Mineral Society Workshop\, 8049 Southeast 29th Street\, Tecumseh\, KS\, United States
END:VEVENT
BEGIN:VEVENT
DTSTART;TZID=America/Chicago:20241003T080000
DTEND;TZID=America/Chicago:20241003T170000
DTSTAMP:20260425T102125
CREATED:20240101T172056Z
LAST-MODIFIED:20240101T172056Z
UID:10000024-1727942400-1727974800@www.topekagms.org
SUMMARY:Junior Rockhounds
DESCRIPTION:Earth in Space
URL:https://www.topekagms.org/event/junior-rockhounds-6/
LOCATION:First Congregational Church\, 1701 SW Collins Ave\, Topeka\, KS\, United States
END:VEVENT
BEGIN:VEVENT
DTSTART;TZID=America/Chicago:20241001T180000
DTEND;TZID=America/Chicago:20241001T220000
DTSTAMP:20260425T102125
CREATED:20240101T172057Z
LAST-MODIFIED:20240102T223801Z
UID:10000068-1727805600-1727820000@www.topekagms.org
SUMMARY:Open Shop
DESCRIPTION:The Topeka Gem and Mineral Society shop is open to members for lapidary equipment usage as well as wire-wrapping\, silversmithing\, and lapidary classes.
URL:https://www.topekagms.org/event/open-shop-7/2024-10-01/
LOCATION:The Topeka Gem and Mineral Society Workshop\, 8049 Southeast 29th Street\, Tecumseh\, KS\, United States
END:VEVENT
BEGIN:VEVENT
DTSTART;TZID=America/Chicago:20240928T090000
DTEND;TZID=America/Chicago:20240928T120000
DTSTAMP:20260425T102125
CREATED:20240927T025837Z
LAST-MODIFIED:20240927T025837Z
UID:10000387-1727514000-1727524800@www.topekagms.org
SUMMARY:Mike Meier's sandbar field trip
DESCRIPTION:Meet at Tecumseh Park\, 4801 SE 2nd St\, Tecumseh at 9:00am. We will leave the park at 9:30 to convoy to Mike’s place. Please show up plenty early for sign in.
URL:https://www.topekagms.org/event/mike-meiers-sandbar-field-trip/
LOCATION:KS
END:VEVENT
BEGIN:VEVENT
DTSTART;TZID=America/Chicago:20240927T191500
DTEND;TZID=America/Chicago:20240927T210000
DTSTAMP:20260425T102125
CREATED:20240423T231351Z
LAST-MODIFIED:20240423T231351Z
UID:10000305-1727464500-1727470800@www.topekagms.org
SUMMARY:General Meeting
DESCRIPTION:
URL:https://www.topekagms.org/event/general-meeting-4/2024-09-27/
LOCATION:First Congregational Church\, 1701 SW Collins Ave\, Topeka\, KS\, United States
END:VEVENT
BEGIN:VEVENT
DTSTART;TZID=America/Chicago:20240924T180000
DTEND;TZID=America/Chicago:20240924T220000
DTSTAMP:20260425T102125
CREATED:20240101T172057Z
LAST-MODIFIED:20240102T223801Z
UID:10000067-1727200800-1727215200@www.topekagms.org
SUMMARY:Open Shop
DESCRIPTION:The Topeka Gem and Mineral Society shop is open to members for lapidary equipment usage as well as wire-wrapping\, silversmithing\, and lapidary classes.
URL:https://www.topekagms.org/event/open-shop-7/2024-09-24/
LOCATION:The Topeka Gem and Mineral Society Workshop\, 8049 Southeast 29th Street\, Tecumseh\, KS\, United States
END:VEVENT
BEGIN:VEVENT
DTSTART;TZID=America/Chicago:20240917T180000
DTEND;TZID=America/Chicago:20240917T220000
DTSTAMP:20260425T102125
CREATED:20240101T172057Z
LAST-MODIFIED:20240102T223801Z
UID:10000066-1726596000-1726610400@www.topekagms.org
SUMMARY:Open Shop
DESCRIPTION:The Topeka Gem and Mineral Society shop is open to members for lapidary equipment usage as well as wire-wrapping\, silversmithing\, and lapidary classes.
URL:https://www.topekagms.org/event/open-shop-7/2024-09-17/
LOCATION:The Topeka Gem and Mineral Society Workshop\, 8049 Southeast 29th Street\, Tecumseh\, KS\, United States
END:VEVENT
BEGIN:VEVENT
DTSTART;TZID=America/Chicago:20240910T180000
DTEND;TZID=America/Chicago:20240910T220000
DTSTAMP:20260425T102125
CREATED:20240101T172057Z
LAST-MODIFIED:20240102T223801Z
UID:10000065-1725991200-1726005600@www.topekagms.org
SUMMARY:Open Shop
DESCRIPTION:The Topeka Gem and Mineral Society shop is open to members for lapidary equipment usage as well as wire-wrapping\, silversmithing\, and lapidary classes.
URL:https://www.topekagms.org/event/open-shop-7/2024-09-10/
LOCATION:The Topeka Gem and Mineral Society Workshop\, 8049 Southeast 29th Street\, Tecumseh\, KS\, United States
END:VEVENT
BEGIN:VEVENT
DTSTART;TZID=America/Chicago:20240905T180000
DTEND;TZID=America/Chicago:20240905T190000
DTSTAMP:20260425T102125
CREATED:20240101T172056Z
LAST-MODIFIED:20240101T172056Z
UID:10000023-1725559200-1725562800@www.topekagms.org
SUMMARY:Junior Rockhounds
DESCRIPTION:Showmanship
URL:https://www.topekagms.org/event/junior-rockhounds-7/
LOCATION:First Congregational Church\, 1701 SW Collins Ave\, Topeka\, KS\, United States
END:VEVENT
BEGIN:VEVENT
DTSTART;TZID=America/Chicago:20240903T180000
DTEND;TZID=America/Chicago:20240903T220000
DTSTAMP:20260425T102125
CREATED:20240101T172057Z
LAST-MODIFIED:20240102T223801Z
UID:10000064-1725386400-1725400800@www.topekagms.org
SUMMARY:Open Shop
DESCRIPTION:The Topeka Gem and Mineral Society shop is open to members for lapidary equipment usage as well as wire-wrapping\, silversmithing\, and lapidary classes.
URL:https://www.topekagms.org/event/open-shop-7/2024-09-03/
LOCATION:The Topeka Gem and Mineral Society Workshop\, 8049 Southeast 29th Street\, Tecumseh\, KS\, United States
END:VEVENT
BEGIN:VEVENT
DTSTART;TZID=America/Chicago:20240827T180000
DTEND;TZID=America/Chicago:20240827T220000
DTSTAMP:20260425T102125
CREATED:20240101T172057Z
LAST-MODIFIED:20240102T223801Z
UID:10000063-1724781600-1724796000@www.topekagms.org
SUMMARY:Open Shop
DESCRIPTION:The Topeka Gem and Mineral Society shop is open to members for lapidary equipment usage as well as wire-wrapping\, silversmithing\, and lapidary classes.
URL:https://www.topekagms.org/event/open-shop-7/2024-08-27/
LOCATION:The Topeka Gem and Mineral Society Workshop\, 8049 Southeast 29th Street\, Tecumseh\, KS\, United States
END:VEVENT
BEGIN:VEVENT
DTSTART;TZID=America/Chicago:20240823T181500
DTEND;TZID=America/Chicago:20240823T200000
DTSTAMP:20260425T102125
CREATED:20240818T192508Z
LAST-MODIFIED:20240818T192514Z
UID:10000304-1724436900-1724443200@www.topekagms.org
SUMMARY:General Meeting
DESCRIPTION:Up Coming General Meeting Picnic \nSummer is almost over – the last picnic is Friday August 23\, please bring a dish to share. If you don’t have time to make anything\, just show up\, we always have plenty of food. We will have a short meeting before we eat and after dinner\, we will stuff grab bags to sell in the Scholarship Booth at our show in October.
URL:https://www.topekagms.org/event/general-meeting-4-2/
LOCATION:First Congregational Church\, 1701 SW Collins Ave\, Topeka\, KS\, United States
END:VEVENT
BEGIN:VEVENT
DTSTART;TZID=America/Chicago:20240820T180000
DTEND;TZID=America/Chicago:20240820T220000
DTSTAMP:20260425T102125
CREATED:20240101T172057Z
LAST-MODIFIED:20240102T223801Z
UID:10000062-1724176800-1724191200@www.topekagms.org
SUMMARY:Open Shop
DESCRIPTION:The Topeka Gem and Mineral Society shop is open to members for lapidary equipment usage as well as wire-wrapping\, silversmithing\, and lapidary classes.
URL:https://www.topekagms.org/event/open-shop-7/2024-08-20/
LOCATION:The Topeka Gem and Mineral Society Workshop\, 8049 Southeast 29th Street\, Tecumseh\, KS\, United States
END:VEVENT
BEGIN:VEVENT
DTSTART;TZID=America/Chicago:20240813T180000
DTEND;TZID=America/Chicago:20240813T220000
DTSTAMP:20260425T102125
CREATED:20240101T172057Z
LAST-MODIFIED:20240102T223801Z
UID:10000061-1723572000-1723586400@www.topekagms.org
SUMMARY:Open Shop
DESCRIPTION:The Topeka Gem and Mineral Society shop is open to members for lapidary equipment usage as well as wire-wrapping\, silversmithing\, and lapidary classes.
URL:https://www.topekagms.org/event/open-shop-7/2024-08-13/
LOCATION:The Topeka Gem and Mineral Society Workshop\, 8049 Southeast 29th Street\, Tecumseh\, KS\, United States
END:VEVENT
END:VCALENDAR