BEGIN:VCALENDAR
VERSION:2.0
PRODID:-//The Topeka Gem and Mineral Society - ECPv6.15.20//NONSGML v1.0//EN
CALSCALE:GREGORIAN
METHOD:PUBLISH
X-WR-CALNAME:The Topeka Gem and Mineral Society
X-ORIGINAL-URL:https://www.topekagms.org
X-WR-CALDESC:Events for The Topeka Gem and Mineral Society
REFRESH-INTERVAL;VALUE=DURATION:PT1H
X-Robots-Tag:noindex
X-PUBLISHED-TTL:PT1H
BEGIN:VTIMEZONE
TZID:America/Chicago
BEGIN:DAYLIGHT
TZOFFSETFROM:-0600
TZOFFSETTO:-0500
TZNAME:CDT
DTSTART:20280312T080000
END:DAYLIGHT
BEGIN:STANDARD
TZOFFSETFROM:-0500
TZOFFSETTO:-0600
TZNAME:CST
DTSTART:20281105T070000
END:STANDARD
BEGIN:DAYLIGHT
TZOFFSETFROM:-0600
TZOFFSETTO:-0500
TZNAME:CDT
DTSTART:20290311T080000
END:DAYLIGHT
BEGIN:STANDARD
TZOFFSETFROM:-0500
TZOFFSETTO:-0600
TZNAME:CST
DTSTART:20291104T070000
END:STANDARD
BEGIN:DAYLIGHT
TZOFFSETFROM:-0600
TZOFFSETTO:-0500
TZNAME:CDT
DTSTART:20300310T080000
END:DAYLIGHT
BEGIN:STANDARD
TZOFFSETFROM:-0500
TZOFFSETTO:-0600
TZNAME:CST
DTSTART:20301103T070000
END:STANDARD
END:VTIMEZONE
BEGIN:VEVENT
DTSTART;TZID=America/Chicago:20290102T180000
DTEND;TZID=America/Chicago:20290102T220000
DTSTAMP:20260425T080020
CREATED:20250301T020411Z
LAST-MODIFIED:20250301T020415Z
UID:10000290-1862071200-1862085600@www.topekagms.org
SUMMARY:Open Shop
DESCRIPTION:The Topeka Gem and Mineral Society shop is open to members for lapidary equipment usage as well as wire-wrapping\, silversmithing\, and lapidary classes.
URL:https://www.topekagms.org/event/open-shop-7-7-2/2029-01-02/
LOCATION:The Topeka Gem and Mineral Society Workshop\, 8049 Southeast 29th Street\, Tecumseh\, KS\, United States
END:VEVENT
BEGIN:VEVENT
DTSTART;TZID=America/Chicago:20290104T183000
DTEND;TZID=America/Chicago:20290104T200000
DTSTAMP:20260425T080020
CREATED:20250908T010555Z
LAST-MODIFIED:20260107T033441Z
UID:10000665-1862245800-1862251200@www.topekagms.org
SUMMARY:Junior Rockhounds
DESCRIPTION:Doors open at 6:00 class starts at 6:30.
URL:https://www.topekagms.org/event/junior-rockhounds-17/2029-01-04/
LOCATION:First Congregational Church\, 1701 SW Collins Ave\, Topeka\, KS\, United States
END:VEVENT
BEGIN:VEVENT
DTSTART;TZID=America/Chicago:20290109T180000
DTEND;TZID=America/Chicago:20290109T220000
DTSTAMP:20260425T080020
CREATED:20250301T020411Z
LAST-MODIFIED:20250301T020415Z
UID:10000364-1862676000-1862690400@www.topekagms.org
SUMMARY:Open Shop
DESCRIPTION:The Topeka Gem and Mineral Society shop is open to members for lapidary equipment usage as well as wire-wrapping\, silversmithing\, and lapidary classes.
URL:https://www.topekagms.org/event/open-shop-7-7-2/2029-01-09/
LOCATION:The Topeka Gem and Mineral Society Workshop\, 8049 Southeast 29th Street\, Tecumseh\, KS\, United States
END:VEVENT
BEGIN:VEVENT
DTSTART;TZID=America/Chicago:20290116T180000
DTEND;TZID=America/Chicago:20290116T220000
DTSTAMP:20260425T080020
CREATED:20250301T020411Z
LAST-MODIFIED:20250301T020415Z
UID:10000365-1863280800-1863295200@www.topekagms.org
SUMMARY:Open Shop
DESCRIPTION:The Topeka Gem and Mineral Society shop is open to members for lapidary equipment usage as well as wire-wrapping\, silversmithing\, and lapidary classes.
URL:https://www.topekagms.org/event/open-shop-7-7-2/2029-01-16/
LOCATION:The Topeka Gem and Mineral Society Workshop\, 8049 Southeast 29th Street\, Tecumseh\, KS\, United States
END:VEVENT
BEGIN:VEVENT
DTSTART;TZID=America/Chicago:20290123T180000
DTEND;TZID=America/Chicago:20290123T220000
DTSTAMP:20260425T080020
CREATED:20250301T020411Z
LAST-MODIFIED:20250301T020415Z
UID:10000366-1863885600-1863900000@www.topekagms.org
SUMMARY:Open Shop
DESCRIPTION:The Topeka Gem and Mineral Society shop is open to members for lapidary equipment usage as well as wire-wrapping\, silversmithing\, and lapidary classes.
URL:https://www.topekagms.org/event/open-shop-7-7-2/2029-01-23/
LOCATION:The Topeka Gem and Mineral Society Workshop\, 8049 Southeast 29th Street\, Tecumseh\, KS\, United States
END:VEVENT
BEGIN:VEVENT
DTSTART;TZID=America/Chicago:20290126T191500
DTEND;TZID=America/Chicago:20290126T210000
DTSTAMP:20260425T080020
CREATED:20240423T231351Z
LAST-MODIFIED:20240423T231351Z
UID:10000357-1864149300-1864155600@www.topekagms.org
SUMMARY:General Meeting
DESCRIPTION:
URL:https://www.topekagms.org/event/general-meeting-4/2029-01-26/
LOCATION:First Congregational Church\, 1701 SW Collins Ave\, Topeka\, KS\, United States
END:VEVENT
BEGIN:VEVENT
DTSTART;TZID=America/Chicago:20290130T180000
DTEND;TZID=America/Chicago:20290130T220000
DTSTAMP:20260425T080020
CREATED:20250301T020411Z
LAST-MODIFIED:20250301T020415Z
UID:10000367-1864490400-1864504800@www.topekagms.org
SUMMARY:Open Shop
DESCRIPTION:The Topeka Gem and Mineral Society shop is open to members for lapidary equipment usage as well as wire-wrapping\, silversmithing\, and lapidary classes.
URL:https://www.topekagms.org/event/open-shop-7-7-2/2029-01-30/
LOCATION:The Topeka Gem and Mineral Society Workshop\, 8049 Southeast 29th Street\, Tecumseh\, KS\, United States
END:VEVENT
BEGIN:VEVENT
DTSTART;TZID=America/Chicago:20290201T183000
DTEND;TZID=America/Chicago:20290201T200000
DTSTAMP:20260425T080020
CREATED:20250908T010555Z
LAST-MODIFIED:20260107T033441Z
UID:10000666-1864665000-1864670400@www.topekagms.org
SUMMARY:Junior Rockhounds
DESCRIPTION:Doors open at 6:00 class starts at 6:30.
URL:https://www.topekagms.org/event/junior-rockhounds-17/2029-02-01/
LOCATION:First Congregational Church\, 1701 SW Collins Ave\, Topeka\, KS\, United States
END:VEVENT
BEGIN:VEVENT
DTSTART;TZID=America/Chicago:20290206T180000
DTEND;TZID=America/Chicago:20290206T220000
DTSTAMP:20260425T080020
CREATED:20250301T020411Z
LAST-MODIFIED:20250301T020415Z
UID:10000368-1865095200-1865109600@www.topekagms.org
SUMMARY:Open Shop
DESCRIPTION:The Topeka Gem and Mineral Society shop is open to members for lapidary equipment usage as well as wire-wrapping\, silversmithing\, and lapidary classes.
URL:https://www.topekagms.org/event/open-shop-7-7-2/2029-02-06/
LOCATION:The Topeka Gem and Mineral Society Workshop\, 8049 Southeast 29th Street\, Tecumseh\, KS\, United States
END:VEVENT
BEGIN:VEVENT
DTSTART;TZID=America/Chicago:20290213T180000
DTEND;TZID=America/Chicago:20290213T220000
DTSTAMP:20260425T080020
CREATED:20250301T020411Z
LAST-MODIFIED:20250301T020415Z
UID:10000369-1865700000-1865714400@www.topekagms.org
SUMMARY:Open Shop
DESCRIPTION:The Topeka Gem and Mineral Society shop is open to members for lapidary equipment usage as well as wire-wrapping\, silversmithing\, and lapidary classes.
URL:https://www.topekagms.org/event/open-shop-7-7-2/2029-02-13/
LOCATION:The Topeka Gem and Mineral Society Workshop\, 8049 Southeast 29th Street\, Tecumseh\, KS\, United States
END:VEVENT
BEGIN:VEVENT
DTSTART;TZID=America/Chicago:20290220T180000
DTEND;TZID=America/Chicago:20290220T220000
DTSTAMP:20260425T080020
CREATED:20250301T020411Z
LAST-MODIFIED:20250301T020415Z
UID:10000370-1866304800-1866319200@www.topekagms.org
SUMMARY:Open Shop
DESCRIPTION:The Topeka Gem and Mineral Society shop is open to members for lapidary equipment usage as well as wire-wrapping\, silversmithing\, and lapidary classes.
URL:https://www.topekagms.org/event/open-shop-7-7-2/2029-02-20/
LOCATION:The Topeka Gem and Mineral Society Workshop\, 8049 Southeast 29th Street\, Tecumseh\, KS\, United States
END:VEVENT
BEGIN:VEVENT
DTSTART;TZID=America/Chicago:20290223T191500
DTEND;TZID=America/Chicago:20290223T210000
DTSTAMP:20260425T080020
CREATED:20240423T231351Z
LAST-MODIFIED:20240423T231351Z
UID:10000358-1866568500-1866574800@www.topekagms.org
SUMMARY:General Meeting
DESCRIPTION:
URL:https://www.topekagms.org/event/general-meeting-4/2029-02-23/
LOCATION:First Congregational Church\, 1701 SW Collins Ave\, Topeka\, KS\, United States
END:VEVENT
BEGIN:VEVENT
DTSTART;TZID=America/Chicago:20290227T180000
DTEND;TZID=America/Chicago:20290227T220000
DTSTAMP:20260425T080020
CREATED:20250301T020411Z
LAST-MODIFIED:20250301T020415Z
UID:10000371-1866909600-1866924000@www.topekagms.org
SUMMARY:Open Shop
DESCRIPTION:The Topeka Gem and Mineral Society shop is open to members for lapidary equipment usage as well as wire-wrapping\, silversmithing\, and lapidary classes.
URL:https://www.topekagms.org/event/open-shop-7-7-2/2029-02-27/
LOCATION:The Topeka Gem and Mineral Society Workshop\, 8049 Southeast 29th Street\, Tecumseh\, KS\, United States
END:VEVENT
BEGIN:VEVENT
DTSTART;TZID=America/Chicago:20290301T183000
DTEND;TZID=America/Chicago:20290301T200000
DTSTAMP:20260425T080020
CREATED:20250908T010555Z
LAST-MODIFIED:20260107T033441Z
UID:10000667-1867084200-1867089600@www.topekagms.org
SUMMARY:Junior Rockhounds
DESCRIPTION:Doors open at 6:00 class starts at 6:30.
URL:https://www.topekagms.org/event/junior-rockhounds-17/2029-03-01/
LOCATION:First Congregational Church\, 1701 SW Collins Ave\, Topeka\, KS\, United States
END:VEVENT
BEGIN:VEVENT
DTSTART;TZID=America/Chicago:20290306T180000
DTEND;TZID=America/Chicago:20290306T220000
DTSTAMP:20260425T080020
CREATED:20250301T020411Z
LAST-MODIFIED:20250301T020415Z
UID:10000372-1867514400-1867528800@www.topekagms.org
SUMMARY:Open Shop
DESCRIPTION:The Topeka Gem and Mineral Society shop is open to members for lapidary equipment usage as well as wire-wrapping\, silversmithing\, and lapidary classes.
URL:https://www.topekagms.org/event/open-shop-7-7-2/2029-03-06/
LOCATION:The Topeka Gem and Mineral Society Workshop\, 8049 Southeast 29th Street\, Tecumseh\, KS\, United States
END:VEVENT
BEGIN:VEVENT
DTSTART;TZID=America/Chicago:20290313T180000
DTEND;TZID=America/Chicago:20290313T220000
DTSTAMP:20260425T080020
CREATED:20250301T020411Z
LAST-MODIFIED:20250301T020415Z
UID:10000373-1868119200-1868133600@www.topekagms.org
SUMMARY:Open Shop
DESCRIPTION:The Topeka Gem and Mineral Society shop is open to members for lapidary equipment usage as well as wire-wrapping\, silversmithing\, and lapidary classes.
URL:https://www.topekagms.org/event/open-shop-7-7-2/2029-03-13/
LOCATION:The Topeka Gem and Mineral Society Workshop\, 8049 Southeast 29th Street\, Tecumseh\, KS\, United States
END:VEVENT
BEGIN:VEVENT
DTSTART;TZID=America/Chicago:20290320T180000
DTEND;TZID=America/Chicago:20290320T220000
DTSTAMP:20260425T080020
CREATED:20250301T020411Z
LAST-MODIFIED:20250301T020415Z
UID:10000374-1868724000-1868738400@www.topekagms.org
SUMMARY:Open Shop
DESCRIPTION:The Topeka Gem and Mineral Society shop is open to members for lapidary equipment usage as well as wire-wrapping\, silversmithing\, and lapidary classes.
URL:https://www.topekagms.org/event/open-shop-7-7-2/2029-03-20/
LOCATION:The Topeka Gem and Mineral Society Workshop\, 8049 Southeast 29th Street\, Tecumseh\, KS\, United States
END:VEVENT
BEGIN:VEVENT
DTSTART;TZID=America/Chicago:20290323T191500
DTEND;TZID=America/Chicago:20290323T210000
DTSTAMP:20260425T080020
CREATED:20240423T231351Z
LAST-MODIFIED:20240423T231351Z
UID:10000359-1868987700-1868994000@www.topekagms.org
SUMMARY:General Meeting
DESCRIPTION:
URL:https://www.topekagms.org/event/general-meeting-4/2029-03-23/
LOCATION:First Congregational Church\, 1701 SW Collins Ave\, Topeka\, KS\, United States
END:VEVENT
BEGIN:VEVENT
DTSTART;TZID=America/Chicago:20290327T180000
DTEND;TZID=America/Chicago:20290327T220000
DTSTAMP:20260425T080020
CREATED:20250301T020411Z
LAST-MODIFIED:20250301T020415Z
UID:10000375-1869328800-1869343200@www.topekagms.org
SUMMARY:Open Shop
DESCRIPTION:The Topeka Gem and Mineral Society shop is open to members for lapidary equipment usage as well as wire-wrapping\, silversmithing\, and lapidary classes.
URL:https://www.topekagms.org/event/open-shop-7-7-2/2029-03-27/
LOCATION:The Topeka Gem and Mineral Society Workshop\, 8049 Southeast 29th Street\, Tecumseh\, KS\, United States
END:VEVENT
BEGIN:VEVENT
DTSTART;TZID=America/Chicago:20290403T180000
DTEND;TZID=America/Chicago:20290403T220000
DTSTAMP:20260425T080020
CREATED:20250301T020411Z
LAST-MODIFIED:20250301T020415Z
UID:10000376-1869933600-1869948000@www.topekagms.org
SUMMARY:Open Shop
DESCRIPTION:The Topeka Gem and Mineral Society shop is open to members for lapidary equipment usage as well as wire-wrapping\, silversmithing\, and lapidary classes.
URL:https://www.topekagms.org/event/open-shop-7-7-2/2029-04-03/
LOCATION:The Topeka Gem and Mineral Society Workshop\, 8049 Southeast 29th Street\, Tecumseh\, KS\, United States
END:VEVENT
BEGIN:VEVENT
DTSTART;TZID=America/Chicago:20290405T183000
DTEND;TZID=America/Chicago:20290405T200000
DTSTAMP:20260425T080020
CREATED:20250908T010555Z
LAST-MODIFIED:20260107T033441Z
UID:10000668-1870108200-1870113600@www.topekagms.org
SUMMARY:Junior Rockhounds
DESCRIPTION:Doors open at 6:00 class starts at 6:30.
URL:https://www.topekagms.org/event/junior-rockhounds-17/2029-04-05/
LOCATION:First Congregational Church\, 1701 SW Collins Ave\, Topeka\, KS\, United States
END:VEVENT
BEGIN:VEVENT
DTSTART;TZID=America/Chicago:20290410T180000
DTEND;TZID=America/Chicago:20290410T220000
DTSTAMP:20260425T080020
CREATED:20250301T020411Z
LAST-MODIFIED:20250301T020415Z
UID:10000377-1870538400-1870552800@www.topekagms.org
SUMMARY:Open Shop
DESCRIPTION:The Topeka Gem and Mineral Society shop is open to members for lapidary equipment usage as well as wire-wrapping\, silversmithing\, and lapidary classes.
URL:https://www.topekagms.org/event/open-shop-7-7-2/2029-04-10/
LOCATION:The Topeka Gem and Mineral Society Workshop\, 8049 Southeast 29th Street\, Tecumseh\, KS\, United States
END:VEVENT
BEGIN:VEVENT
DTSTART;TZID=America/Chicago:20290417T180000
DTEND;TZID=America/Chicago:20290417T220000
DTSTAMP:20260425T080020
CREATED:20250301T020411Z
LAST-MODIFIED:20250301T020415Z
UID:10000378-1871143200-1871157600@www.topekagms.org
SUMMARY:Open Shop
DESCRIPTION:The Topeka Gem and Mineral Society shop is open to members for lapidary equipment usage as well as wire-wrapping\, silversmithing\, and lapidary classes.
URL:https://www.topekagms.org/event/open-shop-7-7-2/2029-04-17/
LOCATION:The Topeka Gem and Mineral Society Workshop\, 8049 Southeast 29th Street\, Tecumseh\, KS\, United States
END:VEVENT
BEGIN:VEVENT
DTSTART;TZID=America/Chicago:20290424T180000
DTEND;TZID=America/Chicago:20290424T220000
DTSTAMP:20260425T080020
CREATED:20250301T020411Z
LAST-MODIFIED:20250301T020415Z
UID:10000379-1871748000-1871762400@www.topekagms.org
SUMMARY:Open Shop
DESCRIPTION:The Topeka Gem and Mineral Society shop is open to members for lapidary equipment usage as well as wire-wrapping\, silversmithing\, and lapidary classes.
URL:https://www.topekagms.org/event/open-shop-7-7-2/2029-04-24/
LOCATION:The Topeka Gem and Mineral Society Workshop\, 8049 Southeast 29th Street\, Tecumseh\, KS\, United States
END:VEVENT
BEGIN:VEVENT
DTSTART;TZID=America/Chicago:20290501T180000
DTEND;TZID=America/Chicago:20290501T220000
DTSTAMP:20260425T080020
CREATED:20250301T020411Z
LAST-MODIFIED:20250301T020415Z
UID:10000380-1872352800-1872367200@www.topekagms.org
SUMMARY:Open Shop
DESCRIPTION:The Topeka Gem and Mineral Society shop is open to members for lapidary equipment usage as well as wire-wrapping\, silversmithing\, and lapidary classes.
URL:https://www.topekagms.org/event/open-shop-7-7-2/2029-05-01/
LOCATION:The Topeka Gem and Mineral Society Workshop\, 8049 Southeast 29th Street\, Tecumseh\, KS\, United States
END:VEVENT
BEGIN:VEVENT
DTSTART;TZID=America/Chicago:20290503T183000
DTEND;TZID=America/Chicago:20290503T200000
DTSTAMP:20260425T080020
CREATED:20250908T010555Z
LAST-MODIFIED:20260107T033441Z
UID:10000669-1872527400-1872532800@www.topekagms.org
SUMMARY:Junior Rockhounds
DESCRIPTION:Doors open at 6:00 class starts at 6:30.
URL:https://www.topekagms.org/event/junior-rockhounds-17/2029-05-03/
LOCATION:First Congregational Church\, 1701 SW Collins Ave\, Topeka\, KS\, United States
END:VEVENT
BEGIN:VEVENT
DTSTART;TZID=America/Chicago:20290508T180000
DTEND;TZID=America/Chicago:20290508T220000
DTSTAMP:20260425T080020
CREATED:20250301T020411Z
LAST-MODIFIED:20250301T020415Z
UID:10000381-1872957600-1872972000@www.topekagms.org
SUMMARY:Open Shop
DESCRIPTION:The Topeka Gem and Mineral Society shop is open to members for lapidary equipment usage as well as wire-wrapping\, silversmithing\, and lapidary classes.
URL:https://www.topekagms.org/event/open-shop-7-7-2/2029-05-08/
LOCATION:The Topeka Gem and Mineral Society Workshop\, 8049 Southeast 29th Street\, Tecumseh\, KS\, United States
END:VEVENT
BEGIN:VEVENT
DTSTART;TZID=America/Chicago:20290515T180000
DTEND;TZID=America/Chicago:20290515T220000
DTSTAMP:20260425T080020
CREATED:20250301T020411Z
LAST-MODIFIED:20250301T020415Z
UID:10000382-1873562400-1873576800@www.topekagms.org
SUMMARY:Open Shop
DESCRIPTION:The Topeka Gem and Mineral Society shop is open to members for lapidary equipment usage as well as wire-wrapping\, silversmithing\, and lapidary classes.
URL:https://www.topekagms.org/event/open-shop-7-7-2/2029-05-15/
LOCATION:The Topeka Gem and Mineral Society Workshop\, 8049 Southeast 29th Street\, Tecumseh\, KS\, United States
END:VEVENT
BEGIN:VEVENT
DTSTART;TZID=America/Chicago:20290522T180000
DTEND;TZID=America/Chicago:20290522T220000
DTSTAMP:20260425T080020
CREATED:20250301T020411Z
LAST-MODIFIED:20250301T020415Z
UID:10000383-1874167200-1874181600@www.topekagms.org
SUMMARY:Open Shop
DESCRIPTION:The Topeka Gem and Mineral Society shop is open to members for lapidary equipment usage as well as wire-wrapping\, silversmithing\, and lapidary classes.
URL:https://www.topekagms.org/event/open-shop-7-7-2/2029-05-22/
LOCATION:The Topeka Gem and Mineral Society Workshop\, 8049 Southeast 29th Street\, Tecumseh\, KS\, United States
END:VEVENT
BEGIN:VEVENT
DTSTART;TZID=America/Chicago:20290529T180000
DTEND;TZID=America/Chicago:20290529T220000
DTSTAMP:20260425T080020
CREATED:20250301T020411Z
LAST-MODIFIED:20250301T020415Z
UID:10000390-1874772000-1874786400@www.topekagms.org
SUMMARY:Open Shop
DESCRIPTION:The Topeka Gem and Mineral Society shop is open to members for lapidary equipment usage as well as wire-wrapping\, silversmithing\, and lapidary classes.
URL:https://www.topekagms.org/event/open-shop-7-7-2/2029-05-29/
LOCATION:The Topeka Gem and Mineral Society Workshop\, 8049 Southeast 29th Street\, Tecumseh\, KS\, United States
END:VEVENT
END:VCALENDAR